BEGIN:VCALENDAR
VERSION:2.0
PRODID:-//Johnston Lions Club and Foundation - ECPv6.15.20//NONSGML v1.0//EN
CALSCALE:GREGORIAN
METHOD:PUBLISH
X-WR-CALNAME:Johnston Lions Club and Foundation
X-ORIGINAL-URL:https://johnstonlionsclub.com
X-WR-CALDESC:Events for Johnston Lions Club and Foundation
REFRESH-INTERVAL;VALUE=DURATION:PT1H
X-Robots-Tag:noindex
X-PUBLISHED-TTL:PT1H
BEGIN:VTIMEZONE
TZID:America/Chicago
BEGIN:DAYLIGHT
TZOFFSETFROM:-0600
TZOFFSETTO:-0500
TZNAME:CDT
DTSTART:20250309T080000
END:DAYLIGHT
BEGIN:STANDARD
TZOFFSETFROM:-0500
TZOFFSETTO:-0600
TZNAME:CST
DTSTART:20251102T070000
END:STANDARD
BEGIN:DAYLIGHT
TZOFFSETFROM:-0600
TZOFFSETTO:-0500
TZNAME:CDT
DTSTART:20260308T080000
END:DAYLIGHT
BEGIN:STANDARD
TZOFFSETFROM:-0500
TZOFFSETTO:-0600
TZNAME:CST
DTSTART:20261101T070000
END:STANDARD
BEGIN:DAYLIGHT
TZOFFSETFROM:-0600
TZOFFSETTO:-0500
TZNAME:CDT
DTSTART:20270314T080000
END:DAYLIGHT
BEGIN:STANDARD
TZOFFSETFROM:-0500
TZOFFSETTO:-0600
TZNAME:CST
DTSTART:20271107T070000
END:STANDARD
END:VTIMEZONE
BEGIN:VEVENT
DTSTART;TZID=America/Chicago:20261004T080000
DTEND;TZID=America/Chicago:20261004T133000
DTSTAMP:20260424T022419
CREATED:20250805T194944Z
LAST-MODIFIED:20250805T194944Z
UID:9096-1791100800-1791120600@johnstonlionsclub.com
SUMMARY:Trinity Presbyterian Reformed Church
DESCRIPTION:
URL:https://johnstonlionsclub.com/event/trinity-presbyterian-reformed-church-27/
CATEGORIES:Church 1st Sundays
END:VEVENT
BEGIN:VEVENT
DTSTART;TZID=America/Chicago:20261011T080000
DTEND;TZID=America/Chicago:20261011T153000
DTSTAMP:20260424T022419
CREATED:20250805T195245Z
LAST-MODIFIED:20250805T195245Z
UID:9103-1791705600-1791732600@johnstonlionsclub.com
SUMMARY:Trinity Presbyterian Reformed Church
DESCRIPTION:
URL:https://johnstonlionsclub.com/event/trinity-presbyterian-reformed-church-30/
CATEGORIES:Church 2nd
END:VEVENT
BEGIN:VEVENT
DTSTART;TZID=America/Chicago:20261012T180000
DTEND;TZID=America/Chicago:20261012T203000
DTSTAMP:20260424T022419
CREATED:20260115T155819Z
LAST-MODIFIED:20260115T155819Z
UID:9346-1791828000-1791837000@johnstonlionsclub.com
SUMMARY:Lions Club Dinner Meeting
DESCRIPTION:
URL:https://johnstonlionsclub.com/event/lions-club-dinner-meeting-10/
CATEGORIES:Dinner Meetings
END:VEVENT
BEGIN:VEVENT
DTSTART;TZID=America/Chicago:20261015T180000
DTEND;TZID=America/Chicago:20261015T203000
DTSTAMP:20260424T022419
CREATED:20260320T150531Z
LAST-MODIFIED:20260320T150531Z
UID:9474-1792087200-1792096200@johnstonlionsclub.com
SUMMARY:American Legion
DESCRIPTION:
URL:https://johnstonlionsclub.com/event/american-legion-9/
CATEGORIES:Building Rental
END:VEVENT
BEGIN:VEVENT
DTSTART;TZID=America/Chicago:20261017T080000
DTEND;TZID=America/Chicago:20261017T140000
DTSTAMP:20260424T022419
CREATED:20251126T202130Z
LAST-MODIFIED:20251126T202130Z
UID:9289-1792224000-1792245600@johnstonlionsclub.com
SUMMARY:Hawkeye Knife Club
DESCRIPTION:
URL:https://johnstonlionsclub.com/event/hawkeye-knife-club-17/
CATEGORIES:Building Rental
END:VEVENT
BEGIN:VEVENT
DTSTART;TZID=America/Chicago:20261018T080000
DTEND;TZID=America/Chicago:20261018T133000
DTSTAMP:20260424T022419
CREATED:20250805T200751Z
LAST-MODIFIED:20250805T200751Z
UID:9143-1792310400-1792330200@johnstonlionsclub.com
SUMMARY:Trinity Presbyterian Reformed Church
DESCRIPTION:
URL:https://johnstonlionsclub.com/event/trinity-presbyterian-reformed-church-49/
CATEGORIES:Church 3rd
END:VEVENT
BEGIN:VEVENT
DTSTART;TZID=America/Chicago:20261025T080000
DTEND;TZID=America/Chicago:20261025T153000
DTSTAMP:20260424T022419
CREATED:20250805T202839Z
LAST-MODIFIED:20250805T202839Z
UID:9155-1792915200-1792942200@johnstonlionsclub.com
SUMMARY:Trinity Presbyterian Reformed Church
DESCRIPTION:
URL:https://johnstonlionsclub.com/event/trinity-presbyterian-reformed-church-54/
CATEGORIES:Church 4th
END:VEVENT
BEGIN:VEVENT
DTSTART;TZID=America/Chicago:20261026T180000
DTEND;TZID=America/Chicago:20261026T203000
DTSTAMP:20260424T022419
CREATED:20260115T161003Z
LAST-MODIFIED:20260115T161003Z
UID:9373-1793037600-1793046600@johnstonlionsclub.com
SUMMARY:Lions Club Board Meeting
DESCRIPTION:
URL:https://johnstonlionsclub.com/event/lions-club-board-meeting-27/
CATEGORIES:Board Meetings
END:VEVENT
END:VCALENDAR