BEGIN:VCALENDAR
VERSION:2.0
PRODID:-//Johnston Lions Club and Foundation - ECPv6.15.20//NONSGML v1.0//EN
CALSCALE:GREGORIAN
METHOD:PUBLISH
X-ORIGINAL-URL:https://johnstonlionsclub.com
X-WR-CALDESC:Events for Johnston Lions Club and Foundation
REFRESH-INTERVAL;VALUE=DURATION:PT1H
X-Robots-Tag:noindex
X-PUBLISHED-TTL:PT1H
BEGIN:VTIMEZONE
TZID:America/Chicago
BEGIN:DAYLIGHT
TZOFFSETFROM:-0600
TZOFFSETTO:-0500
TZNAME:CDT
DTSTART:20250309T080000
END:DAYLIGHT
BEGIN:STANDARD
TZOFFSETFROM:-0500
TZOFFSETTO:-0600
TZNAME:CST
DTSTART:20251102T070000
END:STANDARD
BEGIN:DAYLIGHT
TZOFFSETFROM:-0600
TZOFFSETTO:-0500
TZNAME:CDT
DTSTART:20260308T080000
END:DAYLIGHT
BEGIN:STANDARD
TZOFFSETFROM:-0500
TZOFFSETTO:-0600
TZNAME:CST
DTSTART:20261101T070000
END:STANDARD
BEGIN:DAYLIGHT
TZOFFSETFROM:-0600
TZOFFSETTO:-0500
TZNAME:CDT
DTSTART:20270314T080000
END:DAYLIGHT
BEGIN:STANDARD
TZOFFSETFROM:-0500
TZOFFSETTO:-0600
TZNAME:CST
DTSTART:20271107T070000
END:STANDARD
END:VTIMEZONE
BEGIN:VEVENT
DTSTART;VALUE=DATE:20260904
DTEND;VALUE=DATE:20260906
DTSTAMP:20260424T010517
CREATED:20260117T145758Z
LAST-MODIFIED:20260117T145758Z
UID:9387-1788480000-1788652799@johnstonlionsclub.com
SUMMARY:Jennice Wilondja Wedding
DESCRIPTION:
URL:https://johnstonlionsclub.com/event/jennice-wilondja-wedding/
CATEGORIES:Building Rental
END:VEVENT
BEGIN:VEVENT
DTSTART;TZID=America/Chicago:20260906T080000
DTEND;TZID=America/Chicago:20260906T133000
DTSTAMP:20260424T010517
CREATED:20250805T194710Z
LAST-MODIFIED:20250805T194710Z
UID:9090-1788681600-1788701400@johnstonlionsclub.com
SUMMARY:Trinity Presbyterian Reformed Church
DESCRIPTION:
URL:https://johnstonlionsclub.com/event/trinity-presbyterian-reformed-church-24/
CATEGORIES:Church 1st Sundays
END:VEVENT
BEGIN:VEVENT
DTSTART;TZID=America/Chicago:20260913T080000
DTEND;TZID=America/Chicago:20260913T153000
DTSTAMP:20260424T010517
CREATED:20250805T195324Z
LAST-MODIFIED:20250805T195324Z
UID:9105-1789286400-1789313400@johnstonlionsclub.com
SUMMARY:Trinity Presbyterian Reformed Church
DESCRIPTION:
URL:https://johnstonlionsclub.com/event/trinity-presbyterian-reformed-church-31/
CATEGORIES:Church 2nd
END:VEVENT
BEGIN:VEVENT
DTSTART;TZID=America/Chicago:20260914T180000
DTEND;TZID=America/Chicago:20260914T203000
DTSTAMP:20260424T010517
CREATED:20260115T155746Z
LAST-MODIFIED:20260115T155746Z
UID:9344-1789408800-1789417800@johnstonlionsclub.com
SUMMARY:Lions Club Dinner Meeting
DESCRIPTION:
URL:https://johnstonlionsclub.com/event/lions-club-dinner-meeting-9/
CATEGORIES:Dinner Meetings
END:VEVENT
BEGIN:VEVENT
DTSTART;TZID=America/Chicago:20260917T180000
DTEND;TZID=America/Chicago:20260917T203000
DTSTAMP:20260424T010517
CREATED:20260320T150453Z
LAST-MODIFIED:20260320T150453Z
UID:9472-1789668000-1789677000@johnstonlionsclub.com
SUMMARY:American Legion
DESCRIPTION:
URL:https://johnstonlionsclub.com/event/american-legion-8/
CATEGORIES:Building Rental
END:VEVENT
BEGIN:VEVENT
DTSTART;TZID=America/Chicago:20260920T080000
DTEND;TZID=America/Chicago:20260920T133000
DTSTAMP:20260424T010517
CREATED:20250805T200709Z
LAST-MODIFIED:20250805T200709Z
UID:9141-1789891200-1789911000@johnstonlionsclub.com
SUMMARY:Trinity Presbyterian Reformed Church
DESCRIPTION:
URL:https://johnstonlionsclub.com/event/trinity-presbyterian-reformed-church-48/
CATEGORIES:Church 3rd
END:VEVENT
BEGIN:VEVENT
DTSTART;TZID=America/Chicago:20260925T170000
DTEND;TZID=America/Chicago:20260926T235900
DTSTAMP:20260424T010517
CREATED:20260214T171450Z
LAST-MODIFIED:20260214T171511Z
UID:9421-1790355600-1790467140@johnstonlionsclub.com
SUMMARY:Southwick Wedding Reception
DESCRIPTION:
URL:https://johnstonlionsclub.com/event/wedding-reception-3/
CATEGORIES:Building Rental
END:VEVENT
BEGIN:VEVENT
DTSTART;TZID=America/Chicago:20260927T080000
DTEND;TZID=America/Chicago:20260927T153000
DTSTAMP:20260424T010517
CREATED:20250805T202923Z
LAST-MODIFIED:20250805T202923Z
UID:9157-1790496000-1790523000@johnstonlionsclub.com
SUMMARY:Trinity Presbyterian Reformed Church
DESCRIPTION:
URL:https://johnstonlionsclub.com/event/trinity-presbyterian-reformed-church-55/
CATEGORIES:Church 4th
END:VEVENT
BEGIN:VEVENT
DTSTART;TZID=America/Chicago:20260928T180000
DTEND;TZID=America/Chicago:20260928T203000
DTSTAMP:20260424T010517
CREATED:20260115T160929Z
LAST-MODIFIED:20260115T160929Z
UID:9371-1790618400-1790627400@johnstonlionsclub.com
SUMMARY:Lions Club Board Meeting
DESCRIPTION:
URL:https://johnstonlionsclub.com/event/lions-club-board-meeting-26/
CATEGORIES:Board Meetings
END:VEVENT
END:VCALENDAR