BEGIN:VCALENDAR
VERSION:2.0
PRODID:-//Johnston Lions Club and Foundation - ECPv6.15.20//NONSGML v1.0//EN
CALSCALE:GREGORIAN
METHOD:PUBLISH
X-ORIGINAL-URL:https://johnstonlionsclub.com
X-WR-CALDESC:Events for Johnston Lions Club and Foundation
REFRESH-INTERVAL;VALUE=DURATION:PT1H
X-Robots-Tag:noindex
X-PUBLISHED-TTL:PT1H
BEGIN:VTIMEZONE
TZID:America/Chicago
BEGIN:DAYLIGHT
TZOFFSETFROM:-0600
TZOFFSETTO:-0500
TZNAME:CDT
DTSTART:20250309T080000
END:DAYLIGHT
BEGIN:STANDARD
TZOFFSETFROM:-0500
TZOFFSETTO:-0600
TZNAME:CST
DTSTART:20251102T070000
END:STANDARD
BEGIN:DAYLIGHT
TZOFFSETFROM:-0600
TZOFFSETTO:-0500
TZNAME:CDT
DTSTART:20260308T080000
END:DAYLIGHT
BEGIN:STANDARD
TZOFFSETFROM:-0500
TZOFFSETTO:-0600
TZNAME:CST
DTSTART:20261101T070000
END:STANDARD
BEGIN:DAYLIGHT
TZOFFSETFROM:-0600
TZOFFSETTO:-0500
TZNAME:CDT
DTSTART:20270314T080000
END:DAYLIGHT
BEGIN:STANDARD
TZOFFSETFROM:-0500
TZOFFSETTO:-0600
TZNAME:CST
DTSTART:20271107T070000
END:STANDARD
END:VTIMEZONE
BEGIN:VEVENT
DTSTART;VALUE=DATE:20260801
DTEND;VALUE=DATE:20260802
DTSTAMP:20260423T232454
CREATED:20260128T140338Z
LAST-MODIFIED:20260128T140338Z
UID:9414-1785542400-1785628799@johnstonlionsclub.com
SUMMARY:Convention
DESCRIPTION:
URL:https://johnstonlionsclub.com/event/convention-2/
CATEGORIES:Building Rental
END:VEVENT
BEGIN:VEVENT
DTSTART;TZID=America/Chicago:20260802T080000
DTEND;TZID=America/Chicago:20260802T133000
DTSTAMP:20260423T232454
CREATED:20250805T194635Z
LAST-MODIFIED:20250805T194635Z
UID:9088-1785657600-1785677400@johnstonlionsclub.com
SUMMARY:Trinity Presbyterian Reformed Church
DESCRIPTION:
URL:https://johnstonlionsclub.com/event/trinity-presbyterian-reformed-church-23/
CATEGORIES:Church 1st Sundays
END:VEVENT
BEGIN:VEVENT
DTSTART;TZID=America/Chicago:20260809T080000
DTEND;TZID=America/Chicago:20260809T153000
DTSTAMP:20260423T232454
CREATED:20250805T195401Z
LAST-MODIFIED:20250805T195401Z
UID:9107-1786262400-1786289400@johnstonlionsclub.com
SUMMARY:Trinity Presbyterian Reformed Church
DESCRIPTION:
URL:https://johnstonlionsclub.com/event/trinity-presbyterian-reformed-church-32/
CATEGORIES:Church 2nd
END:VEVENT
BEGIN:VEVENT
DTSTART;TZID=America/Chicago:20260810T180000
DTEND;TZID=America/Chicago:20260810T203000
DTSTAMP:20260423T232454
CREATED:20260115T155706Z
LAST-MODIFIED:20260115T155706Z
UID:9342-1786384800-1786393800@johnstonlionsclub.com
SUMMARY:Lions Club Dinner Meeting
DESCRIPTION:
URL:https://johnstonlionsclub.com/event/lions-club-dinner-meeting-8/
CATEGORIES:Dinner Meetings
END:VEVENT
BEGIN:VEVENT
DTSTART;TZID=America/Chicago:20260816T080000
DTEND;TZID=America/Chicago:20260816T133000
DTSTAMP:20260423T232454
CREATED:20250805T200633Z
LAST-MODIFIED:20250805T200633Z
UID:9139-1786867200-1786887000@johnstonlionsclub.com
SUMMARY:Trinity Presbyterian Reformed Church
DESCRIPTION:
URL:https://johnstonlionsclub.com/event/trinity-presbyterian-reformed-church-47/
CATEGORIES:Church 3rd
END:VEVENT
BEGIN:VEVENT
DTSTART;TZID=America/Chicago:20260820T180000
DTEND;TZID=America/Chicago:20260820T203000
DTSTAMP:20260423T232454
CREATED:20260320T150407Z
LAST-MODIFIED:20260320T150407Z
UID:9470-1787248800-1787257800@johnstonlionsclub.com
SUMMARY:American Legion
DESCRIPTION:
URL:https://johnstonlionsclub.com/event/american-legion-7/
CATEGORIES:Building Rental
END:VEVENT
BEGIN:VEVENT
DTSTART;TZID=America/Chicago:20260823T080000
DTEND;TZID=America/Chicago:20260823T153000
DTSTAMP:20260423T232454
CREATED:20250805T203000Z
LAST-MODIFIED:20250805T203000Z
UID:9159-1787472000-1787499000@johnstonlionsclub.com
SUMMARY:Trinity Presbyterian Reformed Church
DESCRIPTION:
URL:https://johnstonlionsclub.com/event/trinity-presbyterian-reformed-church-56/
CATEGORIES:Church 4th
END:VEVENT
BEGIN:VEVENT
DTSTART;TZID=America/Chicago:20260824T180000
DTEND;TZID=America/Chicago:20260824T203000
DTSTAMP:20260423T232454
CREATED:20260115T160816Z
LAST-MODIFIED:20260115T160816Z
UID:9369-1787594400-1787603400@johnstonlionsclub.com
SUMMARY:Lions Club Board Meeting
DESCRIPTION:
URL:https://johnstonlionsclub.com/event/lions-club-board-meeting-25/
CATEGORIES:Board Meetings
END:VEVENT
BEGIN:VEVENT
DTSTART;TZID=America/Chicago:20260830T080000
DTEND;TZID=America/Chicago:20260830T133000
DTSTAMP:20260423T232454
CREATED:20250805T203629Z
LAST-MODIFIED:20250805T203629Z
UID:9179-1788076800-1788096600@johnstonlionsclub.com
SUMMARY:Trinity Presbyterian Reformed Church
DESCRIPTION:
URL:https://johnstonlionsclub.com/event/trinity-presbyterian-reformed-church-66/
CATEGORIES:Church 1st Sundays
END:VEVENT
END:VCALENDAR