BEGIN:VCALENDAR
VERSION:2.0
PRODID:-//Johnston Lions Club and Foundation - ECPv6.15.20//NONSGML v1.0//EN
CALSCALE:GREGORIAN
METHOD:PUBLISH
X-WR-CALNAME:Johnston Lions Club and Foundation
X-ORIGINAL-URL:https://johnstonlionsclub.com
X-WR-CALDESC:Events for Johnston Lions Club and Foundation
REFRESH-INTERVAL;VALUE=DURATION:PT1H
X-Robots-Tag:noindex
X-PUBLISHED-TTL:PT1H
BEGIN:VTIMEZONE
TZID:America/Chicago
BEGIN:DAYLIGHT
TZOFFSETFROM:-0600
TZOFFSETTO:-0500
TZNAME:CDT
DTSTART:20250309T080000
END:DAYLIGHT
BEGIN:STANDARD
TZOFFSETFROM:-0500
TZOFFSETTO:-0600
TZNAME:CST
DTSTART:20251102T070000
END:STANDARD
BEGIN:DAYLIGHT
TZOFFSETFROM:-0600
TZOFFSETTO:-0500
TZNAME:CDT
DTSTART:20260308T080000
END:DAYLIGHT
BEGIN:STANDARD
TZOFFSETFROM:-0500
TZOFFSETTO:-0600
TZNAME:CST
DTSTART:20261101T070000
END:STANDARD
BEGIN:DAYLIGHT
TZOFFSETFROM:-0600
TZOFFSETTO:-0500
TZNAME:CDT
DTSTART:20270314T080000
END:DAYLIGHT
BEGIN:STANDARD
TZOFFSETFROM:-0500
TZOFFSETTO:-0600
TZNAME:CST
DTSTART:20271107T070000
END:STANDARD
END:VTIMEZONE
BEGIN:VEVENT
DTSTART;VALUE=DATE:20260704
DTEND;VALUE=DATE:20260705
DTSTAMP:20260423T214902
CREATED:20260115T214737Z
LAST-MODIFIED:20260414T194901Z
UID:9381-1783123200-1783209599@johnstonlionsclub.com
SUMMARY:Kparblee Event
DESCRIPTION:
URL:https://johnstonlionsclub.com/event/kparblee-event/
CATEGORIES:Building Rental
END:VEVENT
BEGIN:VEVENT
DTSTART;TZID=America/Chicago:20260705T080000
DTEND;TZID=America/Chicago:20260705T133000
DTSTAMP:20260423T214902
CREATED:20250805T194537Z
LAST-MODIFIED:20250805T194537Z
UID:9086-1783238400-1783258200@johnstonlionsclub.com
SUMMARY:Trinity Presbyterian Reformed Church
DESCRIPTION:
URL:https://johnstonlionsclub.com/event/trinity-presbyterian-reformed-church-22/
CATEGORIES:Church 1st Sundays
END:VEVENT
BEGIN:VEVENT
DTSTART;VALUE=DATE:20260711
DTEND;VALUE=DATE:20260712
DTSTAMP:20260423T214902
CREATED:20251113T150027Z
LAST-MODIFIED:20251113T150027Z
UID:9283-1783728000-1783814399@johnstonlionsclub.com
SUMMARY:Crafting for Variety
DESCRIPTION:
URL:https://johnstonlionsclub.com/event/crafting-for-variety/
CATEGORIES:Building Rental
END:VEVENT
BEGIN:VEVENT
DTSTART;TZID=America/Chicago:20260712T080000
DTEND;TZID=America/Chicago:20260712T153000
DTSTAMP:20260423T214902
CREATED:20250805T195442Z
LAST-MODIFIED:20250805T195442Z
UID:9109-1783843200-1783870200@johnstonlionsclub.com
SUMMARY:Trinity Presbyterian Reformed Church
DESCRIPTION:
URL:https://johnstonlionsclub.com/event/trinity-presbyterian-reformed-church-33/
CATEGORIES:Church 2nd
END:VEVENT
BEGIN:VEVENT
DTSTART;TZID=America/Chicago:20260713T180000
DTEND;TZID=America/Chicago:20260713T203000
DTSTAMP:20260423T214902
CREATED:20260115T155634Z
LAST-MODIFIED:20260115T155634Z
UID:9340-1783965600-1783974600@johnstonlionsclub.com
SUMMARY:Lions Club Dinner Meeting
DESCRIPTION:
URL:https://johnstonlionsclub.com/event/lions-club-dinner-meeting-7/
CATEGORIES:Dinner Meetings
END:VEVENT
BEGIN:VEVENT
DTSTART;TZID=America/Chicago:20260716T180000
DTEND;TZID=America/Chicago:20260716T203000
DTSTAMP:20260423T214902
CREATED:20260320T150329Z
LAST-MODIFIED:20260320T150329Z
UID:9468-1784224800-1784233800@johnstonlionsclub.com
SUMMARY:American Legion
DESCRIPTION:
URL:https://johnstonlionsclub.com/event/american-legion-6/
CATEGORIES:Building Rental
END:VEVENT
BEGIN:VEVENT
DTSTART;TZID=America/Chicago:20260717T160000
DTEND;TZID=America/Chicago:20260717T180000
DTSTAMP:20260423T214902
CREATED:20250910T152648Z
LAST-MODIFIED:20250910T152648Z
UID:9222-1784304000-1784311200@johnstonlionsclub.com
SUMMARY:Orchid Society
DESCRIPTION:
URL:https://johnstonlionsclub.com/event/orchid-society/
CATEGORIES:Building Rental
END:VEVENT
BEGIN:VEVENT
DTSTART;TZID=America/Chicago:20260718T080000
DTEND;TZID=America/Chicago:20260718T170000
DTSTAMP:20260423T214902
CREATED:20250910T152718Z
LAST-MODIFIED:20250910T152718Z
UID:9224-1784361600-1784394000@johnstonlionsclub.com
SUMMARY:Orchid Society
DESCRIPTION:
URL:https://johnstonlionsclub.com/event/orchid-society-2/
CATEGORIES:Building Rental
END:VEVENT
BEGIN:VEVENT
DTSTART;TZID=America/Chicago:20260719T080000
DTEND;TZID=America/Chicago:20260719T133000
DTSTAMP:20260423T214902
CREATED:20250805T200558Z
LAST-MODIFIED:20250805T200558Z
UID:9137-1784448000-1784467800@johnstonlionsclub.com
SUMMARY:Trinity Presbyterian Reformed Church
DESCRIPTION:
URL:https://johnstonlionsclub.com/event/trinity-presbyterian-reformed-church-46/
CATEGORIES:Church 3rd
END:VEVENT
BEGIN:VEVENT
DTSTART;TZID=America/Chicago:20260726T080000
DTEND;TZID=America/Chicago:20260726T153000
DTSTAMP:20260423T214902
CREATED:20250805T203040Z
LAST-MODIFIED:20250805T203040Z
UID:9161-1785052800-1785079800@johnstonlionsclub.com
SUMMARY:Trinity Presbyterian Reformed Church
DESCRIPTION:
URL:https://johnstonlionsclub.com/event/trinity-presbyterian-reformed-church-57/
CATEGORIES:Church 4th
END:VEVENT
BEGIN:VEVENT
DTSTART;TZID=America/Chicago:20260727T180000
DTEND;TZID=America/Chicago:20260727T203000
DTSTAMP:20260423T214902
CREATED:20260115T160739Z
LAST-MODIFIED:20260115T160900Z
UID:9366-1785175200-1785184200@johnstonlionsclub.com
SUMMARY:Lions Club Board Meeting
DESCRIPTION:
URL:https://johnstonlionsclub.com/event/lions-club-board-meeting-24/
CATEGORIES:Board Meetings
END:VEVENT
END:VCALENDAR