BEGIN:VCALENDAR
VERSION:2.0
PRODID:-//Johnston Lions Club and Foundation - ECPv6.15.20//NONSGML v1.0//EN
CALSCALE:GREGORIAN
METHOD:PUBLISH
X-WR-CALNAME:Johnston Lions Club and Foundation
X-ORIGINAL-URL:https://johnstonlionsclub.com
X-WR-CALDESC:Events for Johnston Lions Club and Foundation
REFRESH-INTERVAL;VALUE=DURATION:PT1H
X-Robots-Tag:noindex
X-PUBLISHED-TTL:PT1H
BEGIN:VTIMEZONE
TZID:America/Chicago
BEGIN:DAYLIGHT
TZOFFSETFROM:-0600
TZOFFSETTO:-0500
TZNAME:CDT
DTSTART:20250309T080000
END:DAYLIGHT
BEGIN:STANDARD
TZOFFSETFROM:-0500
TZOFFSETTO:-0600
TZNAME:CST
DTSTART:20251102T070000
END:STANDARD
BEGIN:DAYLIGHT
TZOFFSETFROM:-0600
TZOFFSETTO:-0500
TZNAME:CDT
DTSTART:20260308T080000
END:DAYLIGHT
BEGIN:STANDARD
TZOFFSETFROM:-0500
TZOFFSETTO:-0600
TZNAME:CST
DTSTART:20261101T070000
END:STANDARD
BEGIN:DAYLIGHT
TZOFFSETFROM:-0600
TZOFFSETTO:-0500
TZNAME:CDT
DTSTART:20270314T080000
END:DAYLIGHT
BEGIN:STANDARD
TZOFFSETFROM:-0500
TZOFFSETTO:-0600
TZNAME:CST
DTSTART:20271107T070000
END:STANDARD
END:VTIMEZONE
BEGIN:VEVENT
DTSTART;TZID=America/Chicago:20260503T080000
DTEND;TZID=America/Chicago:20260503T133000
DTSTAMP:20260423T185022
CREATED:20250805T194415Z
LAST-MODIFIED:20250805T194415Z
UID:9082-1777795200-1777815000@johnstonlionsclub.com
SUMMARY:Trinity Presbyterian Reformed Church
DESCRIPTION:
URL:https://johnstonlionsclub.com/event/trinity-presbyterian-reformed-church-20/
CATEGORIES:Church 1st Sundays
END:VEVENT
BEGIN:VEVENT
DTSTART;TZID=America/Chicago:20260505T173000
DTEND;TZID=America/Chicago:20260505T210000
DTSTAMP:20260423T185022
CREATED:20250509T152727Z
LAST-MODIFIED:20250509T152727Z
UID:8919-1778002200-1778014800@johnstonlionsclub.com
SUMMARY:Des Moines Camera Club
DESCRIPTION:
URL:https://johnstonlionsclub.com/event/des-moines-camera-club-51/
CATEGORIES:Building Rental
END:VEVENT
BEGIN:VEVENT
DTSTART;TZID=America/Chicago:20260509T080000
DTEND;TZID=America/Chicago:20260509T235900
DTSTAMP:20260423T185022
CREATED:20260317T141430Z
LAST-MODIFIED:20260317T141430Z
UID:9444-1778313600-1778371140@johnstonlionsclub.com
SUMMARY:Birthday Party
DESCRIPTION:
URL:https://johnstonlionsclub.com/event/birthday-party-5/
CATEGORIES:Building Rental
END:VEVENT
BEGIN:VEVENT
DTSTART;TZID=America/Chicago:20260510T080000
DTEND;TZID=America/Chicago:20260510T153000
DTSTAMP:20260423T185022
CREATED:20250805T195554Z
LAST-MODIFIED:20250805T195554Z
UID:9113-1778400000-1778427000@johnstonlionsclub.com
SUMMARY:Trinity Presbyterian Reformed Church
DESCRIPTION:
URL:https://johnstonlionsclub.com/event/trinity-presbyterian-reformed-church-35/
CATEGORIES:Church 2nd
END:VEVENT
BEGIN:VEVENT
DTSTART;TZID=America/Chicago:20260511T180000
DTEND;TZID=America/Chicago:20260511T203000
DTSTAMP:20260423T185022
CREATED:20260115T155510Z
LAST-MODIFIED:20260115T155510Z
UID:9336-1778522400-1778531400@johnstonlionsclub.com
SUMMARY:Lions Club Dinner Meeting
DESCRIPTION:
URL:https://johnstonlionsclub.com/event/lions-club-dinner-meeting-5/
CATEGORIES:Dinner Meetings
END:VEVENT
BEGIN:VEVENT
DTSTART;TZID=America/Chicago:20260512T173000
DTEND;TZID=America/Chicago:20260512T210000
DTSTAMP:20260423T185022
CREATED:20250509T152802Z
LAST-MODIFIED:20250509T152802Z
UID:8921-1778607000-1778619600@johnstonlionsclub.com
SUMMARY:Des Moines Camera Club
DESCRIPTION:
URL:https://johnstonlionsclub.com/event/des-moines-camera-club-52/
CATEGORIES:Building Rental
END:VEVENT
BEGIN:VEVENT
DTSTART;TZID=America/Chicago:20260516T160000
DTEND;TZID=America/Chicago:20260516T220000
DTSTAMP:20260423T185022
CREATED:20250808T030959Z
LAST-MODIFIED:20250808T030959Z
UID:9187-1778947200-1778968800@johnstonlionsclub.com
SUMMARY:Baugh Graduation
DESCRIPTION:
URL:https://johnstonlionsclub.com/event/baugh-graduation/
CATEGORIES:Building Rental
END:VEVENT
BEGIN:VEVENT
DTSTART;TZID=America/Chicago:20260517T080000
DTEND;TZID=America/Chicago:20260517T133000
DTSTAMP:20260423T185022
CREATED:20250805T200440Z
LAST-MODIFIED:20250805T200440Z
UID:9133-1779004800-1779024600@johnstonlionsclub.com
SUMMARY:Trinity Presbyterian Reformed Church
DESCRIPTION:
URL:https://johnstonlionsclub.com/event/trinity-presbyterian-reformed-church-44/
CATEGORIES:Church 3rd
END:VEVENT
BEGIN:VEVENT
DTSTART;TZID=America/Chicago:20260517T160000
DTEND;TZID=America/Chicago:20260517T200000
DTSTAMP:20260423T185022
CREATED:20260307T171629Z
LAST-MODIFIED:20260307T171844Z
UID:9438-1779033600-1779048000@johnstonlionsclub.com
SUMMARY:Sapphire Gymnastics Awards
DESCRIPTION:
URL:https://johnstonlionsclub.com/event/sapphire-gymnastics-awards/
CATEGORIES:Building Rental
END:VEVENT
BEGIN:VEVENT
DTSTART;TZID=America/Chicago:20260521T160000
DTEND;TZID=America/Chicago:20260521T200000
DTSTAMP:20260423T185022
CREATED:20260331T184133Z
LAST-MODIFIED:20260331T184133Z
UID:9484-1779379200-1779393600@johnstonlionsclub.com
SUMMARY:As We Grow Preschool Graduation
DESCRIPTION:
URL:https://johnstonlionsclub.com/event/as-we-grow-preschool-graduation-2/
CATEGORIES:Building Rental
END:VEVENT
BEGIN:VEVENT
DTSTART;TZID=America/Chicago:20260522T160000
DTEND;TZID=America/Chicago:20260522T235900
DTSTAMP:20260423T185022
CREATED:20251213T161735Z
LAST-MODIFIED:20251213T161735Z
UID:9295-1779465600-1779494340@johnstonlionsclub.com
SUMMARY:Winston Gweah
DESCRIPTION:
URL:https://johnstonlionsclub.com/event/winston-gweah/
CATEGORIES:Building Rental,Church 2nd
END:VEVENT
BEGIN:VEVENT
DTSTART;TZID=America/Chicago:20260523T080000
DTEND;TZID=America/Chicago:20260523T140000
DTSTAMP:20260423T185022
CREATED:20251017T155831Z
LAST-MODIFIED:20260406T214811Z
UID:9252-1779523200-1779544800@johnstonlionsclub.com
SUMMARY:Avon Graduation Party
DESCRIPTION:
URL:https://johnstonlionsclub.com/event/avon-graduation-party/
CATEGORIES:Building Rental
END:VEVENT
BEGIN:VEVENT
DTSTART;TZID=America/Chicago:20260523T160000
DTEND;TZID=America/Chicago:20260523T220000
DTSTAMP:20260423T185022
CREATED:20250808T030737Z
LAST-MODIFIED:20260406T220916Z
UID:9184-1779552000-1779573600@johnstonlionsclub.com
SUMMARY:Hawley Graduation Party
DESCRIPTION:
URL:https://johnstonlionsclub.com/event/hawley-graduation-party/
CATEGORIES:Building Rental
END:VEVENT
BEGIN:VEVENT
DTSTART;TZID=America/Chicago:20260524T080000
DTEND;TZID=America/Chicago:20260524T153000
DTSTAMP:20260423T185022
CREATED:20250805T203149Z
LAST-MODIFIED:20250805T203149Z
UID:9165-1779609600-1779636600@johnstonlionsclub.com
SUMMARY:Trinity Presbyterian Reformed Church
DESCRIPTION:
URL:https://johnstonlionsclub.com/event/trinity-presbyterian-reformed-church-59/
CATEGORIES:Church 4th
END:VEVENT
BEGIN:VEVENT
DTSTART;TZID=America/Chicago:20260525T180000
DTEND;TZID=America/Chicago:20260525T203000
DTSTAMP:20260423T185022
CREATED:20260115T160423Z
LAST-MODIFIED:20260115T160423Z
UID:9362-1779732000-1779741000@johnstonlionsclub.com
SUMMARY:Lions Club Board Meeting
DESCRIPTION:
URL:https://johnstonlionsclub.com/event/lions-club-board-meeting-22/
CATEGORIES:Board Meetings
END:VEVENT
BEGIN:VEVENT
DTSTART;TZID=America/Chicago:20260526T180000
DTEND;TZID=America/Chicago:20260526T203000
DTSTAMP:20260423T185022
CREATED:20250616T173558Z
LAST-MODIFIED:20250616T173558Z
UID:8991-1779818400-1779827400@johnstonlionsclub.com
SUMMARY:Cub Scout Pack 244 Meeting
DESCRIPTION:
URL:https://johnstonlionsclub.com/event/cub-scout-pack-244-meeting-18/
CATEGORIES:cub scouts
END:VEVENT
BEGIN:VEVENT
DTSTART;TZID=America/Chicago:20260530T160000
DTEND;TZID=America/Chicago:20260530T220000
DTSTAMP:20260423T185022
CREATED:20250918T225508Z
LAST-MODIFIED:20250918T225508Z
UID:9235-1780156800-1780178400@johnstonlionsclub.com
SUMMARY:Friestad Graduation
DESCRIPTION:
URL:https://johnstonlionsclub.com/event/friestad-graduation/
CATEGORIES:Building Rental
END:VEVENT
BEGIN:VEVENT
DTSTART;TZID=America/Chicago:20260531T080000
DTEND;TZID=America/Chicago:20260531T133000
DTSTAMP:20260423T185022
CREATED:20250805T203548Z
LAST-MODIFIED:20250805T203548Z
UID:9177-1780214400-1780234200@johnstonlionsclub.com
SUMMARY:Trinity Presbyterian Reformed Church
DESCRIPTION:
URL:https://johnstonlionsclub.com/event/trinity-presbyterian-reformed-church-65/
CATEGORIES:Church 1st Sundays
END:VEVENT
BEGIN:VEVENT
DTSTART;TZID=America/Chicago:20260531T160000
DTEND;TZID=America/Chicago:20260531T220000
DTSTAMP:20260423T185022
CREATED:20260115T214624Z
LAST-MODIFIED:20260115T214624Z
UID:9379-1780243200-1780264800@johnstonlionsclub.com
SUMMARY:Schware Graduation Party
DESCRIPTION:
URL:https://johnstonlionsclub.com/event/schware-graduation-party/
CATEGORIES:Building Rental
END:VEVENT
END:VCALENDAR