BEGIN:VCALENDAR
VERSION:2.0
PRODID:-//Johnston Lions Club and Foundation - ECPv6.15.20//NONSGML v1.0//EN
CALSCALE:GREGORIAN
METHOD:PUBLISH
X-ORIGINAL-URL:https://johnstonlionsclub.com
X-WR-CALDESC:Events for Johnston Lions Club and Foundation
REFRESH-INTERVAL;VALUE=DURATION:PT1H
X-Robots-Tag:noindex
X-PUBLISHED-TTL:PT1H
BEGIN:VTIMEZONE
TZID:America/Chicago
BEGIN:DAYLIGHT
TZOFFSETFROM:-0600
TZOFFSETTO:-0500
TZNAME:CDT
DTSTART:20250309T080000
END:DAYLIGHT
BEGIN:STANDARD
TZOFFSETFROM:-0500
TZOFFSETTO:-0600
TZNAME:CST
DTSTART:20251102T070000
END:STANDARD
BEGIN:DAYLIGHT
TZOFFSETFROM:-0600
TZOFFSETTO:-0500
TZNAME:CDT
DTSTART:20260308T080000
END:DAYLIGHT
BEGIN:STANDARD
TZOFFSETFROM:-0500
TZOFFSETTO:-0600
TZNAME:CST
DTSTART:20261101T070000
END:STANDARD
BEGIN:DAYLIGHT
TZOFFSETFROM:-0600
TZOFFSETTO:-0500
TZNAME:CDT
DTSTART:20270314T080000
END:DAYLIGHT
BEGIN:STANDARD
TZOFFSETFROM:-0500
TZOFFSETTO:-0600
TZNAME:CST
DTSTART:20271107T070000
END:STANDARD
END:VTIMEZONE
BEGIN:VEVENT
DTSTART;TZID=America/Chicago:20260301T080000
DTEND;TZID=America/Chicago:20260301T133000
DTSTAMP:20260423T184348
CREATED:20250805T194125Z
LAST-MODIFIED:20250805T194125Z
UID:9078-1772352000-1772371800@johnstonlionsclub.com
SUMMARY:Trinity Presbyterian Reformed Church
DESCRIPTION:
URL:https://johnstonlionsclub.com/event/trinity-presbyterian-reformed-church-18/
CATEGORIES:Church 1st Sundays
END:VEVENT
BEGIN:VEVENT
DTSTART;TZID=America/Chicago:20260303T173000
DTEND;TZID=America/Chicago:20260303T210000
DTSTAMP:20260423T184348
CREATED:20250509T152509Z
LAST-MODIFIED:20250509T152509Z
UID:8911-1772559000-1772571600@johnstonlionsclub.com
SUMMARY:Des Moines Camera Club
DESCRIPTION:
URL:https://johnstonlionsclub.com/event/des-moines-camera-club-47/
CATEGORIES:Building Rental
END:VEVENT
BEGIN:VEVENT
DTSTART;TZID=America/Chicago:20260307T103000
DTEND;TZID=America/Chicago:20260307T153000
DTSTAMP:20260423T184348
CREATED:20260214T171601Z
LAST-MODIFIED:20260214T171601Z
UID:9424-1772879400-1772897400@johnstonlionsclub.com
SUMMARY:Wellness Gathering - Tea Tasting
DESCRIPTION:
URL:https://johnstonlionsclub.com/event/wellness-gathering-tea-tasting/
CATEGORIES:Building Rental
END:VEVENT
BEGIN:VEVENT
DTSTART;TZID=America/Chicago:20260308T080000
DTEND;TZID=America/Chicago:20260308T153000
DTSTAMP:20260423T184348
CREATED:20250805T195712Z
LAST-MODIFIED:20250805T195712Z
UID:9117-1772956800-1772983800@johnstonlionsclub.com
SUMMARY:Trinity Presbyterian Reformed Church
DESCRIPTION:
URL:https://johnstonlionsclub.com/event/trinity-presbyterian-reformed-church-37/
CATEGORIES:Church 2nd
END:VEVENT
BEGIN:VEVENT
DTSTART;TZID=America/Chicago:20260309T180000
DTEND;TZID=America/Chicago:20260309T203000
DTSTAMP:20260423T184348
CREATED:20260115T155356Z
LAST-MODIFIED:20260115T155356Z
UID:9332-1773079200-1773088200@johnstonlionsclub.com
SUMMARY:Lions Club Dinner Meeting
DESCRIPTION:
URL:https://johnstonlionsclub.com/event/lions-club-dinner-meeting-3/
CATEGORIES:Dinner Meetings
END:VEVENT
BEGIN:VEVENT
DTSTART;TZID=America/Chicago:20260310T103000
DTEND;TZID=America/Chicago:20260310T143000
DTSTAMP:20260423T184348
CREATED:20260115T215014Z
LAST-MODIFIED:20260115T215014Z
UID:9383-1773138600-1773153000@johnstonlionsclub.com
SUMMARY:Bethany  Life Choices Lunch & Learn
DESCRIPTION:
URL:https://johnstonlionsclub.com/event/bethany-life-choices-lunch-learn/
CATEGORIES:Building Rental
END:VEVENT
BEGIN:VEVENT
DTSTART;TZID=America/Chicago:20260310T173000
DTEND;TZID=America/Chicago:20260310T210000
DTSTAMP:20260423T184348
CREATED:20250509T152548Z
LAST-MODIFIED:20250509T152548Z
UID:8913-1773163800-1773176400@johnstonlionsclub.com
SUMMARY:Des Moines Camera Club
DESCRIPTION:
URL:https://johnstonlionsclub.com/event/des-moines-camera-club-48/
CATEGORIES:Building Rental
END:VEVENT
BEGIN:VEVENT
DTSTART;VALUE=DATE:20260313
DTEND;VALUE=DATE:20260314
DTSTAMP:20260423T184348
CREATED:20251103T173158Z
LAST-MODIFIED:20251103T173158Z
UID:9268-1773360000-1773446399@johnstonlionsclub.com
SUMMARY:Set Up for Event
DESCRIPTION:
URL:https://johnstonlionsclub.com/event/set-up-for-event/
CATEGORIES:Building Rental
END:VEVENT
BEGIN:VEVENT
DTSTART;VALUE=DATE:20260314
DTEND;VALUE=DATE:20260315
DTSTAMP:20260423T184348
CREATED:20250308T192725Z
LAST-MODIFIED:20250308T192725Z
UID:8838-1773446400-1773532799@johnstonlionsclub.com
SUMMARY:Wedding Reception
DESCRIPTION:
URL:https://johnstonlionsclub.com/event/wedding-reception/
CATEGORIES:Building Rental
END:VEVENT
BEGIN:VEVENT
DTSTART;TZID=America/Chicago:20260315T080000
DTEND;TZID=America/Chicago:20260315T133000
DTSTAMP:20260423T184348
CREATED:20250805T200324Z
LAST-MODIFIED:20250805T200324Z
UID:9129-1773561600-1773581400@johnstonlionsclub.com
SUMMARY:Trinity Presbyterian Reformed Church
DESCRIPTION:
URL:https://johnstonlionsclub.com/event/trinity-presbyterian-reformed-church-42/
CATEGORIES:Church 3rd
END:VEVENT
BEGIN:VEVENT
DTSTART;TZID=America/Chicago:20260319T180000
DTEND;TZID=America/Chicago:20260319T203000
DTSTAMP:20260423T184348
CREATED:20260320T145956Z
LAST-MODIFIED:20260320T145956Z
UID:9459-1773943200-1773952200@johnstonlionsclub.com
SUMMARY:American Legion
DESCRIPTION:
URL:https://johnstonlionsclub.com/event/american-legion-2/
CATEGORIES:Building Rental
END:VEVENT
BEGIN:VEVENT
DTSTART;TZID=America/Chicago:20260320T170000
DTEND;TZID=America/Chicago:20260320T220000
DTSTAMP:20260423T184348
CREATED:20260317T190045Z
LAST-MODIFIED:20260317T190045Z
UID:9449-1774026000-1774044000@johnstonlionsclub.com
SUMMARY:Set Up for Event
DESCRIPTION:
URL:https://johnstonlionsclub.com/event/set-up-for-event-2/
CATEGORIES:Building Rental
END:VEVENT
BEGIN:VEVENT
DTSTART;TZID=America/Chicago:20260321T070000
DTEND;TZID=America/Chicago:20260321T170000
DTSTAMP:20260423T184348
CREATED:20241012T165022Z
LAST-MODIFIED:20241012T165022Z
UID:8685-1774076400-1774112400@johnstonlionsclub.com
SUMMARY:Iowa BBQ Society
DESCRIPTION:
URL:https://johnstonlionsclub.com/event/iowa-bbq-society-6/
CATEGORIES:Annual Events
END:VEVENT
BEGIN:VEVENT
DTSTART;TZID=America/Chicago:20260322T080000
DTEND;TZID=America/Chicago:20260322T153000
DTSTAMP:20260423T184348
CREATED:20250805T203251Z
LAST-MODIFIED:20250805T203251Z
UID:9169-1774166400-1774193400@johnstonlionsclub.com
SUMMARY:Trinity Presbyterian Reformed Church
DESCRIPTION:
URL:https://johnstonlionsclub.com/event/trinity-presbyterian-reformed-church-61/
CATEGORIES:Church 4th
END:VEVENT
BEGIN:VEVENT
DTSTART;TZID=America/Chicago:20260323T180000
DTEND;TZID=America/Chicago:20260323T203000
DTSTAMP:20260423T184348
CREATED:20260115T160240Z
LAST-MODIFIED:20260115T160240Z
UID:9358-1774288800-1774297800@johnstonlionsclub.com
SUMMARY:Lions Club Board Meeting
DESCRIPTION:
URL:https://johnstonlionsclub.com/event/lions-club-board-meeting-20/
CATEGORIES:Board Meetings
END:VEVENT
BEGIN:VEVENT
DTSTART;TZID=America/Chicago:20260324T180000
DTEND;TZID=America/Chicago:20260324T203000
DTSTAMP:20260423T184348
CREATED:20250616T173109Z
LAST-MODIFIED:20250616T173109Z
UID:8986-1774375200-1774384200@johnstonlionsclub.com
SUMMARY:Cub Scout Pack 244 Meeting
DESCRIPTION:
URL:https://johnstonlionsclub.com/event/cub-scout-pack-244-meeting-17/
CATEGORIES:cub scouts
END:VEVENT
BEGIN:VEVENT
DTSTART;TZID=America/Chicago:20260326T130000
DTEND;TZID=America/Chicago:20260326T160000
DTSTAMP:20260423T184348
CREATED:20260312T201320Z
LAST-MODIFIED:20260312T201537Z
UID:9440-1774530000-1774540800@johnstonlionsclub.com
SUMMARY:Benefits Source
DESCRIPTION:
URL:https://johnstonlionsclub.com/event/one-body-3-7/
CATEGORIES:Building Rental
END:VEVENT
BEGIN:VEVENT
DTSTART;TZID=America/Chicago:20260328T180000
DTEND;TZID=America/Chicago:20260328T180000
DTSTAMP:20260423T184348
CREATED:20260109T222052Z
LAST-MODIFIED:20260320T184916Z
UID:9307-1774720800-1774720800@johnstonlionsclub.com
SUMMARY:Ben Kwreh
DESCRIPTION:
URL:https://johnstonlionsclub.com/event/ben-kwreh/
CATEGORIES:Building Rental
END:VEVENT
BEGIN:VEVENT
DTSTART;TZID=America/Chicago:20260329T080000
DTEND;TZID=America/Chicago:20260329T133000
DTSTAMP:20260423T184348
CREATED:20250805T203459Z
LAST-MODIFIED:20250805T203459Z
UID:9175-1774771200-1774791000@johnstonlionsclub.com
SUMMARY:Trinity Presbyterian Reformed Church
DESCRIPTION:
URL:https://johnstonlionsclub.com/event/trinity-presbyterian-reformed-church-64/
CATEGORIES:Church 1st Sundays
END:VEVENT
END:VCALENDAR