BEGIN:VCALENDAR
VERSION:2.0
PRODID:-//Johnston Lions Club and Foundation - ECPv6.15.20//NONSGML v1.0//EN
CALSCALE:GREGORIAN
METHOD:PUBLISH
X-WR-CALNAME:Johnston Lions Club and Foundation
X-ORIGINAL-URL:https://johnstonlionsclub.com
X-WR-CALDESC:Events for Johnston Lions Club and Foundation
REFRESH-INTERVAL;VALUE=DURATION:PT1H
X-Robots-Tag:noindex
X-PUBLISHED-TTL:PT1H
BEGIN:VTIMEZONE
TZID:America/Chicago
BEGIN:DAYLIGHT
TZOFFSETFROM:-0600
TZOFFSETTO:-0500
TZNAME:CDT
DTSTART:20250309T080000
END:DAYLIGHT
BEGIN:STANDARD
TZOFFSETFROM:-0500
TZOFFSETTO:-0600
TZNAME:CST
DTSTART:20251102T070000
END:STANDARD
BEGIN:DAYLIGHT
TZOFFSETFROM:-0600
TZOFFSETTO:-0500
TZNAME:CDT
DTSTART:20260308T080000
END:DAYLIGHT
BEGIN:STANDARD
TZOFFSETFROM:-0500
TZOFFSETTO:-0600
TZNAME:CST
DTSTART:20261101T070000
END:STANDARD
BEGIN:DAYLIGHT
TZOFFSETFROM:-0600
TZOFFSETTO:-0500
TZNAME:CDT
DTSTART:20270314T080000
END:DAYLIGHT
BEGIN:STANDARD
TZOFFSETFROM:-0500
TZOFFSETTO:-0600
TZNAME:CST
DTSTART:20271107T070000
END:STANDARD
END:VTIMEZONE
BEGIN:VEVENT
DTSTART;TZID=America/Chicago:20260201T080000
DTEND;TZID=America/Chicago:20260201T133000
DTSTAMP:20260423T201859
CREATED:20250805T194043Z
LAST-MODIFIED:20250805T194200Z
UID:9076-1769932800-1769952600@johnstonlionsclub.com
SUMMARY:Trinity Presbyterian Reformed Church
DESCRIPTION:
URL:https://johnstonlionsclub.com/event/trinity-presbyterian-reformed-church-17/
CATEGORIES:Church 1st Sundays
END:VEVENT
BEGIN:VEVENT
DTSTART;TZID=America/Chicago:20260201T160000
DTEND;TZID=America/Chicago:20260201T200000
DTSTAMP:20260423T201859
CREATED:20251215T030633Z
LAST-MODIFIED:20251215T031040Z
UID:9297-1769961600-1769976000@johnstonlionsclub.com
SUMMARY:Jill Alesch Fundraiser
DESCRIPTION:
URL:https://johnstonlionsclub.com/event/jill-alesch-fundraiser/
CATEGORIES:Building Rental
END:VEVENT
BEGIN:VEVENT
DTSTART;TZID=America/Chicago:20260203T173000
DTEND;TZID=America/Chicago:20260203T210000
DTSTAMP:20260423T201859
CREATED:20250509T152408Z
LAST-MODIFIED:20250509T152408Z
UID:8907-1770139800-1770152400@johnstonlionsclub.com
SUMMARY:Des Moines Camera Club
DESCRIPTION:
URL:https://johnstonlionsclub.com/event/des-moines-camera-club-45/
CATEGORIES:Building Rental
END:VEVENT
BEGIN:VEVENT
DTSTART;TZID=America/Chicago:20260207T120000
DTEND;TZID=America/Chicago:20260207T160000
DTSTAMP:20260423T201859
CREATED:20260127T005647Z
LAST-MODIFIED:20260127T165121Z
UID:9412-1770465600-1770480000@johnstonlionsclub.com
SUMMARY:Celebration of Life - Max Argo
DESCRIPTION:
URL:https://johnstonlionsclub.com/event/celebration-of-life-max-argo/
CATEGORIES:Building Rental
END:VEVENT
BEGIN:VEVENT
DTSTART;TZID=America/Chicago:20260208T080000
DTEND;TZID=America/Chicago:20260208T153000
DTSTAMP:20260423T201859
CREATED:20250805T195751Z
LAST-MODIFIED:20250805T195751Z
UID:9119-1770537600-1770564600@johnstonlionsclub.com
SUMMARY:Trinity Presbyterian Reformed Church
DESCRIPTION:
URL:https://johnstonlionsclub.com/event/trinity-presbyterian-reformed-church-38/
CATEGORIES:Church 2nd
END:VEVENT
BEGIN:VEVENT
DTSTART;TZID=America/Chicago:20260209T180000
DTEND;TZID=America/Chicago:20260209T203000
DTSTAMP:20260423T201859
CREATED:20260115T155323Z
LAST-MODIFIED:20260115T155323Z
UID:9330-1770660000-1770669000@johnstonlionsclub.com
SUMMARY:Lions Club Dinner Meeting
DESCRIPTION:
URL:https://johnstonlionsclub.com/event/lions-club-dinner-meeting-2/
CATEGORIES:Dinner Meetings
END:VEVENT
BEGIN:VEVENT
DTSTART;TZID=America/Chicago:20260210T173000
DTEND;TZID=America/Chicago:20260210T210000
DTSTAMP:20260423T201859
CREATED:20250509T152439Z
LAST-MODIFIED:20250509T152439Z
UID:8909-1770744600-1770757200@johnstonlionsclub.com
SUMMARY:Des Moines Camera Club
DESCRIPTION:
URL:https://johnstonlionsclub.com/event/des-moines-camera-club-46/
CATEGORIES:Building Rental
END:VEVENT
BEGIN:VEVENT
DTSTART;TZID=America/Chicago:20260213T170000
DTEND;TZID=America/Chicago:20260214T235900
DTSTAMP:20260423T201859
CREATED:20260109T222315Z
LAST-MODIFIED:20260109T222315Z
UID:9309-1771002000-1771113540@johnstonlionsclub.com
SUMMARY:Wake
DESCRIPTION:
URL:https://johnstonlionsclub.com/event/wake/
CATEGORIES:Building Rental
END:VEVENT
BEGIN:VEVENT
DTSTART;TZID=America/Chicago:20260215T080000
DTEND;TZID=America/Chicago:20260215T133000
DTSTAMP:20260423T201859
CREATED:20250805T200205Z
LAST-MODIFIED:20250805T200205Z
UID:9127-1771142400-1771162200@johnstonlionsclub.com
SUMMARY:Trinity Presbyterian Reformed Church
DESCRIPTION:
URL:https://johnstonlionsclub.com/event/trinity-presbyterian-reformed-church-41/
CATEGORIES:Church 3rd
END:VEVENT
BEGIN:VEVENT
DTSTART;TZID=America/Chicago:20260222T080000
DTEND;TZID=America/Chicago:20260222T153000
DTSTAMP:20260423T201859
CREATED:20250805T203323Z
LAST-MODIFIED:20250805T203323Z
UID:9171-1771747200-1771774200@johnstonlionsclub.com
SUMMARY:Trinity Presbyterian Reformed Church
DESCRIPTION:
URL:https://johnstonlionsclub.com/event/trinity-presbyterian-reformed-church-62/
CATEGORIES:Church 4th
END:VEVENT
BEGIN:VEVENT
DTSTART;TZID=America/Chicago:20260223T180000
DTEND;TZID=America/Chicago:20260223T203000
DTSTAMP:20260423T201859
CREATED:20260115T160156Z
LAST-MODIFIED:20260115T160156Z
UID:9356-1771869600-1771878600@johnstonlionsclub.com
SUMMARY:Lions Club Board Meeting
DESCRIPTION:
URL:https://johnstonlionsclub.com/event/lions-club-board-meeting-19/
CATEGORIES:Board Meetings
END:VEVENT
BEGIN:VEVENT
DTSTART;TZID=America/Chicago:20260224T180000
DTEND;TZID=America/Chicago:20260224T203000
DTSTAMP:20260423T201859
CREATED:20250616T172134Z
LAST-MODIFIED:20250616T172134Z
UID:8984-1771956000-1771965000@johnstonlionsclub.com
SUMMARY:Cub Scout Pack 244 Meeting
DESCRIPTION:
URL:https://johnstonlionsclub.com/event/cub-scout-pack-244-meeting-16/
CATEGORIES:cub scouts
END:VEVENT
BEGIN:VEVENT
DTSTART;TZID=America/Chicago:20260227T160000
DTEND;TZID=America/Chicago:20260227T235900
DTSTAMP:20260423T201859
CREATED:20260115T215711Z
LAST-MODIFIED:20260121T174726Z
UID:9385-1772208000-1772236740@johnstonlionsclub.com
SUMMARY:Wake
DESCRIPTION:
URL:https://johnstonlionsclub.com/event/wake-2/
CATEGORIES:Building Rental
END:VEVENT
END:VCALENDAR