BEGIN:VCALENDAR
VERSION:2.0
PRODID:-//Johnston Lions Club and Foundation - ECPv6.15.20//NONSGML v1.0//EN
CALSCALE:GREGORIAN
METHOD:PUBLISH
X-WR-CALNAME:Johnston Lions Club and Foundation
X-ORIGINAL-URL:https://johnstonlionsclub.com
X-WR-CALDESC:Events for Johnston Lions Club and Foundation
REFRESH-INTERVAL;VALUE=DURATION:PT1H
X-Robots-Tag:noindex
X-PUBLISHED-TTL:PT1H
BEGIN:VTIMEZONE
TZID:America/Chicago
BEGIN:DAYLIGHT
TZOFFSETFROM:-0600
TZOFFSETTO:-0500
TZNAME:CDT
DTSTART:20240310T080000
END:DAYLIGHT
BEGIN:STANDARD
TZOFFSETFROM:-0500
TZOFFSETTO:-0600
TZNAME:CST
DTSTART:20241103T070000
END:STANDARD
BEGIN:DAYLIGHT
TZOFFSETFROM:-0600
TZOFFSETTO:-0500
TZNAME:CDT
DTSTART:20250309T080000
END:DAYLIGHT
BEGIN:STANDARD
TZOFFSETFROM:-0500
TZOFFSETTO:-0600
TZNAME:CST
DTSTART:20251102T070000
END:STANDARD
BEGIN:DAYLIGHT
TZOFFSETFROM:-0600
TZOFFSETTO:-0500
TZNAME:CDT
DTSTART:20260308T080000
END:DAYLIGHT
BEGIN:STANDARD
TZOFFSETFROM:-0500
TZOFFSETTO:-0600
TZNAME:CST
DTSTART:20261101T070000
END:STANDARD
END:VTIMEZONE
BEGIN:VEVENT
DTSTART;TZID=America/Chicago:20250902T173000
DTEND;TZID=America/Chicago:20250902T210000
DTSTAMP:20260424T040355
CREATED:20250509T151803Z
LAST-MODIFIED:20250509T151803Z
UID:8891-1756834200-1756846800@johnstonlionsclub.com
SUMMARY:Des Moines Camera Club
DESCRIPTION:
URL:https://johnstonlionsclub.com/event/des-moines-camera-club-37/
CATEGORIES:Building Rental
END:VEVENT
BEGIN:VEVENT
DTSTART;TZID=America/Chicago:20250907T080000
DTEND;TZID=America/Chicago:20250907T133000
DTSTAMP:20260424T040355
CREATED:20250616T180424Z
LAST-MODIFIED:20250616T180424Z
UID:8997-1757232000-1757251800@johnstonlionsclub.com
SUMMARY:Trinity Presbyterian Reformed Church
DESCRIPTION:
URL:https://johnstonlionsclub.com/event/trinity-presbyterian-reformed-church/
CATEGORIES:Church 1st Sundays
END:VEVENT
BEGIN:VEVENT
DTSTART;TZID=America/Chicago:20250908T180000
DTEND;TZID=America/Chicago:20250908T203000
DTSTAMP:20260424T040355
CREATED:20250527T225834Z
LAST-MODIFIED:20250527T225834Z
UID:8938-1757354400-1757363400@johnstonlionsclub.com
SUMMARY:Lions Dinner Meeting
DESCRIPTION:
URL:https://johnstonlionsclub.com/event/lions-dinner-meeting-13/
CATEGORIES:Dinner Meetings
END:VEVENT
BEGIN:VEVENT
DTSTART;TZID=America/Chicago:20250909T173000
DTEND;TZID=America/Chicago:20250909T210000
DTSTAMP:20260424T040355
CREATED:20250509T151856Z
LAST-MODIFIED:20250509T153124Z
UID:8893-1757439000-1757451600@johnstonlionsclub.com
SUMMARY:Des Moines Camera Club
DESCRIPTION:
URL:https://johnstonlionsclub.com/event/des-moines-camera-club-38/
CATEGORIES:Building Rental
END:VEVENT
BEGIN:VEVENT
DTSTART;TZID=America/Chicago:20250911T140000
DTEND;TZID=America/Chicago:20250911T173000
DTSTAMP:20260424T040355
CREATED:20250604T222239Z
LAST-MODIFIED:20250604T222239Z
UID:8966-1757599200-1757611800@johnstonlionsclub.com
SUMMARY:Bingo Fundraiser 6-8pm
DESCRIPTION:
URL:https://johnstonlionsclub.com/event/bingo-fundraiser-6-8pm-2/
CATEGORIES:Bingo
END:VEVENT
BEGIN:VEVENT
DTSTART;TZID=America/Chicago:20250913T170000
DTEND;TZID=America/Chicago:20250913T235900
DTSTAMP:20260424T040355
CREATED:20250630T165348Z
LAST-MODIFIED:20250630T165348Z
UID:9053-1757782800-1757807940@johnstonlionsclub.com
SUMMARY:Rose Borkey
DESCRIPTION:
URL:https://johnstonlionsclub.com/event/rose-borkey/
CATEGORIES:Building Rental
END:VEVENT
BEGIN:VEVENT
DTSTART;TZID=America/Chicago:20250914T080000
DTEND;TZID=America/Chicago:20250914T153000
DTSTAMP:20260424T040355
CREATED:20250616T180616Z
LAST-MODIFIED:20250616T180616Z
UID:8999-1757836800-1757863800@johnstonlionsclub.com
SUMMARY:Trinity Presbyterian Reformed Church
DESCRIPTION:
URL:https://johnstonlionsclub.com/event/trinity-presbyterian-reformed-church-2/
CATEGORIES:Church 2nd
END:VEVENT
BEGIN:VEVENT
DTSTART;TZID=America/Chicago:20250916T080000
DTEND;TZID=America/Chicago:20250916T160000
DTSTAMP:20260424T040355
CREATED:20250527T225433Z
LAST-MODIFIED:20250527T225433Z
UID:8932-1758009600-1758038400@johnstonlionsclub.com
SUMMARY:Davis Equipment Companies
DESCRIPTION:
URL:https://johnstonlionsclub.com/event/davis-equipment-companies/
CATEGORIES:Building Rental
END:VEVENT
BEGIN:VEVENT
DTSTART;TZID=America/Chicago:20250918T073000
DTEND;TZID=America/Chicago:20250918T163000
DTSTAMP:20260424T040355
CREATED:20250714T163629Z
LAST-MODIFIED:20250814T210757Z
UID:9063-1758180600-1758213000@johnstonlionsclub.com
SUMMARY:OneBody3
DESCRIPTION:
URL:https://johnstonlionsclub.com/event/onebody3-9/
CATEGORIES:Building Rental
END:VEVENT
BEGIN:VEVENT
DTSTART;TZID=America/Chicago:20250918T180000
DTEND;TZID=America/Chicago:20250918T200000
DTSTAMP:20260424T040355
CREATED:20250625T151849Z
LAST-MODIFIED:20250625T151849Z
UID:9043-1758218400-1758225600@johnstonlionsclub.com
SUMMARY:American Legion Post 728
DESCRIPTION:
URL:https://johnstonlionsclub.com/event/american-legion-post-728-14/
CATEGORIES:Building Rental
END:VEVENT
BEGIN:VEVENT
DTSTART;TZID=America/Chicago:20250919T090000
DTEND;TZID=America/Chicago:20250919T150000
DTSTAMP:20260424T040355
CREATED:20250908T214148Z
LAST-MODIFIED:20250908T214148Z
UID:9218-1758272400-1758294000@johnstonlionsclub.com
SUMMARY:11 am - Sherilyn Godfroy Memorial Service
DESCRIPTION:
URL:https://johnstonlionsclub.com/event/11-am-sherilyn-godfroy-memorial-service/
CATEGORIES:Building Rental
END:VEVENT
BEGIN:VEVENT
DTSTART;TZID=America/Chicago:20250921T080000
DTEND;TZID=America/Chicago:20250921T133000
DTSTAMP:20260424T040355
CREATED:20250616T180720Z
LAST-MODIFIED:20250616T180720Z
UID:9001-1758441600-1758461400@johnstonlionsclub.com
SUMMARY:Trinity Presbyterian Reformed Church
DESCRIPTION:
URL:https://johnstonlionsclub.com/event/trinity-presbyterian-reformed-church-3/
CATEGORIES:Church 3rd
END:VEVENT
BEGIN:VEVENT
DTSTART;TZID=America/Chicago:20250921T153000
DTEND;TZID=America/Chicago:20250921T153000
DTSTAMP:20260424T040355
CREATED:20250911T192619Z
LAST-MODIFIED:20250911T192619Z
UID:9227-1758468600-1758468600@johnstonlionsclub.com
SUMMARY:Birthday Party
DESCRIPTION:
URL:https://johnstonlionsclub.com/event/birthday-party-3/
CATEGORIES:Building Rental
END:VEVENT
BEGIN:VEVENT
DTSTART;TZID=America/Chicago:20250922T180000
DTEND;TZID=America/Chicago:20250922T203000
DTSTAMP:20260424T040355
CREATED:20250527T230340Z
LAST-MODIFIED:20250527T230340Z
UID:8952-1758564000-1758573000@johnstonlionsclub.com
SUMMARY:Lions Club Board Meeting
DESCRIPTION:
URL:https://johnstonlionsclub.com/event/lions-club-board-meeting-14/
CATEGORIES:Board Meetings
END:VEVENT
BEGIN:VEVENT
DTSTART;TZID=America/Chicago:20250923T180000
DTEND;TZID=America/Chicago:20250923T203000
DTSTAMP:20260424T040355
CREATED:20250616T171932Z
LAST-MODIFIED:20250616T171932Z
UID:8978-1758650400-1758659400@johnstonlionsclub.com
SUMMARY:Cub Scout Pack 244 Meeting
DESCRIPTION:
URL:https://johnstonlionsclub.com/event/cub-scout-pack-244-meeting-13/
CATEGORIES:cub scouts
END:VEVENT
BEGIN:VEVENT
DTSTART;TZID=America/Chicago:20250926T150000
DTEND;TZID=America/Chicago:20250926T235900
DTSTAMP:20260424T040355
CREATED:20250912T224621Z
LAST-MODIFIED:20250912T224621Z
UID:9230-1758898800-1758931140@johnstonlionsclub.com
SUMMARY:Wake Keeping Ceremony
DESCRIPTION:
URL:https://johnstonlionsclub.com/event/wake-keeping-ceremony/
CATEGORIES:Building Rental
END:VEVENT
BEGIN:VEVENT
DTSTART;VALUE=DATE:20250927
DTEND;VALUE=DATE:20250928
DTSTAMP:20260424T040355
CREATED:20250707T141814Z
LAST-MODIFIED:20250707T141814Z
UID:9058-1758931200-1759017599@johnstonlionsclub.com
SUMMARY:Baby Shower
DESCRIPTION:Abreanna Julius
URL:https://johnstonlionsclub.com/event/baby-shower-2/
CATEGORIES:Building Rental
END:VEVENT
BEGIN:VEVENT
DTSTART;TZID=America/Chicago:20250928T080000
DTEND;TZID=America/Chicago:20250928T153000
DTSTAMP:20260424T040355
CREATED:20250616T180804Z
LAST-MODIFIED:20250616T180804Z
UID:9003-1759046400-1759073400@johnstonlionsclub.com
SUMMARY:Trinity Presbyterian Reformed Church
DESCRIPTION:
URL:https://johnstonlionsclub.com/event/trinity-presbyterian-reformed-church-4/
CATEGORIES:Church 4th
END:VEVENT
END:VCALENDAR