BEGIN:VCALENDAR
VERSION:2.0
PRODID:-//Johnston Lions Club and Foundation - ECPv6.15.20//NONSGML v1.0//EN
CALSCALE:GREGORIAN
METHOD:PUBLISH
X-WR-CALNAME:Johnston Lions Club and Foundation
X-ORIGINAL-URL:https://johnstonlionsclub.com
X-WR-CALDESC:Events for Johnston Lions Club and Foundation
REFRESH-INTERVAL;VALUE=DURATION:PT1H
X-Robots-Tag:noindex
X-PUBLISHED-TTL:PT1H
BEGIN:VTIMEZONE
TZID:America/Chicago
BEGIN:DAYLIGHT
TZOFFSETFROM:-0600
TZOFFSETTO:-0500
TZNAME:CDT
DTSTART:20240310T080000
END:DAYLIGHT
BEGIN:STANDARD
TZOFFSETFROM:-0500
TZOFFSETTO:-0600
TZNAME:CST
DTSTART:20241103T070000
END:STANDARD
BEGIN:DAYLIGHT
TZOFFSETFROM:-0600
TZOFFSETTO:-0500
TZNAME:CDT
DTSTART:20250309T080000
END:DAYLIGHT
BEGIN:STANDARD
TZOFFSETFROM:-0500
TZOFFSETTO:-0600
TZNAME:CST
DTSTART:20251102T070000
END:STANDARD
BEGIN:DAYLIGHT
TZOFFSETFROM:-0600
TZOFFSETTO:-0500
TZNAME:CDT
DTSTART:20260308T080000
END:DAYLIGHT
BEGIN:STANDARD
TZOFFSETFROM:-0500
TZOFFSETTO:-0600
TZNAME:CST
DTSTART:20261101T070000
END:STANDARD
END:VTIMEZONE
BEGIN:VEVENT
DTSTART;TZID=America/Chicago:20250503T090000
DTEND;TZID=America/Chicago:20250503T140000
DTSTAMP:20260424T104933
CREATED:20250402T173334Z
LAST-MODIFIED:20250402T181421Z
UID:8847-1746262800-1746280800@johnstonlionsclub.com
SUMMARY:Veterans Meal
DESCRIPTION:
URL:https://johnstonlionsclub.com/event/veterans-meal/
CATEGORIES:Building Rental
END:VEVENT
BEGIN:VEVENT
DTSTART;TZID=America/Chicago:20250503T160000
DTEND;TZID=America/Chicago:20250503T230000
DTSTAMP:20260424T104933
CREATED:20250125T171041Z
LAST-MODIFIED:20250125T171041Z
UID:8793-1746288000-1746313200@johnstonlionsclub.com
SUMMARY:Reyes Graduation Party
DESCRIPTION:
URL:https://johnstonlionsclub.com/event/reyes-graduation-party/
CATEGORIES:Building Rental
END:VEVENT
BEGIN:VEVENT
DTSTART;TZID=America/Chicago:20250504T080000
DTEND;TZID=America/Chicago:20250504T133000
DTSTAMP:20260424T104933
CREATED:20240411T143930Z
LAST-MODIFIED:20240411T143930Z
UID:8340-1746345600-1746365400@johnstonlionsclub.com
SUMMARY:Church NC
DESCRIPTION:
URL:https://johnstonlionsclub.com/event/church-nc-140/
END:VEVENT
BEGIN:VEVENT
DTSTART;TZID=America/Chicago:20250506T173000
DTEND;TZID=America/Chicago:20250506T210000
DTSTAMP:20260424T104933
CREATED:20240901T144931Z
LAST-MODIFIED:20240901T144931Z
UID:8607-1746552600-1746565200@johnstonlionsclub.com
SUMMARY:Des Moines Camera Club
DESCRIPTION:
URL:https://johnstonlionsclub.com/event/des-moines-camera-club-35/
CATEGORIES:Camera Club
END:VEVENT
BEGIN:VEVENT
DTSTART;TZID=America/Chicago:20250509T160000
DTEND;TZID=America/Chicago:20250509T220000
DTSTAMP:20260424T104933
CREATED:20250501T203723Z
LAST-MODIFIED:20250501T203723Z
UID:8888-1746806400-1746828000@johnstonlionsclub.com
SUMMARY:Chris Erickson Celebration of Life
DESCRIPTION:
URL:https://johnstonlionsclub.com/event/chris-erickson-celebration-of-life/
CATEGORIES:Building Rental
END:VEVENT
BEGIN:VEVENT
DTSTART;TZID=America/Chicago:20250510T160000
DTEND;TZID=America/Chicago:20250510T220000
DTSTAMP:20260424T104933
CREATED:20241201T142753Z
LAST-MODIFIED:20250121T203421Z
UID:8752-1746892800-1746914400@johnstonlionsclub.com
SUMMARY:Jaxson Gray-Graduation Party
DESCRIPTION:
URL:https://johnstonlionsclub.com/event/gray-graduation-party/
CATEGORIES:Building Rental
END:VEVENT
BEGIN:VEVENT
DTSTART;TZID=America/Chicago:20250511T080000
DTEND;TZID=America/Chicago:20250511T153000
DTSTAMP:20260424T104933
CREATED:20240411T144010Z
LAST-MODIFIED:20240411T144010Z
UID:8342-1746950400-1746977400@johnstonlionsclub.com
SUMMARY:Church NC
DESCRIPTION:
URL:https://johnstonlionsclub.com/event/church-nc-141/
END:VEVENT
BEGIN:VEVENT
DTSTART;TZID=America/Chicago:20250512T180000
DTEND;TZID=America/Chicago:20250512T203000
DTSTAMP:20260424T104933
CREATED:20240710T175152Z
LAST-MODIFIED:20240710T175152Z
UID:8500-1747072800-1747081800@johnstonlionsclub.com
SUMMARY:Lions Dinner Meeting
DESCRIPTION:
URL:https://johnstonlionsclub.com/event/lions-dinner-meeting-9/
CATEGORIES:Dinner Meetings
END:VEVENT
BEGIN:VEVENT
DTSTART;TZID=America/Chicago:20250513T173000
DTEND;TZID=America/Chicago:20250513T210000
DTSTAMP:20260424T104933
CREATED:20240901T144959Z
LAST-MODIFIED:20240901T144959Z
UID:8609-1747157400-1747170000@johnstonlionsclub.com
SUMMARY:Des Moines Camera Club
DESCRIPTION:
URL:https://johnstonlionsclub.com/event/des-moines-camera-club-36/
CATEGORIES:Camera Club
END:VEVENT
BEGIN:VEVENT
DTSTART;TZID=America/Chicago:20250514T094500
DTEND;TZID=America/Chicago:20250514T114500
DTSTAMP:20260424T104933
CREATED:20241126T212728Z
LAST-MODIFIED:20250409T221932Z
UID:8733-1747215900-1747223100@johnstonlionsclub.com
SUMMARY:OneBody3
DESCRIPTION:
URL:https://johnstonlionsclub.com/event/onebody3-7/
CATEGORIES:Building Rental
END:VEVENT
BEGIN:VEVENT
DTSTART;TZID=America/Chicago:20250515T080000
DTEND;TZID=America/Chicago:20250515T123000
DTSTAMP:20260424T104933
CREATED:20241126T212759Z
LAST-MODIFIED:20250409T222028Z
UID:8735-1747296000-1747312200@johnstonlionsclub.com
SUMMARY:OneBody3
DESCRIPTION:
URL:https://johnstonlionsclub.com/event/onebody3-8/
CATEGORIES:Building Rental
END:VEVENT
BEGIN:VEVENT
DTSTART;TZID=America/Chicago:20250517T160000
DTEND;TZID=America/Chicago:20250517T220000
DTSTAMP:20260424T104933
CREATED:20250306T162936Z
LAST-MODIFIED:20250306T175014Z
UID:8834-1747497600-1747519200@johnstonlionsclub.com
SUMMARY:Friestad Graduation Party
DESCRIPTION:
URL:https://johnstonlionsclub.com/event/friestad-graduation-party/
CATEGORIES:Building Rental
END:VEVENT
BEGIN:VEVENT
DTSTART;TZID=America/Chicago:20250518T080000
DTEND;TZID=America/Chicago:20250518T133000
DTSTAMP:20260424T104933
CREATED:20240411T144124Z
LAST-MODIFIED:20240411T145300Z
UID:8346-1747555200-1747575000@johnstonlionsclub.com
SUMMARY:Church NC
DESCRIPTION:
URL:https://johnstonlionsclub.com/event/church-nc-143/
END:VEVENT
BEGIN:VEVENT
DTSTART;TZID=America/Chicago:20250518T153000
DTEND;TZID=America/Chicago:20250518T213000
DTSTAMP:20260424T104933
CREATED:20250212T001157Z
LAST-MODIFIED:20250212T001329Z
UID:8812-1747582200-1747603800@johnstonlionsclub.com
SUMMARY:Randall Graduation Party
DESCRIPTION:
URL:https://johnstonlionsclub.com/event/randall-graduation-party/
CATEGORIES:Building Rental
END:VEVENT
BEGIN:VEVENT
DTSTART;VALUE=DATE:20250519
DTEND;VALUE=DATE:20250522
DTSTAMP:20260424T104933
CREATED:20250429T180732Z
LAST-MODIFIED:20250429T180757Z
UID:8884-1747612800-1747871999@johnstonlionsclub.com
SUMMARY:carpet cleaning
DESCRIPTION:
URL:https://johnstonlionsclub.com/event/carpet-cleaning-5/
CATEGORIES:Building Committee
END:VEVENT
BEGIN:VEVENT
DTSTART;TZID=America/Chicago:20250522T163000
DTEND;TZID=America/Chicago:20250522T203000
DTSTAMP:20260424T104933
CREATED:20250402T182157Z
LAST-MODIFIED:20250402T182157Z
UID:8850-1747931400-1747945800@johnstonlionsclub.com
SUMMARY:As We Grow Preschool Graduation
DESCRIPTION:
URL:https://johnstonlionsclub.com/event/as-we-grow-preschool-graduation/
CATEGORIES:Building Rental
END:VEVENT
BEGIN:VEVENT
DTSTART;TZID=America/Chicago:20250524T080000
DTEND;TZID=America/Chicago:20250524T080000
DTSTAMP:20260424T104933
CREATED:20250131T163311Z
LAST-MODIFIED:20250506T193216Z
UID:8796-1748073600-1748073600@johnstonlionsclub.com
SUMMARY:Norah Kudee Foundation
DESCRIPTION:
URL:https://johnstonlionsclub.com/event/norah-kudee-foundation/
CATEGORIES:Building Rental
END:VEVENT
BEGIN:VEVENT
DTSTART;TZID=America/Chicago:20250524T160000
DTEND;TZID=America/Chicago:20250524T220000
DTSTAMP:20260424T104933
CREATED:20250511T143219Z
LAST-MODIFIED:20250514T201723Z
UID:8925-1748102400-1748124000@johnstonlionsclub.com
SUMMARY:Jibas Graduation Party
DESCRIPTION:
URL:https://johnstonlionsclub.com/event/jibas-graduation-party/
CATEGORIES:Building Rental
END:VEVENT
BEGIN:VEVENT
DTSTART;TZID=America/Chicago:20250525T080000
DTEND;TZID=America/Chicago:20250525T153000
DTSTAMP:20260424T104933
CREATED:20240411T144247Z
LAST-MODIFIED:20240411T144247Z
UID:8348-1748160000-1748187000@johnstonlionsclub.com
SUMMARY:Church NC
DESCRIPTION:
URL:https://johnstonlionsclub.com/event/church-nc-144/
END:VEVENT
BEGIN:VEVENT
DTSTART;TZID=America/Chicago:20250525T163000
DTEND;TZID=America/Chicago:20250525T223000
DTSTAMP:20260424T104933
CREATED:20241002T195439Z
LAST-MODIFIED:20241002T195439Z
UID:8644-1748190600-1748212200@johnstonlionsclub.com
SUMMARY:Jenny Kronlage - Graduation Party
DESCRIPTION:
URL:https://johnstonlionsclub.com/event/jenny-kronlage-graduation-party/
CATEGORIES:Building Rental
END:VEVENT
BEGIN:VEVENT
DTSTART;TZID=America/Chicago:20250526T180000
DTEND;TZID=America/Chicago:20250526T203000
DTSTAMP:20260424T104933
CREATED:20241012T155311Z
LAST-MODIFIED:20241012T155311Z
UID:8677-1748282400-1748291400@johnstonlionsclub.com
SUMMARY:Lions Club Board Meeting
DESCRIPTION:
URL:https://johnstonlionsclub.com/event/lions-club-board-meeting-9/
CATEGORIES:Board Meetings
END:VEVENT
BEGIN:VEVENT
DTSTART;TZID=America/Chicago:20250527T180000
DTEND;TZID=America/Chicago:20250527T203000
DTSTAMP:20260424T104933
CREATED:20240603T215450Z
LAST-MODIFIED:20240603T215450Z
UID:8430-1748368800-1748377800@johnstonlionsclub.com
SUMMARY:Cub Scout Pack 244 Meeting
DESCRIPTION:
URL:https://johnstonlionsclub.com/event/cub-scout-pack-244-meeting-12/
END:VEVENT
BEGIN:VEVENT
DTSTART;TZID=America/Chicago:20250531T080000
DTEND;TZID=America/Chicago:20250531T140000
DTSTAMP:20260424T104933
CREATED:20250318T194754Z
LAST-MODIFIED:20250324T134550Z
UID:8841-1748678400-1748700000@johnstonlionsclub.com
SUMMARY:Clausen / Sitzmann Graduation Party
DESCRIPTION:
URL:https://johnstonlionsclub.com/event/clausen-graduation-party/
CATEGORIES:Building Rental
END:VEVENT
BEGIN:VEVENT
DTSTART;TZID=America/Chicago:20250531T160000
DTEND;TZID=America/Chicago:20250531T220000
DTSTAMP:20260424T104933
CREATED:20250219T152918Z
LAST-MODIFIED:20250219T152918Z
UID:8820-1748707200-1748728800@johnstonlionsclub.com
SUMMARY:Morris Kuria Graduation Party
DESCRIPTION:
URL:https://johnstonlionsclub.com/event/morris-kuria-graduation-party/
CATEGORIES:Building Rental
END:VEVENT
END:VCALENDAR