BEGIN:VCALENDAR
VERSION:2.0
PRODID:-//Johnston Lions Club and Foundation - ECPv6.15.20//NONSGML v1.0//EN
CALSCALE:GREGORIAN
METHOD:PUBLISH
X-WR-CALNAME:Johnston Lions Club and Foundation
X-ORIGINAL-URL:https://johnstonlionsclub.com
X-WR-CALDESC:Events for Johnston Lions Club and Foundation
REFRESH-INTERVAL;VALUE=DURATION:PT1H
X-Robots-Tag:noindex
X-PUBLISHED-TTL:PT1H
BEGIN:VTIMEZONE
TZID:America/Chicago
BEGIN:DAYLIGHT
TZOFFSETFROM:-0600
TZOFFSETTO:-0500
TZNAME:CDT
DTSTART:20240310T080000
END:DAYLIGHT
BEGIN:STANDARD
TZOFFSETFROM:-0500
TZOFFSETTO:-0600
TZNAME:CST
DTSTART:20241103T070000
END:STANDARD
BEGIN:DAYLIGHT
TZOFFSETFROM:-0600
TZOFFSETTO:-0500
TZNAME:CDT
DTSTART:20250309T080000
END:DAYLIGHT
BEGIN:STANDARD
TZOFFSETFROM:-0500
TZOFFSETTO:-0600
TZNAME:CST
DTSTART:20251102T070000
END:STANDARD
BEGIN:DAYLIGHT
TZOFFSETFROM:-0600
TZOFFSETTO:-0500
TZNAME:CDT
DTSTART:20260308T080000
END:DAYLIGHT
BEGIN:STANDARD
TZOFFSETFROM:-0500
TZOFFSETTO:-0600
TZNAME:CST
DTSTART:20261101T070000
END:STANDARD
END:VTIMEZONE
BEGIN:VEVENT
DTSTART;TZID=America/Chicago:20250301T100000
DTEND;TZID=America/Chicago:20250301T120000
DTSTAMP:20260424T135158
CREATED:20250118T185254Z
LAST-MODIFIED:20250118T191236Z
UID:8781-1740823200-1740830400@johnstonlionsclub.com
SUMMARY:Lions Club District Meeting
DESCRIPTION:
URL:https://johnstonlionsclub.com/event/lions-club-district-meeting/
CATEGORIES:Building Rental
END:VEVENT
BEGIN:VEVENT
DTSTART;TZID=America/Chicago:20250302T080000
DTEND;TZID=America/Chicago:20250302T133000
DTSTAMP:20260424T135158
CREATED:20240411T143157Z
LAST-MODIFIED:20240411T143157Z
UID:8322-1740902400-1740922200@johnstonlionsclub.com
SUMMARY:Church NC
DESCRIPTION:
URL:https://johnstonlionsclub.com/event/church-nc-131/
END:VEVENT
BEGIN:VEVENT
DTSTART;TZID=America/Chicago:20250304T173000
DTEND;TZID=America/Chicago:20250304T210000
DTSTAMP:20260424T135158
CREATED:20240901T144719Z
LAST-MODIFIED:20240901T144719Z
UID:8599-1741109400-1741122000@johnstonlionsclub.com
SUMMARY:Des Moines Camera Club
DESCRIPTION:
URL:https://johnstonlionsclub.com/event/des-moines-camera-club-31/
CATEGORIES:Camera Club
END:VEVENT
BEGIN:VEVENT
DTSTART;TZID=America/Chicago:20250308T070000
DTEND;TZID=America/Chicago:20250308T170000
DTSTAMP:20260424T135158
CREATED:20241012T164917Z
LAST-MODIFIED:20241012T164917Z
UID:8683-1741417200-1741453200@johnstonlionsclub.com
SUMMARY:Iowa BBQ Society
DESCRIPTION:
URL:https://johnstonlionsclub.com/event/iowa-bbq-society-5/
CATEGORIES:Annual Events
END:VEVENT
BEGIN:VEVENT
DTSTART;TZID=America/Chicago:20250309T080000
DTEND;TZID=America/Chicago:20250309T153000
DTSTAMP:20260424T135158
CREATED:20240411T143235Z
LAST-MODIFIED:20240411T143235Z
UID:8324-1741507200-1741534200@johnstonlionsclub.com
SUMMARY:Church NC
DESCRIPTION:
URL:https://johnstonlionsclub.com/event/church-nc-132/
END:VEVENT
BEGIN:VEVENT
DTSTART;TZID=America/Chicago:20250310T180000
DTEND;TZID=America/Chicago:20250310T203000
DTSTAMP:20260424T135158
CREATED:20240710T175007Z
LAST-MODIFIED:20240710T175007Z
UID:8496-1741629600-1741638600@johnstonlionsclub.com
SUMMARY:Lions Dinner Meeting
DESCRIPTION:
URL:https://johnstonlionsclub.com/event/lions-dinner-meeting-7/
CATEGORIES:Dinner Meetings
END:VEVENT
BEGIN:VEVENT
DTSTART;TZID=America/Chicago:20250311T173000
DTEND;TZID=America/Chicago:20250311T210000
DTSTAMP:20260424T135158
CREATED:20240901T144749Z
LAST-MODIFIED:20240901T144749Z
UID:8601-1741714200-1741726800@johnstonlionsclub.com
SUMMARY:Des Moines Camera Club
DESCRIPTION:
URL:https://johnstonlionsclub.com/event/des-moines-camera-club-32/
CATEGORIES:Camera Club
END:VEVENT
BEGIN:VEVENT
DTSTART;TZID=America/Chicago:20250316T080000
DTEND;TZID=America/Chicago:20250316T133000
DTSTAMP:20260424T135158
CREATED:20240411T143320Z
LAST-MODIFIED:20240411T143320Z
UID:8326-1742112000-1742131800@johnstonlionsclub.com
SUMMARY:Church NC
DESCRIPTION:
URL:https://johnstonlionsclub.com/event/church-nc-133/
END:VEVENT
BEGIN:VEVENT
DTSTART;TZID=America/Chicago:20250316T160000
DTEND;TZID=America/Chicago:20250316T200000
DTSTAMP:20260424T135158
CREATED:20240924T165256Z
LAST-MODIFIED:20240924T165256Z
UID:8633-1742140800-1742155200@johnstonlionsclub.com
SUMMARY:Book Sale Set Up
DESCRIPTION:
URL:https://johnstonlionsclub.com/event/book-sale-set-up-7/
CATEGORIES:Annual Events
END:VEVENT
BEGIN:VEVENT
DTSTART;TZID=America/Chicago:20250317T080000
DTEND;TZID=America/Chicago:20250320T200000
DTSTAMP:20260424T135158
CREATED:20240924T165042Z
LAST-MODIFIED:20240925T030348Z
UID:8629-1742198400-1742500800@johnstonlionsclub.com
SUMMARY:Book Sale Set Up
DESCRIPTION:
URL:https://johnstonlionsclub.com/event/book-sale-set-up-donations-accepted-until-400pm/
CATEGORIES:Annual Events
END:VEVENT
BEGIN:VEVENT
DTSTART;TZID=America/Chicago:20250320T160000
DTEND;TZID=America/Chicago:20250320T200000
DTSTAMP:20260424T135158
CREATED:20240924T165453Z
LAST-MODIFIED:20240924T165453Z
UID:8635-1742486400-1742500800@johnstonlionsclub.com
SUMMARY:Book Sale Preview - $5 Admission
DESCRIPTION:
URL:https://johnstonlionsclub.com/event/book-sale-preview-5-admission/
CATEGORIES:Annual Events
END:VEVENT
BEGIN:VEVENT
DTSTART;TZID=America/Chicago:20250321T080000
DTEND;TZID=America/Chicago:20250321T190000
DTSTAMP:20260424T135158
CREATED:20240924T165532Z
LAST-MODIFIED:20240924T165532Z
UID:8638-1742544000-1742583600@johnstonlionsclub.com
SUMMARY:Book Sale
DESCRIPTION:
URL:https://johnstonlionsclub.com/event/book-sale-5/
CATEGORIES:Annual Events
END:VEVENT
BEGIN:VEVENT
DTSTART;TZID=America/Chicago:20250322T080000
DTEND;TZID=America/Chicago:20250322T110000
DTSTAMP:20260424T135158
CREATED:20240924T165640Z
LAST-MODIFIED:20240924T165640Z
UID:8640-1742630400-1742641200@johnstonlionsclub.com
SUMMARY:Book Sale - Free Admission\, $3.00 Bag Sale
DESCRIPTION:
URL:https://johnstonlionsclub.com/event/book-sale-free-admission-3-00-bag-sale-2/
CATEGORIES:Annual Events
END:VEVENT
BEGIN:VEVENT
DTSTART;TZID=America/Chicago:20250323T080000
DTEND;TZID=America/Chicago:20250323T153000
DTSTAMP:20260424T135158
CREATED:20240411T143358Z
LAST-MODIFIED:20240411T143358Z
UID:8328-1742716800-1742743800@johnstonlionsclub.com
SUMMARY:Church NC
DESCRIPTION:
URL:https://johnstonlionsclub.com/event/church-nc-134/
END:VEVENT
BEGIN:VEVENT
DTSTART;TZID=America/Chicago:20250324T180000
DTEND;TZID=America/Chicago:20250324T203000
DTSTAMP:20260424T135158
CREATED:20241012T154832Z
LAST-MODIFIED:20250324T134704Z
UID:8673-1742839200-1742848200@johnstonlionsclub.com
SUMMARY:Lions Club Board Meeting
DESCRIPTION:
URL:https://johnstonlionsclub.com/event/lions-club-board-meeting-7/
CATEGORIES:Board Meetings
END:VEVENT
BEGIN:VEVENT
DTSTART;TZID=America/Chicago:20250325T180000
DTEND;TZID=America/Chicago:20250325T203000
DTSTAMP:20260424T135158
CREATED:20240603T215314Z
LAST-MODIFIED:20240603T215314Z
UID:8426-1742925600-1742934600@johnstonlionsclub.com
SUMMARY:Cub Scout Pack 244 Meeting
DESCRIPTION:
URL:https://johnstonlionsclub.com/event/cub-scout-pack-244-meeting-10/
END:VEVENT
BEGIN:VEVENT
DTSTART;TZID=America/Chicago:20250330T080000
DTEND;TZID=America/Chicago:20250330T133000
DTSTAMP:20260424T135158
CREATED:20240411T143434Z
LAST-MODIFIED:20240411T143434Z
UID:8330-1743321600-1743341400@johnstonlionsclub.com
SUMMARY:Church NC
DESCRIPTION:
URL:https://johnstonlionsclub.com/event/church-nc-135/
END:VEVENT
END:VCALENDAR