BEGIN:VCALENDAR
VERSION:2.0
PRODID:-//Johnston Lions Club and Foundation - ECPv6.15.20//NONSGML v1.0//EN
CALSCALE:GREGORIAN
METHOD:PUBLISH
X-ORIGINAL-URL:https://johnstonlionsclub.com
X-WR-CALDESC:Events for Johnston Lions Club and Foundation
REFRESH-INTERVAL;VALUE=DURATION:PT1H
X-Robots-Tag:noindex
X-PUBLISHED-TTL:PT1H
BEGIN:VTIMEZONE
TZID:America/Chicago
BEGIN:DAYLIGHT
TZOFFSETFROM:-0600
TZOFFSETTO:-0500
TZNAME:CDT
DTSTART:20240310T080000
END:DAYLIGHT
BEGIN:STANDARD
TZOFFSETFROM:-0500
TZOFFSETTO:-0600
TZNAME:CST
DTSTART:20241103T070000
END:STANDARD
BEGIN:DAYLIGHT
TZOFFSETFROM:-0600
TZOFFSETTO:-0500
TZNAME:CDT
DTSTART:20250309T080000
END:DAYLIGHT
BEGIN:STANDARD
TZOFFSETFROM:-0500
TZOFFSETTO:-0600
TZNAME:CST
DTSTART:20251102T070000
END:STANDARD
BEGIN:DAYLIGHT
TZOFFSETFROM:-0600
TZOFFSETTO:-0500
TZNAME:CDT
DTSTART:20260308T080000
END:DAYLIGHT
BEGIN:STANDARD
TZOFFSETFROM:-0500
TZOFFSETTO:-0600
TZNAME:CST
DTSTART:20261101T070000
END:STANDARD
END:VTIMEZONE
BEGIN:VEVENT
DTSTART;TZID=America/Chicago:20250105T080000
DTEND;TZID=America/Chicago:20250105T133000
DTSTAMP:20260424T170410
CREATED:20240411T142534Z
LAST-MODIFIED:20240411T142534Z
UID:8306-1736064000-1736083800@johnstonlionsclub.com
SUMMARY:Church NC
DESCRIPTION:
URL:https://johnstonlionsclub.com/event/church-nc-123/
END:VEVENT
BEGIN:VEVENT
DTSTART;TZID=America/Chicago:20250107T173000
DTEND;TZID=America/Chicago:20250107T210000
DTSTAMP:20260424T170410
CREATED:20240901T144438Z
LAST-MODIFIED:20240901T144438Z
UID:8591-1736271000-1736283600@johnstonlionsclub.com
SUMMARY:Des Moines Camera Club
DESCRIPTION:
URL:https://johnstonlionsclub.com/event/des-moines-camera-club-27/
CATEGORIES:Camera Club
END:VEVENT
BEGIN:VEVENT
DTSTART;TZID=America/Chicago:20250111T080000
DTEND;TZID=America/Chicago:20250111T140000
DTSTAMP:20260424T170410
CREATED:20241116T175320Z
LAST-MODIFIED:20241116T175320Z
UID:8712-1736582400-1736604000@johnstonlionsclub.com
SUMMARY:Hawkeye Knife Club
DESCRIPTION:
URL:https://johnstonlionsclub.com/event/hawkeye-knife-club-12/
CATEGORIES:Building Rental
END:VEVENT
BEGIN:VEVENT
DTSTART;TZID=America/Chicago:20250112T080000
DTEND;TZID=America/Chicago:20250112T153000
DTSTAMP:20260424T170410
CREATED:20240411T142634Z
LAST-MODIFIED:20240411T142634Z
UID:8308-1736668800-1736695800@johnstonlionsclub.com
SUMMARY:Church NC
DESCRIPTION:
URL:https://johnstonlionsclub.com/event/church-nc-124/
END:VEVENT
BEGIN:VEVENT
DTSTART;TZID=America/Chicago:20250113T180000
DTEND;TZID=America/Chicago:20250113T203000
DTSTAMP:20260424T170410
CREATED:20240710T174817Z
LAST-MODIFIED:20240710T174817Z
UID:8492-1736791200-1736800200@johnstonlionsclub.com
SUMMARY:Lions Dinner Meeting
DESCRIPTION:
URL:https://johnstonlionsclub.com/event/lions-dinner-meeting-5/
CATEGORIES:Dinner Meetings
END:VEVENT
BEGIN:VEVENT
DTSTART;TZID=America/Chicago:20250114T173000
DTEND;TZID=America/Chicago:20250114T210000
DTSTAMP:20260424T170410
CREATED:20240901T144523Z
LAST-MODIFIED:20240901T144523Z
UID:8593-1736875800-1736888400@johnstonlionsclub.com
SUMMARY:Des Moines Camera Club
DESCRIPTION:
URL:https://johnstonlionsclub.com/event/des-moines-camera-club-28/
CATEGORIES:Camera Club
END:VEVENT
BEGIN:VEVENT
DTSTART;TZID=America/Chicago:20250119T080000
DTEND;TZID=America/Chicago:20250119T133000
DTSTAMP:20260424T170410
CREATED:20240411T142804Z
LAST-MODIFIED:20240411T142804Z
UID:8310-1737273600-1737293400@johnstonlionsclub.com
SUMMARY:Church NC
DESCRIPTION:
URL:https://johnstonlionsclub.com/event/church-nc-125/
END:VEVENT
BEGIN:VEVENT
DTSTART;TZID=America/Chicago:20250119T150000
DTEND;TZID=America/Chicago:20250119T170000
DTSTAMP:20260424T170410
CREATED:20241012T162110Z
LAST-MODIFIED:20241012T162110Z
UID:8681-1737298800-1737306000@johnstonlionsclub.com
SUMMARY:Lions Club Open House
DESCRIPTION:
URL:https://johnstonlionsclub.com/event/lions-club-open-house/
CATEGORIES:Annual Events
END:VEVENT
BEGIN:VEVENT
DTSTART;TZID=America/Chicago:20250126T080000
DTEND;TZID=America/Chicago:20250126T153000
DTSTAMP:20260424T170410
CREATED:20240411T142849Z
LAST-MODIFIED:20240411T142849Z
UID:8312-1737878400-1737905400@johnstonlionsclub.com
SUMMARY:Church NC
DESCRIPTION:
URL:https://johnstonlionsclub.com/event/church-nc-126/
END:VEVENT
BEGIN:VEVENT
DTSTART;TZID=America/Chicago:20250127T180000
DTEND;TZID=America/Chicago:20250127T203000
DTSTAMP:20260424T170410
CREATED:20241012T154647Z
LAST-MODIFIED:20241012T154956Z
UID:8667-1738000800-1738009800@johnstonlionsclub.com
SUMMARY:Lions Club Board Meeting
DESCRIPTION:
URL:https://johnstonlionsclub.com/event/lions-club-board-meeting-5/
CATEGORIES:Board Meetings
END:VEVENT
BEGIN:VEVENT
DTSTART;TZID=America/Chicago:20250128T170000
DTEND;TZID=America/Chicago:20250128T210000
DTSTAMP:20260424T170410
CREATED:20241213T121032Z
LAST-MODIFIED:20241230T213109Z
UID:8755-1738083600-1738098000@johnstonlionsclub.com
SUMMARY:Green Meadows HOA
DESCRIPTION:
URL:https://johnstonlionsclub.com/event/ron-lower/
CATEGORIES:Building Rental
END:VEVENT
BEGIN:VEVENT
DTSTART;TZID=America/Chicago:20250131T170000
DTEND;TZID=America/Chicago:20250131T230000
DTSTAMP:20260424T170410
CREATED:20241231T192854Z
LAST-MODIFIED:20250118T195808Z
UID:8764-1738342800-1738364400@johnstonlionsclub.com
SUMMARY:Wake
DESCRIPTION:
URL:https://johnstonlionsclub.com/event/ophelia-3/
CATEGORIES:Building Rental
END:VEVENT
END:VCALENDAR