BEGIN:VCALENDAR
VERSION:2.0
PRODID:-//Johnston Lions Club and Foundation - ECPv6.15.20//NONSGML v1.0//EN
CALSCALE:GREGORIAN
METHOD:PUBLISH
X-WR-CALNAME:Johnston Lions Club and Foundation
X-ORIGINAL-URL:https://johnstonlionsclub.com
X-WR-CALDESC:Events for Johnston Lions Club and Foundation
REFRESH-INTERVAL;VALUE=DURATION:PT1H
X-Robots-Tag:noindex
X-PUBLISHED-TTL:PT1H
BEGIN:VTIMEZONE
TZID:America/Chicago
BEGIN:DAYLIGHT
TZOFFSETFROM:-0600
TZOFFSETTO:-0500
TZNAME:CDT
DTSTART:20230312T080000
END:DAYLIGHT
BEGIN:STANDARD
TZOFFSETFROM:-0500
TZOFFSETTO:-0600
TZNAME:CST
DTSTART:20231105T070000
END:STANDARD
BEGIN:DAYLIGHT
TZOFFSETFROM:-0600
TZOFFSETTO:-0500
TZNAME:CDT
DTSTART:20240310T080000
END:DAYLIGHT
BEGIN:STANDARD
TZOFFSETFROM:-0500
TZOFFSETTO:-0600
TZNAME:CST
DTSTART:20241103T070000
END:STANDARD
BEGIN:DAYLIGHT
TZOFFSETFROM:-0600
TZOFFSETTO:-0500
TZNAME:CDT
DTSTART:20250309T080000
END:DAYLIGHT
BEGIN:STANDARD
TZOFFSETFROM:-0500
TZOFFSETTO:-0600
TZNAME:CST
DTSTART:20251102T070000
END:STANDARD
END:VTIMEZONE
BEGIN:VEVENT
DTSTART;TZID=America/Chicago:20241201T080000
DTEND;TZID=America/Chicago:20241201T133000
DTSTAMP:20260424T184123
CREATED:20240410T161246Z
LAST-MODIFIED:20240410T161246Z
UID:8295-1733040000-1733059800@johnstonlionsclub.com
SUMMARY:Church NC
DESCRIPTION:
URL:https://johnstonlionsclub.com/event/church-nc-118/
END:VEVENT
BEGIN:VEVENT
DTSTART;TZID=America/Chicago:20241203T173000
DTEND;TZID=America/Chicago:20241203T210000
DTSTAMP:20260424T184123
CREATED:20240901T144333Z
LAST-MODIFIED:20240901T144333Z
UID:8589-1733247000-1733259600@johnstonlionsclub.com
SUMMARY:Des Moines Camera Club
DESCRIPTION:
URL:https://johnstonlionsclub.com/event/des-moines-camera-club-26/
CATEGORIES:Camera Club
END:VEVENT
BEGIN:VEVENT
DTSTART;TZID=America/Chicago:20241206T173000
DTEND;TZID=America/Chicago:20241206T203000
DTSTAMP:20260424T184123
CREATED:20241109T145106Z
LAST-MODIFIED:20241109T145106Z
UID:8699-1733506200-1733517000@johnstonlionsclub.com
SUMMARY:TRPC Gathering
DESCRIPTION:
URL:https://johnstonlionsclub.com/event/trpc-gathering/
CATEGORIES:Building Rental
END:VEVENT
BEGIN:VEVENT
DTSTART;TZID=America/Chicago:20241207T140000
DTEND;TZID=America/Chicago:20241207T200000
DTSTAMP:20260424T184123
CREATED:20241028T160055Z
LAST-MODIFIED:20241028T160055Z
UID:8693-1733580000-1733601600@johnstonlionsclub.com
SUMMARY:Camp Dodge Holiday Party
DESCRIPTION:
URL:https://johnstonlionsclub.com/event/camp-dodge-holiday-party/
CATEGORIES:Building Rental
END:VEVENT
BEGIN:VEVENT
DTSTART;TZID=America/Chicago:20241208T080000
DTEND;TZID=America/Chicago:20241208T153000
DTSTAMP:20260424T184123
CREATED:20240410T161317Z
LAST-MODIFIED:20240410T161317Z
UID:8297-1733644800-1733671800@johnstonlionsclub.com
SUMMARY:Church NC
DESCRIPTION:
URL:https://johnstonlionsclub.com/event/church-nc-119/
END:VEVENT
BEGIN:VEVENT
DTSTART;TZID=America/Chicago:20241209T180000
DTEND;TZID=America/Chicago:20241209T203000
DTSTAMP:20260424T184123
CREATED:20240710T174706Z
LAST-MODIFIED:20240710T174706Z
UID:8490-1733767200-1733776200@johnstonlionsclub.com
SUMMARY:Lions Dinner Meeting
DESCRIPTION:
URL:https://johnstonlionsclub.com/event/lions-dinner-meeting-4/
CATEGORIES:Dinner Meetings
END:VEVENT
BEGIN:VEVENT
DTSTART;TZID=America/Chicago:20241211T090000
DTEND;TZID=America/Chicago:20241211T153000
DTSTAMP:20260424T184123
CREATED:20240705T191435Z
LAST-MODIFIED:20240705T191435Z
UID:8469-1733907600-1733931000@johnstonlionsclub.com
SUMMARY:University of Iowa Center for Disabilities and Development
DESCRIPTION:Justin Reeves 6-5-2024
URL:https://johnstonlionsclub.com/event/university-of-iowa-center-for-disabilities-and-development-2/
END:VEVENT
BEGIN:VEVENT
DTSTART;TZID=America/Chicago:20241214T150000
DTEND;TZID=America/Chicago:20241214T230000
DTSTAMP:20260424T184123
CREATED:20241115T214155Z
LAST-MODIFIED:20241115T214155Z
UID:8710-1734188400-1734217200@johnstonlionsclub.com
SUMMARY:Baptism
DESCRIPTION:
URL:https://johnstonlionsclub.com/event/baptism-2/
CATEGORIES:Building Rental
END:VEVENT
BEGIN:VEVENT
DTSTART;TZID=America/Chicago:20241215T080000
DTEND;TZID=America/Chicago:20241215T133000
DTSTAMP:20260424T184123
CREATED:20240410T161348Z
LAST-MODIFIED:20240410T161348Z
UID:8299-1734249600-1734269400@johnstonlionsclub.com
SUMMARY:Church NC
DESCRIPTION:
URL:https://johnstonlionsclub.com/event/church-nc-120/
END:VEVENT
BEGIN:VEVENT
DTSTART;TZID=America/Chicago:20241219T180000
DTEND;TZID=America/Chicago:20241219T200000
DTSTAMP:20260424T184123
CREATED:20230818T143215Z
LAST-MODIFIED:20231118T210846Z
UID:8000-1734631200-1734638400@johnstonlionsclub.com
SUMMARY:American Legion Post 728 NC
DESCRIPTION:
URL:https://johnstonlionsclub.com/event/american-legion-post-728-nc-30/
END:VEVENT
BEGIN:VEVENT
DTSTART;TZID=America/Chicago:20241222T080000
DTEND;TZID=America/Chicago:20241222T153000
DTSTAMP:20260424T184123
CREATED:20240410T161420Z
LAST-MODIFIED:20240410T161420Z
UID:8301-1734854400-1734881400@johnstonlionsclub.com
SUMMARY:Church NC
DESCRIPTION:
URL:https://johnstonlionsclub.com/event/church-nc-121/
END:VEVENT
BEGIN:VEVENT
DTSTART;TZID=America/Chicago:20241223T180000
DTEND;TZID=America/Chicago:20241223T203000
DTSTAMP:20260424T184123
CREATED:20241012T154610Z
LAST-MODIFIED:20241012T155036Z
UID:8664-1734976800-1734985800@johnstonlionsclub.com
SUMMARY:Lions Club Board Meeting
DESCRIPTION:
URL:https://johnstonlionsclub.com/event/lions-club-board-meeting-4/
CATEGORIES:Board Meetings
END:VEVENT
BEGIN:VEVENT
DTSTART;TZID=America/Chicago:20241227T150000
DTEND;TZID=America/Chicago:20241227T200000
DTSTAMP:20260424T184123
CREATED:20241031T201350Z
LAST-MODIFIED:20241031T201350Z
UID:8696-1735311600-1735329600@johnstonlionsclub.com
SUMMARY:Gannon Family Christmas
DESCRIPTION:
URL:https://johnstonlionsclub.com/event/gannon-family-christmas-2/
CATEGORIES:Building Rental
END:VEVENT
BEGIN:VEVENT
DTSTART;TZID=America/Chicago:20241228T150000
DTEND;TZID=America/Chicago:20241228T210000
DTSTAMP:20260424T184123
CREATED:20241017T164523Z
LAST-MODIFIED:20241017T164523Z
UID:8690-1735398000-1735419600@johnstonlionsclub.com
SUMMARY:McPherson Party
DESCRIPTION:
URL:https://johnstonlionsclub.com/event/mcpherson-party-4/
CATEGORIES:Building Rental
END:VEVENT
BEGIN:VEVENT
DTSTART;TZID=America/Chicago:20241229T080000
DTEND;TZID=America/Chicago:20241229T133000
DTSTAMP:20260424T184123
CREATED:20240410T161538Z
LAST-MODIFIED:20240410T161538Z
UID:8303-1735459200-1735479000@johnstonlionsclub.com
SUMMARY:Church NC
DESCRIPTION:
URL:https://johnstonlionsclub.com/event/church-nc-122/
END:VEVENT
END:VCALENDAR