BEGIN:VCALENDAR
VERSION:2.0
PRODID:-//Johnston Lions Club and Foundation - ECPv6.15.20//NONSGML v1.0//EN
CALSCALE:GREGORIAN
METHOD:PUBLISH
X-WR-CALNAME:Johnston Lions Club and Foundation
X-ORIGINAL-URL:https://johnstonlionsclub.com
X-WR-CALDESC:Events for Johnston Lions Club and Foundation
REFRESH-INTERVAL;VALUE=DURATION:PT1H
X-Robots-Tag:noindex
X-PUBLISHED-TTL:PT1H
BEGIN:VTIMEZONE
TZID:America/Chicago
BEGIN:DAYLIGHT
TZOFFSETFROM:-0600
TZOFFSETTO:-0500
TZNAME:CDT
DTSTART:20230312T080000
END:DAYLIGHT
BEGIN:STANDARD
TZOFFSETFROM:-0500
TZOFFSETTO:-0600
TZNAME:CST
DTSTART:20231105T070000
END:STANDARD
BEGIN:DAYLIGHT
TZOFFSETFROM:-0600
TZOFFSETTO:-0500
TZNAME:CDT
DTSTART:20240310T080000
END:DAYLIGHT
BEGIN:STANDARD
TZOFFSETFROM:-0500
TZOFFSETTO:-0600
TZNAME:CST
DTSTART:20241103T070000
END:STANDARD
BEGIN:DAYLIGHT
TZOFFSETFROM:-0600
TZOFFSETTO:-0500
TZNAME:CDT
DTSTART:20250309T080000
END:DAYLIGHT
BEGIN:STANDARD
TZOFFSETFROM:-0500
TZOFFSETTO:-0600
TZNAME:CST
DTSTART:20251102T070000
END:STANDARD
END:VTIMEZONE
BEGIN:VEVENT
DTSTART;TZID=America/Chicago:20241102T160000
DTEND;TZID=America/Chicago:20241102T220000
DTSTAMP:20260424T201233
CREATED:20240829T235216Z
LAST-MODIFIED:20240829T235216Z
UID:8545-1730563200-1730584800@johnstonlionsclub.com
SUMMARY:Jane's Retirement Party
DESCRIPTION:
URL:https://johnstonlionsclub.com/event/janes-retirement-party/
END:VEVENT
BEGIN:VEVENT
DTSTART;TZID=America/Chicago:20241103T080000
DTEND;TZID=America/Chicago:20241103T133000
DTSTAMP:20260424T201233
CREATED:20240410T160851Z
LAST-MODIFIED:20240410T160851Z
UID:8287-1730620800-1730640600@johnstonlionsclub.com
SUMMARY:Church NC
DESCRIPTION:
URL:https://johnstonlionsclub.com/event/church-nc-114/
END:VEVENT
BEGIN:VEVENT
DTSTART;TZID=America/Chicago:20241105T173000
DTEND;TZID=America/Chicago:20241105T210000
DTSTAMP:20260424T201233
CREATED:20240901T144213Z
LAST-MODIFIED:20240901T144213Z
UID:8585-1730827800-1730840400@johnstonlionsclub.com
SUMMARY:Des Moines Camera Club
DESCRIPTION:
URL:https://johnstonlionsclub.com/event/des-moines-camera-club-24/
CATEGORIES:Camera Club
END:VEVENT
BEGIN:VEVENT
DTSTART;TZID=America/Chicago:20241107T173000
DTEND;TZID=America/Chicago:20241107T200000
DTSTAMP:20260424T201233
CREATED:20240822T195950Z
LAST-MODIFIED:20240822T195950Z
UID:8532-1731000600-1731009600@johnstonlionsclub.com
SUMMARY:Lion's Building  Committee Meeting
DESCRIPTION:
URL:https://johnstonlionsclub.com/event/lions-building-committee-meeting-2/
END:VEVENT
BEGIN:VEVENT
DTSTART;TZID=America/Chicago:20241110T080000
DTEND;TZID=America/Chicago:20241110T153000
DTSTAMP:20260424T201233
CREATED:20240410T160922Z
LAST-MODIFIED:20240410T160922Z
UID:8289-1731225600-1731252600@johnstonlionsclub.com
SUMMARY:Church NC
DESCRIPTION:
URL:https://johnstonlionsclub.com/event/church-nc-115/
END:VEVENT
BEGIN:VEVENT
DTSTART;TZID=America/Chicago:20241111T180000
DTEND;TZID=America/Chicago:20241111T203000
DTSTAMP:20260424T201233
CREATED:20240710T174609Z
LAST-MODIFIED:20240710T174609Z
UID:8488-1731348000-1731357000@johnstonlionsclub.com
SUMMARY:Lions Dinner Meeting
DESCRIPTION:
URL:https://johnstonlionsclub.com/event/lions-dinner-meeting-3/
CATEGORIES:Dinner Meetings
END:VEVENT
BEGIN:VEVENT
DTSTART;TZID=America/Chicago:20241112T173000
DTEND;TZID=America/Chicago:20241112T210000
DTSTAMP:20260424T201233
CREATED:20240901T144246Z
LAST-MODIFIED:20240901T144246Z
UID:8587-1731432600-1731445200@johnstonlionsclub.com
SUMMARY:Des Moines Camera Club
DESCRIPTION:
URL:https://johnstonlionsclub.com/event/des-moines-camera-club-25/
CATEGORIES:Camera Club
END:VEVENT
BEGIN:VEVENT
DTSTART;TZID=America/Chicago:20241114T140000
DTEND;TZID=America/Chicago:20241114T173000
DTSTAMP:20260424T201233
CREATED:20240415T032755Z
LAST-MODIFIED:20240709T144840Z
UID:8386-1731592800-1731605400@johnstonlionsclub.com
SUMMARY:Bingo Fundraiser 6:00-8:00pm
DESCRIPTION:
URL:https://johnstonlionsclub.com/event/lions-club-event-5/
END:VEVENT
BEGIN:VEVENT
DTSTART;TZID=America/Chicago:20241117T080000
DTEND;TZID=America/Chicago:20241117T133000
DTSTAMP:20260424T201233
CREATED:20240410T161020Z
LAST-MODIFIED:20240410T161639Z
UID:8291-1731830400-1731850200@johnstonlionsclub.com
SUMMARY:Church NC
DESCRIPTION:
URL:https://johnstonlionsclub.com/event/church-nc-116/
END:VEVENT
BEGIN:VEVENT
DTSTART;TZID=America/Chicago:20241121T180000
DTEND;TZID=America/Chicago:20241121T200000
DTSTAMP:20260424T201233
CREATED:20230818T143351Z
LAST-MODIFIED:20230818T143351Z
UID:8002-1732212000-1732219200@johnstonlionsclub.com
SUMMARY:American Legion Post 728 NC
DESCRIPTION:
URL:https://johnstonlionsclub.com/event/american-legion-post-728-nc-31/
END:VEVENT
BEGIN:VEVENT
DTSTART;TZID=America/Chicago:20241122T160000
DTEND;TZID=America/Chicago:20241122T230000
DTSTAMP:20260424T201233
CREATED:20241109T145253Z
LAST-MODIFIED:20241113T171017Z
UID:8704-1732291200-1732316400@johnstonlionsclub.com
SUMMARY:Sinovi Podrinja
DESCRIPTION:
URL:https://johnstonlionsclub.com/event/celebration/
CATEGORIES:Building Rental
END:VEVENT
BEGIN:VEVENT
DTSTART;TZID=America/Chicago:20241123T110000
DTEND;TZID=America/Chicago:20241123T170000
DTSTAMP:20260424T201233
CREATED:20241109T145151Z
LAST-MODIFIED:20241109T145151Z
UID:8702-1732359600-1732381200@johnstonlionsclub.com
SUMMARY:Celebration of Life
DESCRIPTION:
URL:https://johnstonlionsclub.com/event/celebration-of-life-3/
CATEGORIES:Building Rental
END:VEVENT
BEGIN:VEVENT
DTSTART;TZID=America/Chicago:20241124T080000
DTEND;TZID=America/Chicago:20241124T153000
DTSTAMP:20260424T201233
CREATED:20240410T161104Z
LAST-MODIFIED:20240410T161104Z
UID:8293-1732435200-1732462200@johnstonlionsclub.com
SUMMARY:Church NC
DESCRIPTION:
URL:https://johnstonlionsclub.com/event/church-nc-117/
END:VEVENT
BEGIN:VEVENT
DTSTART;TZID=America/Chicago:20241125T180000
DTEND;TZID=America/Chicago:20241125T203000
DTSTAMP:20260424T201233
CREATED:20241012T154532Z
LAST-MODIFIED:20241012T155109Z
UID:8662-1732557600-1732566600@johnstonlionsclub.com
SUMMARY:Lions Club Board Meeting
DESCRIPTION:
URL:https://johnstonlionsclub.com/event/lions-club-board-meeting-3/
CATEGORIES:Board Meetings
END:VEVENT
BEGIN:VEVENT
DTSTART;TZID=America/Chicago:20241126T180000
DTEND;TZID=America/Chicago:20241126T203000
DTSTAMP:20260424T201233
CREATED:20240603T215124Z
LAST-MODIFIED:20240603T215124Z
UID:8422-1732644000-1732653000@johnstonlionsclub.com
SUMMARY:Cub Scout Pack 244 Meeting
DESCRIPTION:
URL:https://johnstonlionsclub.com/event/cub-scout-pack-244-meeting-8/
END:VEVENT
BEGIN:VEVENT
DTSTART;TZID=America/Chicago:20241128T100000
DTEND;TZID=America/Chicago:20241128T210000
DTSTAMP:20260424T201233
CREATED:20240419T001726Z
LAST-MODIFIED:20240419T001726Z
UID:8392-1732788000-1732827600@johnstonlionsclub.com
SUMMARY:Church of Christ Meeting
DESCRIPTION:
URL:https://johnstonlionsclub.com/event/church-of-christ-meeting-2/
END:VEVENT
BEGIN:VEVENT
DTSTART;TZID=America/Chicago:20241129T100000
DTEND;TZID=America/Chicago:20241129T190000
DTSTAMP:20260424T201233
CREATED:20240419T001802Z
LAST-MODIFIED:20240419T001802Z
UID:8394-1732874400-1732906800@johnstonlionsclub.com
SUMMARY:Church of Christ Meeting
DESCRIPTION:
URL:https://johnstonlionsclub.com/event/church-of-christ-meeting-3/
END:VEVENT
END:VCALENDAR