BEGIN:VCALENDAR
VERSION:2.0
PRODID:-//Johnston Lions Club and Foundation - ECPv6.15.20//NONSGML v1.0//EN
CALSCALE:GREGORIAN
METHOD:PUBLISH
X-WR-CALNAME:Johnston Lions Club and Foundation
X-ORIGINAL-URL:https://johnstonlionsclub.com
X-WR-CALDESC:Events for Johnston Lions Club and Foundation
REFRESH-INTERVAL;VALUE=DURATION:PT1H
X-Robots-Tag:noindex
X-PUBLISHED-TTL:PT1H
BEGIN:VTIMEZONE
TZID:America/Chicago
BEGIN:DAYLIGHT
TZOFFSETFROM:-0600
TZOFFSETTO:-0500
TZNAME:CDT
DTSTART:20230312T080000
END:DAYLIGHT
BEGIN:STANDARD
TZOFFSETFROM:-0500
TZOFFSETTO:-0600
TZNAME:CST
DTSTART:20231105T070000
END:STANDARD
BEGIN:DAYLIGHT
TZOFFSETFROM:-0600
TZOFFSETTO:-0500
TZNAME:CDT
DTSTART:20240310T080000
END:DAYLIGHT
BEGIN:STANDARD
TZOFFSETFROM:-0500
TZOFFSETTO:-0600
TZNAME:CST
DTSTART:20241103T070000
END:STANDARD
BEGIN:DAYLIGHT
TZOFFSETFROM:-0600
TZOFFSETTO:-0500
TZNAME:CDT
DTSTART:20250309T080000
END:DAYLIGHT
BEGIN:STANDARD
TZOFFSETFROM:-0500
TZOFFSETTO:-0600
TZNAME:CST
DTSTART:20251102T070000
END:STANDARD
END:VTIMEZONE
BEGIN:VEVENT
DTSTART;TZID=America/Chicago:20241001T173000
DTEND;TZID=America/Chicago:20241001T210000
DTSTAMP:20260424T213221
CREATED:20240901T144049Z
LAST-MODIFIED:20240901T144049Z
UID:8581-1727803800-1727816400@johnstonlionsclub.com
SUMMARY:Des Moines Camera Club
DESCRIPTION:
URL:https://johnstonlionsclub.com/event/des-moines-camera-club-22/
CATEGORIES:Camera Club
END:VEVENT
BEGIN:VEVENT
DTSTART;TZID=America/Chicago:20241002T173000
DTEND;TZID=America/Chicago:20241002T220000
DTSTAMP:20260424T213221
CREATED:20240830T183747Z
LAST-MODIFIED:20240830T183747Z
UID:8574-1727890200-1727906400@johnstonlionsclub.com
SUMMARY:Blake Fundraiser
DESCRIPTION:
URL:https://johnstonlionsclub.com/event/blake-fundraiser/
END:VEVENT
BEGIN:VEVENT
DTSTART;TZID=America/Chicago:20241006T080000
DTEND;TZID=America/Chicago:20241006T133000
DTSTAMP:20260424T213221
CREATED:20240410T160619Z
LAST-MODIFIED:20240410T160619Z
UID:8279-1728201600-1728221400@johnstonlionsclub.com
SUMMARY:Church NC
DESCRIPTION:
URL:https://johnstonlionsclub.com/event/church-nc-110/
END:VEVENT
BEGIN:VEVENT
DTSTART;TZID=America/Chicago:20241008T173000
DTEND;TZID=America/Chicago:20241008T210000
DTSTAMP:20260424T213221
CREATED:20240901T144122Z
LAST-MODIFIED:20240901T144122Z
UID:8583-1728408600-1728421200@johnstonlionsclub.com
SUMMARY:Des Moines Camera Club
DESCRIPTION:
URL:https://johnstonlionsclub.com/event/des-moines-camera-club-23/
CATEGORIES:Camera Club
END:VEVENT
BEGIN:VEVENT
DTSTART;TZID=America/Chicago:20241010T140000
DTEND;TZID=America/Chicago:20241010T173000
DTSTAMP:20260424T213221
CREATED:20240415T032712Z
LAST-MODIFIED:20240709T144716Z
UID:8384-1728568800-1728581400@johnstonlionsclub.com
SUMMARY:Bingo Fundraiser 6:00-8:00pm
DESCRIPTION:
URL:https://johnstonlionsclub.com/event/lions-club-event-4/
END:VEVENT
BEGIN:VEVENT
DTSTART;TZID=America/Chicago:20241011T190000
DTEND;TZID=America/Chicago:20241011T235900
DTSTAMP:20260424T213221
CREATED:20240911T011128Z
LAST-MODIFIED:20240917T195215Z
UID:8614-1728673200-1728691140@johnstonlionsclub.com
SUMMARY:National Sixty Born Association Convention Welcome-Party
DESCRIPTION:
URL:https://johnstonlionsclub.com/event/national-sixty-born-association-convention-pre-party/
CATEGORIES:Building Rental
END:VEVENT
BEGIN:VEVENT
DTSTART;TZID=America/Chicago:20241012T080000
DTEND;TZID=America/Chicago:20241012T140000
DTSTAMP:20260424T213221
CREATED:20231117T172532Z
LAST-MODIFIED:20231117T172532Z
UID:8077-1728720000-1728741600@johnstonlionsclub.com
SUMMARY:Hawkeye Knife Club
DESCRIPTION:
URL:https://johnstonlionsclub.com/event/hawkeye-knife-club-11/
END:VEVENT
BEGIN:VEVENT
DTSTART;TZID=America/Chicago:20241012T160000
DTEND;TZID=America/Chicago:20241012T230000
DTSTAMP:20260424T213221
CREATED:20240826T012159Z
LAST-MODIFIED:20240826T012159Z
UID:8541-1728748800-1728774000@johnstonlionsclub.com
SUMMARY:National Sixty Born Association in America Convention
DESCRIPTION:
URL:https://johnstonlionsclub.com/event/national-sixty-born-association-in-america-convention/
END:VEVENT
BEGIN:VEVENT
DTSTART;TZID=America/Chicago:20241013T080000
DTEND;TZID=America/Chicago:20241013T153000
DTSTAMP:20260424T213221
CREATED:20240410T160655Z
LAST-MODIFIED:20240410T160655Z
UID:8281-1728806400-1728833400@johnstonlionsclub.com
SUMMARY:Church NC
DESCRIPTION:
URL:https://johnstonlionsclub.com/event/church-nc-111/
END:VEVENT
BEGIN:VEVENT
DTSTART;TZID=America/Chicago:20241013T173000
DTEND;TZID=America/Chicago:20241013T213000
DTSTAMP:20260424T213221
CREATED:20240919T164501Z
LAST-MODIFIED:20240919T164501Z
UID:8626-1728840600-1728855000@johnstonlionsclub.com
SUMMARY:National Sixty Born Association in America Cookout
DESCRIPTION:
URL:https://johnstonlionsclub.com/event/national-sixty-born-association-in-america-cookout/
CATEGORIES:Building Rental
END:VEVENT
BEGIN:VEVENT
DTSTART;TZID=America/Chicago:20241014T180000
DTEND;TZID=America/Chicago:20241014T203000
DTSTAMP:20260424T213221
CREATED:20240710T174452Z
LAST-MODIFIED:20240710T174452Z
UID:8486-1728928800-1728937800@johnstonlionsclub.com
SUMMARY:Lions Dinner Meeting
DESCRIPTION:
URL:https://johnstonlionsclub.com/event/lions-dinner-meeting-2/
CATEGORIES:Dinner Meetings
END:VEVENT
BEGIN:VEVENT
DTSTART;TZID=America/Chicago:20241015T080000
DTEND;TZID=America/Chicago:20241016T170000
DTSTAMP:20260424T213221
CREATED:20241002T212005Z
LAST-MODIFIED:20241002T212005Z
UID:8655-1728979200-1729098000@johnstonlionsclub.com
SUMMARY:Tree Removal
DESCRIPTION:
URL:https://johnstonlionsclub.com/event/tree-removal/
CATEGORIES:Building Committee
END:VEVENT
BEGIN:VEVENT
DTSTART;TZID=America/Chicago:20241017T180000
DTEND;TZID=America/Chicago:20241017T200000
DTSTAMP:20260424T213221
CREATED:20230818T142945Z
LAST-MODIFIED:20230818T142945Z
UID:7996-1729188000-1729195200@johnstonlionsclub.com
SUMMARY:American Legion Post 728 NC
DESCRIPTION:
URL:https://johnstonlionsclub.com/event/american-legion-post-728-nc-28/
END:VEVENT
BEGIN:VEVENT
DTSTART;TZID=America/Chicago:20241019T080000
DTEND;TZID=America/Chicago:20241019T170000
DTSTAMP:20260424T213221
CREATED:20240402T232803Z
LAST-MODIFIED:20240402T232803Z
UID:8239-1729324800-1729357200@johnstonlionsclub.com
SUMMARY:Iowa Military Collectors
DESCRIPTION:
URL:https://johnstonlionsclub.com/event/iowa-military-collectors-4/
END:VEVENT
BEGIN:VEVENT
DTSTART;TZID=America/Chicago:20241020T080000
DTEND;TZID=America/Chicago:20241020T133000
DTSTAMP:20260424T213221
CREATED:20240410T160731Z
LAST-MODIFIED:20240410T160731Z
UID:8283-1729411200-1729431000@johnstonlionsclub.com
SUMMARY:Church NC
DESCRIPTION:
URL:https://johnstonlionsclub.com/event/church-nc-112/
END:VEVENT
BEGIN:VEVENT
DTSTART;TZID=America/Chicago:20241022T180000
DTEND;TZID=America/Chicago:20241022T203000
DTSTAMP:20260424T213221
CREATED:20240603T215041Z
LAST-MODIFIED:20240603T215041Z
UID:8420-1729620000-1729629000@johnstonlionsclub.com
SUMMARY:Cub Scout Pack 244 Meeting
DESCRIPTION:
URL:https://johnstonlionsclub.com/event/cub-scout-pack-244-meeting-6/
END:VEVENT
BEGIN:VEVENT
DTSTART;TZID=America/Chicago:20241027T080000
DTEND;TZID=America/Chicago:20241027T153000
DTSTAMP:20260424T213221
CREATED:20240410T160805Z
LAST-MODIFIED:20240410T160805Z
UID:8285-1730016000-1730043000@johnstonlionsclub.com
SUMMARY:Church NC
DESCRIPTION:
URL:https://johnstonlionsclub.com/event/church-nc-113/
END:VEVENT
BEGIN:VEVENT
DTSTART;TZID=America/Chicago:20241028T180000
DTEND;TZID=America/Chicago:20241028T203000
DTSTAMP:20260424T213221
CREATED:20241012T154450Z
LAST-MODIFIED:20241012T154450Z
UID:8660-1730138400-1730147400@johnstonlionsclub.com
SUMMARY:Lions Club Board Meeting
DESCRIPTION:
URL:https://johnstonlionsclub.com/event/lions-club-board-meeting-2/
CATEGORIES:Board Meetings
END:VEVENT
BEGIN:VEVENT
DTSTART;TZID=America/Chicago:20241030T170000
DTEND;TZID=America/Chicago:20241030T190000
DTSTAMP:20260424T213221
CREATED:20241029T011238Z
LAST-MODIFIED:20241029T174104Z
UID:8616-1730307600-1730314800@johnstonlionsclub.com
SUMMARY:Cancelled -  Trunk or Treat
DESCRIPTION:
URL:https://johnstonlionsclub.com/event/trunk-or-treat-2/
CATEGORIES:Annual Events
END:VEVENT
END:VCALENDAR