BEGIN:VCALENDAR
VERSION:2.0
PRODID:-//Johnston Lions Club and Foundation - ECPv6.15.20//NONSGML v1.0//EN
CALSCALE:GREGORIAN
METHOD:PUBLISH
X-ORIGINAL-URL:https://johnstonlionsclub.com
X-WR-CALDESC:Events for Johnston Lions Club and Foundation
REFRESH-INTERVAL;VALUE=DURATION:PT1H
X-Robots-Tag:noindex
X-PUBLISHED-TTL:PT1H
BEGIN:VTIMEZONE
TZID:America/Chicago
BEGIN:DAYLIGHT
TZOFFSETFROM:-0600
TZOFFSETTO:-0500
TZNAME:CDT
DTSTART:20230312T080000
END:DAYLIGHT
BEGIN:STANDARD
TZOFFSETFROM:-0500
TZOFFSETTO:-0600
TZNAME:CST
DTSTART:20231105T070000
END:STANDARD
BEGIN:DAYLIGHT
TZOFFSETFROM:-0600
TZOFFSETTO:-0500
TZNAME:CDT
DTSTART:20240310T080000
END:DAYLIGHT
BEGIN:STANDARD
TZOFFSETFROM:-0500
TZOFFSETTO:-0600
TZNAME:CST
DTSTART:20241103T070000
END:STANDARD
BEGIN:DAYLIGHT
TZOFFSETFROM:-0600
TZOFFSETTO:-0500
TZNAME:CDT
DTSTART:20250309T080000
END:DAYLIGHT
BEGIN:STANDARD
TZOFFSETFROM:-0500
TZOFFSETTO:-0600
TZNAME:CST
DTSTART:20251102T070000
END:STANDARD
END:VTIMEZONE
BEGIN:VEVENT
DTSTART;TZID=America/Chicago:20240901T080000
DTEND;TZID=America/Chicago:20240901T133000
DTSTAMP:20260424T225559
CREATED:20240410T160337Z
LAST-MODIFIED:20240410T160337Z
UID:8269-1725177600-1725197400@johnstonlionsclub.com
SUMMARY:Church NC
DESCRIPTION:
URL:https://johnstonlionsclub.com/event/church-nc-97/
END:VEVENT
BEGIN:VEVENT
DTSTART;TZID=America/Chicago:20240903T173000
DTEND;TZID=America/Chicago:20240903T210000
DTSTAMP:20260424T225559
CREATED:20240901T143848Z
LAST-MODIFIED:20240901T143848Z
UID:8577-1725384600-1725397200@johnstonlionsclub.com
SUMMARY:Des Moines Camera Club
DESCRIPTION:
URL:https://johnstonlionsclub.com/event/des-moines-camera-club-20/
CATEGORIES:Camera Club
END:VEVENT
BEGIN:VEVENT
DTSTART;TZID=America/Chicago:20240908T080000
DTEND;TZID=America/Chicago:20240908T153000
DTSTAMP:20260424T225559
CREATED:20240410T160405Z
LAST-MODIFIED:20240410T160405Z
UID:8271-1725782400-1725809400@johnstonlionsclub.com
SUMMARY:Church NC
DESCRIPTION:
URL:https://johnstonlionsclub.com/event/church-nc-101/
END:VEVENT
BEGIN:VEVENT
DTSTART;TZID=America/Chicago:20240909T180000
DTEND;TZID=America/Chicago:20240909T203000
DTSTAMP:20260424T225559
CREATED:20240710T174311Z
LAST-MODIFIED:20240710T174311Z
UID:8484-1725904800-1725913800@johnstonlionsclub.com
SUMMARY:Lions Dinner Meeting
DESCRIPTION:
URL:https://johnstonlionsclub.com/event/lions-dinner-meeting/
CATEGORIES:Dinner Meetings
END:VEVENT
BEGIN:VEVENT
DTSTART;TZID=America/Chicago:20240910T173000
DTEND;TZID=America/Chicago:20240910T210000
DTSTAMP:20260424T225559
CREATED:20240901T143938Z
LAST-MODIFIED:20240901T143938Z
UID:8579-1725989400-1726002000@johnstonlionsclub.com
SUMMARY:Des Moines Camera Club
DESCRIPTION:
URL:https://johnstonlionsclub.com/event/des-moines-camera-club-21/
CATEGORIES:Camera Club
END:VEVENT
BEGIN:VEVENT
DTSTART;TZID=America/Chicago:20240912T140000
DTEND;TZID=America/Chicago:20240912T173000
DTSTAMP:20260424T225559
CREATED:20240415T032608Z
LAST-MODIFIED:20240709T144629Z
UID:8382-1726149600-1726162200@johnstonlionsclub.com
SUMMARY:Bingo Fundraiser 6:00-8:00pm
DESCRIPTION:
URL:https://johnstonlionsclub.com/event/lions-club-event-3/
END:VEVENT
BEGIN:VEVENT
DTSTART;VALUE=DATE:20240914
DTEND;VALUE=DATE:20240915
DTSTAMP:20260424T225559
CREATED:20240725T212254Z
LAST-MODIFIED:20240725T212315Z
UID:8510-1726272000-1726358399@johnstonlionsclub.com
SUMMARY:Celebration of Life
DESCRIPTION:Member rate
URL:https://johnstonlionsclub.com/event/celebration-of-life-2/
END:VEVENT
BEGIN:VEVENT
DTSTART;TZID=America/Chicago:20240915T080000
DTEND;TZID=America/Chicago:20240915T133000
DTSTAMP:20260424T225559
CREATED:20240410T160439Z
LAST-MODIFIED:20240410T160439Z
UID:8273-1726387200-1726407000@johnstonlionsclub.com
SUMMARY:Church NC
DESCRIPTION:
URL:https://johnstonlionsclub.com/event/church-nc-107/
END:VEVENT
BEGIN:VEVENT
DTSTART;TZID=America/Chicago:20240919T180000
DTEND;TZID=America/Chicago:20240919T200000
DTSTAMP:20260424T225559
CREATED:20230818T142806Z
LAST-MODIFIED:20230818T142806Z
UID:7992-1726768800-1726776000@johnstonlionsclub.com
SUMMARY:American Legion Post 728 NC
DESCRIPTION:
URL:https://johnstonlionsclub.com/event/american-legion-post-728-nc-26/
END:VEVENT
BEGIN:VEVENT
DTSTART;TZID=America/Chicago:20240920T150000
DTEND;TZID=America/Chicago:20240920T210000
DTSTAMP:20260424T225559
CREATED:20231208T174007Z
LAST-MODIFIED:20231227T192454Z
UID:8094-1726844400-1726866000@johnstonlionsclub.com
SUMMARY:Johnston Class of 1964 Reunion
DESCRIPTION:
URL:https://johnstonlionsclub.com/event/mcpherson-gathering-2/
END:VEVENT
BEGIN:VEVENT
DTSTART;VALUE=DATE:20240921
DTEND;VALUE=DATE:20240922
DTSTAMP:20260424T225559
CREATED:20240813T034626Z
LAST-MODIFIED:20240823T201802Z
UID:8525-1726876800-1726963199@johnstonlionsclub.com
SUMMARY:Baptism Reception
DESCRIPTION:
URL:https://johnstonlionsclub.com/event/baptism/
END:VEVENT
BEGIN:VEVENT
DTSTART;TZID=America/Chicago:20240922T080000
DTEND;TZID=America/Chicago:20240922T153000
DTSTAMP:20260424T225559
CREATED:20240410T160508Z
LAST-MODIFIED:20240410T160508Z
UID:8275-1726992000-1727019000@johnstonlionsclub.com
SUMMARY:Church NC
DESCRIPTION:
URL:https://johnstonlionsclub.com/event/church-nc-108/
END:VEVENT
BEGIN:VEVENT
DTSTART;TZID=America/Chicago:20240924T180000
DTEND;TZID=America/Chicago:20240924T203000
DTSTAMP:20260424T225559
CREATED:20240603T214947Z
LAST-MODIFIED:20240603T214947Z
UID:8418-1727200800-1727209800@johnstonlionsclub.com
SUMMARY:Cub Scout Pack 244 Meeting
DESCRIPTION:
URL:https://johnstonlionsclub.com/event/cub-scout-pack-244-meeting-5/
END:VEVENT
BEGIN:VEVENT
DTSTART;VALUE=DATE:20240928
DTEND;VALUE=DATE:20240929
DTSTAMP:20260424T225559
CREATED:20240519T001950Z
LAST-MODIFIED:20240519T001950Z
UID:8409-1727481600-1727567999@johnstonlionsclub.com
SUMMARY:Sixty Born Tougheyee in the America
DESCRIPTION:
URL:https://johnstonlionsclub.com/event/sixty-born-tougheyee-in-the-america/
END:VEVENT
BEGIN:VEVENT
DTSTART;TZID=America/Chicago:20240929T080000
DTEND;TZID=America/Chicago:20240929T133000
DTSTAMP:20260424T225559
CREATED:20240410T160545Z
LAST-MODIFIED:20240410T160545Z
UID:8277-1727596800-1727616600@johnstonlionsclub.com
SUMMARY:Church NC
DESCRIPTION:
URL:https://johnstonlionsclub.com/event/church-nc-109/
END:VEVENT
END:VCALENDAR