BEGIN:VCALENDAR
VERSION:2.0
PRODID:-//Johnston Lions Club and Foundation - ECPv6.15.20//NONSGML v1.0//EN
CALSCALE:GREGORIAN
METHOD:PUBLISH
X-WR-CALNAME:Johnston Lions Club and Foundation
X-ORIGINAL-URL:https://johnstonlionsclub.com
X-WR-CALDESC:Events for Johnston Lions Club and Foundation
REFRESH-INTERVAL;VALUE=DURATION:PT1H
X-Robots-Tag:noindex
X-PUBLISHED-TTL:PT1H
BEGIN:VTIMEZONE
TZID:America/Chicago
BEGIN:DAYLIGHT
TZOFFSETFROM:-0600
TZOFFSETTO:-0500
TZNAME:CDT
DTSTART:20230312T080000
END:DAYLIGHT
BEGIN:STANDARD
TZOFFSETFROM:-0500
TZOFFSETTO:-0600
TZNAME:CST
DTSTART:20231105T070000
END:STANDARD
BEGIN:DAYLIGHT
TZOFFSETFROM:-0600
TZOFFSETTO:-0500
TZNAME:CDT
DTSTART:20240310T080000
END:DAYLIGHT
BEGIN:STANDARD
TZOFFSETFROM:-0500
TZOFFSETTO:-0600
TZNAME:CST
DTSTART:20241103T070000
END:STANDARD
BEGIN:DAYLIGHT
TZOFFSETFROM:-0600
TZOFFSETTO:-0500
TZNAME:CDT
DTSTART:20250309T080000
END:DAYLIGHT
BEGIN:STANDARD
TZOFFSETFROM:-0500
TZOFFSETTO:-0600
TZNAME:CST
DTSTART:20251102T070000
END:STANDARD
END:VTIMEZONE
BEGIN:VTIMEZONE
TZID:America/Chicago
BEGIN:DAYLIGHT
TZOFFSETFROM:-0600
TZOFFSETTO:-0500
TZNAME:CDT
DTSTART:20230312T080000
END:DAYLIGHT
BEGIN:STANDARD
TZOFFSETFROM:-0500
TZOFFSETTO:-0600
TZNAME:CST
DTSTART:20231105T070000
END:STANDARD
BEGIN:DAYLIGHT
TZOFFSETFROM:-0600
TZOFFSETTO:-0500
TZNAME:CDT
DTSTART:20240310T080000
END:DAYLIGHT
BEGIN:STANDARD
TZOFFSETFROM:-0500
TZOFFSETTO:-0600
TZNAME:CST
DTSTART:20241103T070000
END:STANDARD
BEGIN:DAYLIGHT
TZOFFSETFROM:-0600
TZOFFSETTO:-0500
TZNAME:CDT
DTSTART:20250309T080000
END:DAYLIGHT
BEGIN:STANDARD
TZOFFSETFROM:-0500
TZOFFSETTO:-0600
TZNAME:CST
DTSTART:20251102T070000
END:STANDARD
END:VTIMEZONE
BEGIN:VEVENT
DTSTART;TZID=America/Chicago:20240429T080000
DTEND;TZID=America/Chicago:20240501T170000
DTSTAMP:20260425T052429
CREATED:20240125T045823Z
LAST-MODIFIED:20240125T045823Z
UID:8154-1714377600-1714582800@johnstonlionsclub.com
SUMMARY:Book Sale Set-up\, Donations Acepted until 4:00pm
DESCRIPTION:
URL:https://johnstonlionsclub.com/event/book-sale-set-up-donations-acepted-until-400pm/
END:VEVENT
BEGIN:VEVENT
DTSTART;TZID=America/Chicago:20240502T160000
DTEND;TZID=America/Chicago:20240502T200000
DTSTAMP:20260425T052429
CREATED:20240125T050036Z
LAST-MODIFIED:20240125T050036Z
UID:8156-1714665600-1714680000@johnstonlionsclub.com
SUMMARY:Book Sale Preview\, $5.00 Admission
DESCRIPTION:
URL:https://johnstonlionsclub.com/event/book-sale-preview-5-00-admission/
END:VEVENT
BEGIN:VEVENT
DTSTART;TZID=America/Chicago:20240503T080000
DTEND;TZID=America/Chicago:20240503T190000
DTSTAMP:20260425T052429
CREATED:20240125T050205Z
LAST-MODIFIED:20240125T050205Z
UID:8158-1714723200-1714762800@johnstonlionsclub.com
SUMMARY:Book Sale\, Free Admission
DESCRIPTION:
URL:https://johnstonlionsclub.com/event/book-sale-free-admission/
END:VEVENT
BEGIN:VEVENT
DTSTART;TZID=America/Chicago:20240504T080000
DTEND;TZID=America/Chicago:20240504T110000
DTSTAMP:20260425T052429
CREATED:20240125T050353Z
LAST-MODIFIED:20240125T050353Z
UID:8160-1714809600-1714820400@johnstonlionsclub.com
SUMMARY:Book Sale\, Free Admission\, $3.00 Bag Sale
DESCRIPTION:
URL:https://johnstonlionsclub.com/event/book-sale-free-admission-3-00-bag-sale/
END:VEVENT
BEGIN:VEVENT
DTSTART;TZID=America/Chicago:20240505T080000
DTEND;TZID=America/Chicago:20240505T133000
DTSTAMP:20260425T052429
CREATED:20230805T160001Z
LAST-MODIFIED:20230805T160001Z
UID:7918-1714896000-1714915800@johnstonlionsclub.com
SUMMARY:Church NC
DESCRIPTION:
URL:https://johnstonlionsclub.com/event/church-nc-91/
END:VEVENT
BEGIN:VEVENT
DTSTART;TZID=America/Chicago:20240506T180000
DTEND;TZID=America/Chicago:20240506T210000
DTSTAMP:20260425T052429
CREATED:20240424T034604Z
LAST-MODIFIED:20240424T034604Z
UID:8398-1715018400-1715029200@johnstonlionsclub.com
SUMMARY:Lion's Board Meeting
DESCRIPTION:
URL:https://johnstonlionsclub.com/event/lions-board-meeting/
END:VEVENT
BEGIN:VEVENT
DTSTART;TZID=America/Chicago:20240507T080000
DTEND;TZID=America/Chicago:20240507T170000
DTSTAMP:20260425T052429
CREATED:20230807T183110Z
LAST-MODIFIED:20230807T183110Z
UID:7956-1715068800-1715101200@johnstonlionsclub.com
SUMMARY:Des Moines Camera Club
DESCRIPTION:
URL:https://johnstonlionsclub.com/event/des-moines-camera-club-18/
END:VEVENT
BEGIN:VEVENT
DTSTART;TZID=America/Chicago:20240511T080000
DTEND;TZID=America/Chicago:20240511T140000
DTSTAMP:20260425T052429
CREATED:20240301T175109Z
LAST-MODIFIED:20240301T175109Z
UID:8221-1715414400-1715436000@johnstonlionsclub.com
SUMMARY:Clay Wedding Shower
DESCRIPTION:
URL:https://johnstonlionsclub.com/event/clay-wedding-shower/
END:VEVENT
BEGIN:VEVENT
DTSTART;TZID=America/Chicago:20240511T153000
DTEND;TZID=America/Chicago:20240511T213000
DTSTAMP:20260425T052429
CREATED:20230526T172100Z
LAST-MODIFIED:20230609T145932Z
UID:7807-1715441400-1715463000@johnstonlionsclub.com
SUMMARY:Moorman Tripletes Graduation Party
DESCRIPTION:
URL:https://johnstonlionsclub.com/event/moorman-graduation-tentitive/
END:VEVENT
BEGIN:VEVENT
DTSTART;TZID=America/Chicago:20240512T080000
DTEND;TZID=America/Chicago:20240512T153000
DTSTAMP:20260425T052429
CREATED:20140405T134912Z
LAST-MODIFIED:20140405T134912Z
UID:7384-1715500800-1715527800@johnstonlionsclub.com
SUMMARY:Church NC
DESCRIPTION:Growing in Faith together.
URL:https://johnstonlionsclub.com/event/church-3-2019-08-11-2024-05-12/
LOCATION:Church 2nd\, Johnston\, IA\, United States
CATEGORIES:Church 2nd
ATTACH;FMTTYPE=image/gif:https://johnstonlionsclub.com/wp-content/uploads/2014/04/chrch1.gif
END:VEVENT
BEGIN:VEVENT
DTSTART;TZID=America/Chicago:20240513T180000
DTEND;TZID=America/Chicago:20240513T210000
DTSTAMP:20260425T052429
CREATED:20151030T203525Z
LAST-MODIFIED:20151030T203525Z
UID:7385-1715623200-1715634000@johnstonlionsclub.com
SUMMARY:Lions Dinner
DESCRIPTION:
URL:https://johnstonlionsclub.com/event/lions-dinner-nc-2019-08-12-2024-05-13/
LOCATION:Unnamed Venue\, IA\, United States
CATEGORIES:Dinner Meetings
END:VEVENT
BEGIN:VEVENT
DTSTART;TZID=America/Chicago:20240514T173000
DTEND;TZID=America/Chicago:20240514T213000
DTSTAMP:20260425T052429
CREATED:20230807T183141Z
LAST-MODIFIED:20230807T183141Z
UID:7958-1715707800-1715722200@johnstonlionsclub.com
SUMMARY:Des Moines Camera Club
DESCRIPTION:
URL:https://johnstonlionsclub.com/event/des-moines-camera-club-19/
END:VEVENT
BEGIN:VEVENT
DTSTART;TZID=America/Chicago:20240516T180000
DTEND;TZID=America/Chicago:20240516T200000
DTSTAMP:20260425T052429
CREATED:20230818T142028Z
LAST-MODIFIED:20230818T142028Z
UID:7981-1715882400-1715889600@johnstonlionsclub.com
SUMMARY:American Legion Post 728 NC
DESCRIPTION:
URL:https://johnstonlionsclub.com/event/american-legion-post-728-nc-21/
END:VEVENT
BEGIN:VEVENT
DTSTART;TZID=America/Chicago:20240517T150000
DTEND;TZID=America/Chicago:20240517T210000
DTSTAMP:20260425T052429
CREATED:20240403T133842Z
LAST-MODIFIED:20240403T133842Z
UID:8241-1715958000-1715979600@johnstonlionsclub.com
SUMMARY:Wiegel Graduation
DESCRIPTION:
URL:https://johnstonlionsclub.com/event/wiegel-graduation/
END:VEVENT
BEGIN:VEVENT
DTSTART;TZID=America/Chicago:20240518T153000
DTEND;TZID=America/Chicago:20240518T223000
DTSTAMP:20260425T052429
CREATED:20230530T205245Z
LAST-MODIFIED:20230530T205245Z
UID:7812-1716046200-1716071400@johnstonlionsclub.com
SUMMARY:PHI VO Family
DESCRIPTION:
URL:https://johnstonlionsclub.com/event/phi-vo-family/
END:VEVENT
BEGIN:VEVENT
DTSTART;TZID=America/Chicago:20240519T080000
DTEND;TZID=America/Chicago:20240519T133000
DTSTAMP:20260425T052429
CREATED:20230805T160030Z
LAST-MODIFIED:20230805T160030Z
UID:7920-1716105600-1716125400@johnstonlionsclub.com
SUMMARY:Church NC
DESCRIPTION:
URL:https://johnstonlionsclub.com/event/church-nc-92/
END:VEVENT
BEGIN:VEVENT
DTSTART;TZID=America/Chicago:20240519T143000
DTEND;TZID=America/Chicago:20240519T203000
DTSTAMP:20260425T052429
CREATED:20230805T145532Z
LAST-MODIFIED:20230805T145532Z
UID:7892-1716129000-1716150600@johnstonlionsclub.com
SUMMARY:Lucas / MacGregor Graduation
DESCRIPTION:
URL:https://johnstonlionsclub.com/event/lucas-macgregor-graduation/
END:VEVENT
BEGIN:VEVENT
DTSTART;TZID=America/Chicago:20240522T183000
DTEND;TZID=America/Chicago:20240522T213000
DTSTAMP:20260425T052429
CREATED:20240514T142857Z
LAST-MODIFIED:20240514T142949Z
UID:8407-1716402600-1716413400@johnstonlionsclub.com
SUMMARY:Lion's Club Committee Meeting
DESCRIPTION:Per Sandy Briggs
URL:https://johnstonlionsclub.com/event/lions-club-committee-meeting/
END:VEVENT
BEGIN:VEVENT
DTSTART;TZID=America/Chicago:20240523T163000
DTEND;TZID=America/Chicago:20240523T203000
DTSTAMP:20260425T052429
CREATED:20240122T181355Z
LAST-MODIFIED:20240124T180411Z
UID:8136-1716481800-1716496200@johnstonlionsclub.com
SUMMARY:As We Grow Clidcare and Preschool Graduation
DESCRIPTION:
URL:https://johnstonlionsclub.com/event/as-we-grow-clidcare-and-preschool-graduation-tentitive/
END:VEVENT
BEGIN:VEVENT
DTSTART;TZID=America/Chicago:20240525T080000
DTEND;TZID=America/Chicago:20240525T143000
DTSTAMP:20260425T052429
CREATED:20230619T215623Z
LAST-MODIFIED:20230619T215623Z
UID:7829-1716624000-1716647400@johnstonlionsclub.com
SUMMARY:Bergmann Graduation
DESCRIPTION:
URL:https://johnstonlionsclub.com/event/bergmann-graduation/
END:VEVENT
BEGIN:VEVENT
DTSTART;TZID=America/Chicago:20240525T160000
DTEND;TZID=America/Chicago:20240525T220000
DTSTAMP:20260425T052429
CREATED:20240120T232357Z
LAST-MODIFIED:20240120T232357Z
UID:8134-1716652800-1716674400@johnstonlionsclub.com
SUMMARY:Suvic Graduation
DESCRIPTION:
URL:https://johnstonlionsclub.com/event/suvic-graduation/
END:VEVENT
BEGIN:VEVENT
DTSTART;TZID=America/Chicago:20240526T080000
DTEND;TZID=America/Chicago:20240526T153000
DTSTAMP:20260425T052429
CREATED:20140404T193902Z
LAST-MODIFIED:20140404T193902Z
UID:7399-1716710400-1716737400@johnstonlionsclub.com
SUMMARY:Church NC
DESCRIPTION:Growing in Faith together.
URL:https://johnstonlionsclub.com/event/church-4th-2019-08-25-2024-05-26/
LOCATION:Church 4th\, Johnston\, IA\, United States
CATEGORIES:Church 4th
ATTACH;FMTTYPE=image/gif:https://johnstonlionsclub.com/wp-content/uploads/2014/04/chrch1.gif
END:VEVENT
BEGIN:VEVENT
DTSTART;TZID=America/Chicago:20240526T170000
DTEND;TZID=America/Chicago:20240526T230000
DTSTAMP:20260425T052429
CREATED:20240224T235555Z
LAST-MODIFIED:20240226T231006Z
UID:8216-1716742800-1716764400@johnstonlionsclub.com
SUMMARY:Akshara Graduation Party
DESCRIPTION:
URL:https://johnstonlionsclub.com/event/akshara-graduation-party-tentative/
END:VEVENT
BEGIN:VEVENT
DTSTART;TZID=America/Chicago:20240528T173000
DTEND;TZID=America/Chicago:20240528T190000
DTSTAMP:20260425T052429
CREATED:20240326T032132Z
LAST-MODIFIED:20240401T154651Z
UID:8233-1716917400-1716922800@johnstonlionsclub.com
SUMMARY:Estate and Legacy Planning
DESCRIPTION:3/25/2024
URL:https://johnstonlionsclub.com/event/estate-and-legacy-planning-tentative/
END:VEVENT
BEGIN:VEVENT
DTSTART;TZID=America/Chicago:20240529T183000
DTEND;TZID=America/Chicago:20240529T203000
DTSTAMP:20260425T052429
CREATED:20151030T204913Z
LAST-MODIFIED:20240523T031506Z
UID:7400-1717007400-1717014600@johnstonlionsclub.com
SUMMARY:Lion's Board Mtg. NC
DESCRIPTION:(4th Monday of each month) 6:30-8:30
URL:https://johnstonlionsclub.com/event/lions-board-mtg-nc-2024-05-27/
LOCATION:Unnamed Venue\, IA\, United States
CATEGORIES:Board Meetings
END:VEVENT
END:VCALENDAR