BEGIN:VCALENDAR
VERSION:2.0
PRODID:-//Johnston Lions Club and Foundation - ECPv6.15.20//NONSGML v1.0//EN
CALSCALE:GREGORIAN
METHOD:PUBLISH
X-WR-CALNAME:Johnston Lions Club and Foundation
X-ORIGINAL-URL:https://johnstonlionsclub.com
X-WR-CALDESC:Events for Johnston Lions Club and Foundation
REFRESH-INTERVAL;VALUE=DURATION:PT1H
X-Robots-Tag:noindex
X-PUBLISHED-TTL:PT1H
BEGIN:VTIMEZONE
TZID:America/Chicago
BEGIN:DAYLIGHT
TZOFFSETFROM:-0600
TZOFFSETTO:-0500
TZNAME:CDT
DTSTART:20230312T080000
END:DAYLIGHT
BEGIN:STANDARD
TZOFFSETFROM:-0500
TZOFFSETTO:-0600
TZNAME:CST
DTSTART:20231105T070000
END:STANDARD
BEGIN:DAYLIGHT
TZOFFSETFROM:-0600
TZOFFSETTO:-0500
TZNAME:CDT
DTSTART:20240310T080000
END:DAYLIGHT
BEGIN:STANDARD
TZOFFSETFROM:-0500
TZOFFSETTO:-0600
TZNAME:CST
DTSTART:20241103T070000
END:STANDARD
BEGIN:DAYLIGHT
TZOFFSETFROM:-0600
TZOFFSETTO:-0500
TZNAME:CDT
DTSTART:20250309T080000
END:DAYLIGHT
BEGIN:STANDARD
TZOFFSETFROM:-0500
TZOFFSETTO:-0600
TZNAME:CST
DTSTART:20251102T070000
END:STANDARD
END:VTIMEZONE
BEGIN:VTIMEZONE
TZID:America/Chicago
BEGIN:DAYLIGHT
TZOFFSETFROM:-0600
TZOFFSETTO:-0500
TZNAME:CDT
DTSTART:20230312T080000
END:DAYLIGHT
BEGIN:STANDARD
TZOFFSETFROM:-0500
TZOFFSETTO:-0600
TZNAME:CST
DTSTART:20231105T070000
END:STANDARD
BEGIN:DAYLIGHT
TZOFFSETFROM:-0600
TZOFFSETTO:-0500
TZNAME:CDT
DTSTART:20240310T080000
END:DAYLIGHT
BEGIN:STANDARD
TZOFFSETFROM:-0500
TZOFFSETTO:-0600
TZNAME:CST
DTSTART:20241103T070000
END:STANDARD
BEGIN:DAYLIGHT
TZOFFSETFROM:-0600
TZOFFSETTO:-0500
TZNAME:CDT
DTSTART:20250309T080000
END:DAYLIGHT
BEGIN:STANDARD
TZOFFSETFROM:-0500
TZOFFSETTO:-0600
TZNAME:CST
DTSTART:20251102T070000
END:STANDARD
END:VTIMEZONE
BEGIN:VEVENT
DTSTART;TZID=America/Chicago:20240401T180000
DTEND;TZID=America/Chicago:20240401T203000
DTSTAMP:20260425T065252
CREATED:20240328T164615Z
LAST-MODIFIED:20240328T164615Z
UID:8235-1711994400-1712003400@johnstonlionsclub.com
SUMMARY:Lion's Board
DESCRIPTION:
URL:https://johnstonlionsclub.com/event/lions-board/
END:VEVENT
BEGIN:VEVENT
DTSTART;TZID=America/Chicago:20240402T173000
DTEND;TZID=America/Chicago:20240402T213000
DTSTAMP:20260425T065252
CREATED:20230807T182943Z
LAST-MODIFIED:20230807T182943Z
UID:7952-1712079000-1712093400@johnstonlionsclub.com
SUMMARY:Des Moines Camera Club
DESCRIPTION:
URL:https://johnstonlionsclub.com/event/des-moines-camera-club-16/
END:VEVENT
BEGIN:VEVENT
DTSTART;VALUE=DATE:20240405
DTEND;VALUE=DATE:20240406
DTSTAMP:20260425T065252
CREATED:20231229T030321Z
LAST-MODIFIED:20231229T030321Z
UID:8106-1712275200-1712361599@johnstonlionsclub.com
SUMMARY:Cisneros & Mendoza Wedding Reception (Set-up)
DESCRIPTION:
URL:https://johnstonlionsclub.com/event/cisneros-mendoza-wedding-reception-set-up/
END:VEVENT
BEGIN:VEVENT
DTSTART;VALUE=DATE:20240406
DTEND;VALUE=DATE:20240407
DTSTAMP:20260425T065252
CREATED:20231229T030410Z
LAST-MODIFIED:20231229T030410Z
UID:8108-1712361600-1712447999@johnstonlionsclub.com
SUMMARY:Cisneros & Mendoza Wedding Reception
DESCRIPTION:
URL:https://johnstonlionsclub.com/event/cisneros-mendoza-wedding-reception/
END:VEVENT
BEGIN:VEVENT
DTSTART;TZID=America/Chicago:20240407T080000
DTEND;TZID=America/Chicago:20240407T133000
DTSTAMP:20260425T065252
CREATED:20230805T155823Z
LAST-MODIFIED:20230805T155823Z
UID:7914-1712476800-1712496600@johnstonlionsclub.com
SUMMARY:Church NC
DESCRIPTION:
URL:https://johnstonlionsclub.com/event/church-nc-89/
END:VEVENT
BEGIN:VEVENT
DTSTART;TZID=America/Chicago:20240408T180000
DTEND;TZID=America/Chicago:20240408T210000
DTSTAMP:20260425T065252
CREATED:20151030T203525Z
LAST-MODIFIED:20151030T203525Z
UID:7342-1712599200-1712610000@johnstonlionsclub.com
SUMMARY:Lions Dinner
DESCRIPTION:
URL:https://johnstonlionsclub.com/event/lions-dinner-nc-2019-08-12-2024-04-08/
LOCATION:Unnamed Venue\, IA\, United States
CATEGORIES:Dinner Meetings
END:VEVENT
BEGIN:VEVENT
DTSTART;TZID=America/Chicago:20240409T173000
DTEND;TZID=America/Chicago:20240409T213000
DTSTAMP:20260425T065252
CREATED:20230807T183019Z
LAST-MODIFIED:20230807T183019Z
UID:7954-1712683800-1712698200@johnstonlionsclub.com
SUMMARY:Des Moines Camera Club
DESCRIPTION:
URL:https://johnstonlionsclub.com/event/des-moines-camera-club-17/
END:VEVENT
BEGIN:VEVENT
DTSTART;TZID=America/Chicago:20240410T080000
DTEND;TZID=America/Chicago:20240412T170000
DTSTAMP:20260425T065252
CREATED:20240408T164259Z
LAST-MODIFIED:20240408T164259Z
UID:8243-1712736000-1712941200@johnstonlionsclub.com
SUMMARY:Carpet Cleaning
DESCRIPTION:
URL:https://johnstonlionsclub.com/event/carpet-cleaning-4/
END:VEVENT
BEGIN:VEVENT
DTSTART;TZID=America/Chicago:20240413T080000
DTEND;TZID=America/Chicago:20240413T140000
DTSTAMP:20260425T065252
CREATED:20240224T200516Z
LAST-MODIFIED:20240224T200516Z
UID:8210-1712995200-1713016800@johnstonlionsclub.com
SUMMARY:Baby Shower
DESCRIPTION:Scanlan
URL:https://johnstonlionsclub.com/event/baby-shower/
END:VEVENT
BEGIN:VEVENT
DTSTART;TZID=America/Chicago:20240413T160000
DTEND;TZID=America/Chicago:20240413T230000
DTSTAMP:20260425T065252
CREATED:20240124T200741Z
LAST-MODIFIED:20240216T181232Z
UID:8149-1713024000-1713049200@johnstonlionsclub.com
SUMMARY:Aspire Acadamey 80's Dance
DESCRIPTION:
URL:https://johnstonlionsclub.com/event/aspire-acadamey-80s-dance/
END:VEVENT
BEGIN:VEVENT
DTSTART;TZID=America/Chicago:20240414T080000
DTEND;TZID=America/Chicago:20240414T153000
DTSTAMP:20260425T065252
CREATED:20140405T134912Z
LAST-MODIFIED:20140405T134912Z
UID:7360-1713081600-1713108600@johnstonlionsclub.com
SUMMARY:Church NC
DESCRIPTION:Growing in Faith together.
URL:https://johnstonlionsclub.com/event/church-3-2019-08-11-2024-04-14/
LOCATION:Church 2nd\, Johnston\, IA\, United States
CATEGORIES:Church 2nd
ATTACH;FMTTYPE=image/gif:https://johnstonlionsclub.com/wp-content/uploads/2014/04/chrch1.gif
END:VEVENT
BEGIN:VEVENT
DTSTART;TZID=America/Chicago:20240418T180000
DTEND;TZID=America/Chicago:20240418T200000
DTSTAMP:20260425T065252
CREATED:20230818T141925Z
LAST-MODIFIED:20230818T141925Z
UID:7979-1713463200-1713470400@johnstonlionsclub.com
SUMMARY:American Legion Post 728 NC
DESCRIPTION:
URL:https://johnstonlionsclub.com/event/american-legion-post-728-nc-20/
END:VEVENT
BEGIN:VEVENT
DTSTART;TZID=America/Chicago:20240420T093000
DTEND;TZID=America/Chicago:20240420T133000
DTSTAMP:20260425T065252
CREATED:20240221T141105Z
LAST-MODIFIED:20240221T183455Z
UID:8207-1713605400-1713619800@johnstonlionsclub.com
SUMMARY:Johnston Democrats Workshop
DESCRIPTION:
URL:https://johnstonlionsclub.com/event/leffler-event/
END:VEVENT
BEGIN:VEVENT
DTSTART;TZID=America/Chicago:20240421T080000
DTEND;TZID=America/Chicago:20240421T133000
DTSTAMP:20260425T065252
CREATED:20230805T155904Z
LAST-MODIFIED:20230805T155904Z
UID:7916-1713686400-1713706200@johnstonlionsclub.com
SUMMARY:Church NC
DESCRIPTION:
URL:https://johnstonlionsclub.com/event/church-nc-90/
END:VEVENT
BEGIN:VEVENT
DTSTART;TZID=America/Chicago:20240422T183000
DTEND;TZID=America/Chicago:20240422T203000
DTSTAMP:20260425T065252
CREATED:20151030T204913Z
LAST-MODIFIED:20151030T204913Z
UID:7368-1713810600-1713817800@johnstonlionsclub.com
SUMMARY:Lion's Board Mtg. NC
DESCRIPTION:(4th Monday of each month) 6:30-8:30
URL:https://johnstonlionsclub.com/event/lions-board-mtg-nc-2024-04-22/
LOCATION:Unnamed Venue\, IA\, United States
CATEGORIES:Board Meetings
END:VEVENT
BEGIN:VEVENT
DTSTART;TZID=America/Chicago:20240423T190000
DTEND;TZID=America/Chicago:20240423T220000
DTSTAMP:20260425T065252
CREATED:20240423T032849Z
LAST-MODIFIED:20240423T032849Z
UID:8396-1713898800-1713909600@johnstonlionsclub.com
SUMMARY:Lion's Club Meeting
DESCRIPTION:
URL:https://johnstonlionsclub.com/event/lions-club-meeting/
END:VEVENT
BEGIN:VEVENT
DTSTART;TZID=America/Chicago:20240427T080000
DTEND;TZID=America/Chicago:20240427T140000
DTSTAMP:20260425T065252
CREATED:20231117T172414Z
LAST-MODIFIED:20231117T172414Z
UID:8073-1714204800-1714226400@johnstonlionsclub.com
SUMMARY:Hawkeye Knife Club
DESCRIPTION:
URL:https://johnstonlionsclub.com/event/hawkeye-knife-club-9/
END:VEVENT
BEGIN:VEVENT
DTSTART;TZID=America/Chicago:20240428T080000
DTEND;TZID=America/Chicago:20240428T153000
DTSTAMP:20260425T065252
CREATED:20140404T193902Z
LAST-MODIFIED:20140404T193902Z
UID:7377-1714291200-1714318200@johnstonlionsclub.com
SUMMARY:Church NC
DESCRIPTION:Growing in Faith together.
URL:https://johnstonlionsclub.com/event/church-4th-2019-08-25-2024-04-28/
LOCATION:Church 4th\, Johnston\, IA\, United States
CATEGORIES:Church 4th
ATTACH;FMTTYPE=image/gif:https://johnstonlionsclub.com/wp-content/uploads/2014/04/chrch1.gif
END:VEVENT
BEGIN:VEVENT
DTSTART;TZID=America/Chicago:20240428T160000
DTEND;TZID=America/Chicago:20240428T200000
DTSTAMP:20260425T065252
CREATED:20240125T045625Z
LAST-MODIFIED:20240125T045625Z
UID:8152-1714320000-1714334400@johnstonlionsclub.com
SUMMARY:Book Sale Set-up
DESCRIPTION:
URL:https://johnstonlionsclub.com/event/book-sale-set-up-6/
END:VEVENT
BEGIN:VEVENT
DTSTART;TZID=America/Chicago:20240429T080000
DTEND;TZID=America/Chicago:20240501T170000
DTSTAMP:20260425T065252
CREATED:20240125T045823Z
LAST-MODIFIED:20240125T045823Z
UID:8154-1714377600-1714582800@johnstonlionsclub.com
SUMMARY:Book Sale Set-up\, Donations Acepted until 4:00pm
DESCRIPTION:
URL:https://johnstonlionsclub.com/event/book-sale-set-up-donations-acepted-until-400pm/
END:VEVENT
END:VCALENDAR