BEGIN:VCALENDAR
VERSION:2.0
PRODID:-//Johnston Lions Club and Foundation - ECPv6.15.20//NONSGML v1.0//EN
CALSCALE:GREGORIAN
METHOD:PUBLISH
X-ORIGINAL-URL:https://johnstonlionsclub.com
X-WR-CALDESC:Events for Johnston Lions Club and Foundation
REFRESH-INTERVAL;VALUE=DURATION:PT1H
X-Robots-Tag:noindex
X-PUBLISHED-TTL:PT1H
BEGIN:VTIMEZONE
TZID:America/Chicago
BEGIN:DAYLIGHT
TZOFFSETFROM:-0600
TZOFFSETTO:-0500
TZNAME:CDT
DTSTART:20230312T080000
END:DAYLIGHT
BEGIN:STANDARD
TZOFFSETFROM:-0500
TZOFFSETTO:-0600
TZNAME:CST
DTSTART:20231105T070000
END:STANDARD
BEGIN:DAYLIGHT
TZOFFSETFROM:-0600
TZOFFSETTO:-0500
TZNAME:CDT
DTSTART:20240310T080000
END:DAYLIGHT
BEGIN:STANDARD
TZOFFSETFROM:-0500
TZOFFSETTO:-0600
TZNAME:CST
DTSTART:20241103T070000
END:STANDARD
BEGIN:DAYLIGHT
TZOFFSETFROM:-0600
TZOFFSETTO:-0500
TZNAME:CDT
DTSTART:20250309T080000
END:DAYLIGHT
BEGIN:STANDARD
TZOFFSETFROM:-0500
TZOFFSETTO:-0600
TZNAME:CST
DTSTART:20251102T070000
END:STANDARD
END:VTIMEZONE
BEGIN:VTIMEZONE
TZID:America/Chicago
BEGIN:DAYLIGHT
TZOFFSETFROM:-0600
TZOFFSETTO:-0500
TZNAME:CDT
DTSTART:20230312T080000
END:DAYLIGHT
BEGIN:STANDARD
TZOFFSETFROM:-0500
TZOFFSETTO:-0600
TZNAME:CST
DTSTART:20231105T070000
END:STANDARD
BEGIN:DAYLIGHT
TZOFFSETFROM:-0600
TZOFFSETTO:-0500
TZNAME:CDT
DTSTART:20240310T080000
END:DAYLIGHT
BEGIN:STANDARD
TZOFFSETFROM:-0500
TZOFFSETTO:-0600
TZNAME:CST
DTSTART:20241103T070000
END:STANDARD
BEGIN:DAYLIGHT
TZOFFSETFROM:-0600
TZOFFSETTO:-0500
TZNAME:CDT
DTSTART:20250309T080000
END:DAYLIGHT
BEGIN:STANDARD
TZOFFSETFROM:-0500
TZOFFSETTO:-0600
TZNAME:CST
DTSTART:20251102T070000
END:STANDARD
END:VTIMEZONE
BEGIN:VEVENT
DTSTART;TZID=America/Chicago:20240303T080000
DTEND;TZID=America/Chicago:20240303T133000
DTSTAMP:20260425T083317
CREATED:20230805T155627Z
LAST-MODIFIED:20230805T155627Z
UID:7908-1709452800-1709472600@johnstonlionsclub.com
SUMMARY:Church NC
DESCRIPTION:
URL:https://johnstonlionsclub.com/event/church-nc-86/
END:VEVENT
BEGIN:VEVENT
DTSTART;TZID=America/Chicago:20240305T173000
DTEND;TZID=America/Chicago:20240305T213000
DTSTAMP:20260425T083317
CREATED:20230807T182751Z
LAST-MODIFIED:20230807T182751Z
UID:7948-1709659800-1709674200@johnstonlionsclub.com
SUMMARY:Des Moines Camera Club
DESCRIPTION:
URL:https://johnstonlionsclub.com/event/des-moines-camera-club-14/
END:VEVENT
BEGIN:VEVENT
DTSTART;TZID=America/Chicago:20240310T080000
DTEND;TZID=America/Chicago:20240310T153000
DTSTAMP:20260425T083317
CREATED:20140405T134912Z
LAST-MODIFIED:20140405T134912Z
UID:7285-1710057600-1710084600@johnstonlionsclub.com
SUMMARY:Church NC
DESCRIPTION:Growing in Faith together.
URL:https://johnstonlionsclub.com/event/church-3-2019-08-11-2024-03-10/
LOCATION:Church 2nd\, Johnston\, IA\, United States
CATEGORIES:Church 2nd
ATTACH;FMTTYPE=image/gif:https://johnstonlionsclub.com/wp-content/uploads/2014/04/chrch1.gif
END:VEVENT
BEGIN:VEVENT
DTSTART;TZID=America/Chicago:20240311T180000
DTEND;TZID=America/Chicago:20240311T210000
DTSTAMP:20260425T083317
CREATED:20151030T203525Z
LAST-MODIFIED:20151030T203525Z
UID:7290-1710180000-1710190800@johnstonlionsclub.com
SUMMARY:Lions Dinner
DESCRIPTION:
URL:https://johnstonlionsclub.com/event/lions-dinner-nc-2019-08-12-2024-03-11/
LOCATION:Unnamed Venue\, IA\, United States
CATEGORIES:Dinner Meetings
END:VEVENT
BEGIN:VEVENT
DTSTART;TZID=America/Chicago:20240312T080000
DTEND;TZID=America/Chicago:20240312T170000
DTSTAMP:20260425T083317
CREATED:20230807T182839Z
LAST-MODIFIED:20230807T182839Z
UID:7950-1710230400-1710262800@johnstonlionsclub.com
SUMMARY:Des Moines Camera Club
DESCRIPTION:
URL:https://johnstonlionsclub.com/event/des-moines-camera-club-15/
END:VEVENT
BEGIN:VEVENT
DTSTART;TZID=America/Chicago:20240313T070000
DTEND;TZID=America/Chicago:20240313T153000
DTSTAMP:20260425T083317
CREATED:20240104T202138Z
LAST-MODIFIED:20240110T203932Z
UID:8111-1710313200-1710343800@johnstonlionsclub.com
SUMMARY:Boise Cascade
DESCRIPTION:
URL:https://johnstonlionsclub.com/event/boise-cascade-tentitive/
END:VEVENT
BEGIN:VEVENT
DTSTART;TZID=America/Chicago:20240314T070000
DTEND;TZID=America/Chicago:20240314T153000
DTSTAMP:20260425T083317
CREATED:20240104T202217Z
LAST-MODIFIED:20240110T204033Z
UID:8113-1710399600-1710430200@johnstonlionsclub.com
SUMMARY:Boise Cascade
DESCRIPTION:
URL:https://johnstonlionsclub.com/event/boise-cascade-tentitive-2/
END:VEVENT
BEGIN:VEVENT
DTSTART;TZID=America/Chicago:20240316T080000
DTEND;TZID=America/Chicago:20240316T170000
DTSTAMP:20260425T083317
CREATED:20231121T020749Z
LAST-MODIFIED:20240305T215825Z
UID:8081-1710576000-1710608400@johnstonlionsclub.com
SUMMARY:Iowa BBQ Society
DESCRIPTION:11/28/2023
URL:https://johnstonlionsclub.com/event/iowa-bbq-society-tentitive/
END:VEVENT
BEGIN:VEVENT
DTSTART;TZID=America/Chicago:20240317T080000
DTEND;TZID=America/Chicago:20240317T133000
DTSTAMP:20260425T083317
CREATED:20230805T155659Z
LAST-MODIFIED:20230805T155659Z
UID:7910-1710662400-1710682200@johnstonlionsclub.com
SUMMARY:Church NC
DESCRIPTION:
URL:https://johnstonlionsclub.com/event/church-nc-87/
END:VEVENT
BEGIN:VEVENT
DTSTART;TZID=America/Chicago:20240321T180000
DTEND;TZID=America/Chicago:20240321T200000
DTSTAMP:20260425T083317
CREATED:20230818T141831Z
LAST-MODIFIED:20230818T141831Z
UID:7977-1711044000-1711051200@johnstonlionsclub.com
SUMMARY:American Legion Post 728 NC
DESCRIPTION:
URL:https://johnstonlionsclub.com/event/american-legion-post-728-nc-19/
END:VEVENT
BEGIN:VEVENT
DTSTART;TZID=America/Chicago:20240323T180000
DTEND;TZID=America/Chicago:20240323T233000
DTSTAMP:20260425T083317
CREATED:20240309T193633Z
LAST-MODIFIED:20240314T203802Z
UID:8229-1711216800-1711236600@johnstonlionsclub.com
SUMMARY:Mother's Farewell Party
DESCRIPTION:Ophelia Roesler
URL:https://johnstonlionsclub.com/event/ophelia-roesler-party-tentetive/
END:VEVENT
BEGIN:VEVENT
DTSTART;TZID=America/Chicago:20240324T080000
DTEND;TZID=America/Chicago:20240324T153000
DTSTAMP:20260425T083317
CREATED:20140404T193902Z
LAST-MODIFIED:20140404T193902Z
UID:7314-1711267200-1711294200@johnstonlionsclub.com
SUMMARY:Church NC
DESCRIPTION:Growing in Faith together.
URL:https://johnstonlionsclub.com/event/church-4th-2019-08-25-2024-03-24/
LOCATION:Church 4th\, Johnston\, IA\, United States
CATEGORIES:Church 4th
ATTACH;FMTTYPE=image/gif:https://johnstonlionsclub.com/wp-content/uploads/2014/04/chrch1.gif
END:VEVENT
BEGIN:VEVENT
DTSTART;TZID=America/Chicago:20240325T183000
DTEND;TZID=America/Chicago:20240325T203000
DTSTAMP:20260425T083317
CREATED:20151030T204913Z
LAST-MODIFIED:20151030T204913Z
UID:7315-1711391400-1711398600@johnstonlionsclub.com
SUMMARY:Lion's Board Mtg. NC
DESCRIPTION:(4th Monday of each month) 6:30-8:30
URL:https://johnstonlionsclub.com/event/lions-board-mtg-nc-2024-03-25/
LOCATION:Unnamed Venue\, IA\, United States
CATEGORIES:Board Meetings
END:VEVENT
BEGIN:VEVENT
DTSTART;TZID=America/Chicago:20240326T180000
DTEND;TZID=America/Chicago:20240326T203000
DTSTAMP:20260425T083317
CREATED:20230703T135947Z
LAST-MODIFIED:20230703T135947Z
UID:7846-1711476000-1711485000@johnstonlionsclub.com
SUMMARY:Cub Scout Pack 244 Meeting
DESCRIPTION:
URL:https://johnstonlionsclub.com/event/cub-scout-pack-244-meeting-4/
END:VEVENT
BEGIN:VEVENT
DTSTART;TZID=America/Chicago:20240327T080000
DTEND;TZID=America/Chicago:20240327T150000
DTSTAMP:20260425T083317
CREATED:20240308T143744Z
LAST-MODIFIED:20240308T143744Z
UID:8227-1711526400-1711551600@johnstonlionsclub.com
SUMMARY:Parking for Iowa State Patrol ( Lot Only)
DESCRIPTION:
URL:https://johnstonlionsclub.com/event/parking-for-iowa-state-patrol-lot-only/
END:VEVENT
BEGIN:VEVENT
DTSTART;TZID=America/Chicago:20240330T080000
DTEND;TZID=America/Chicago:20240330T170000
DTSTAMP:20260425T083317
CREATED:20231113T220710Z
LAST-MODIFIED:20231113T220710Z
UID:8065-1711785600-1711818000@johnstonlionsclub.com
SUMMARY:Iowa Military Collectors
DESCRIPTION:
URL:https://johnstonlionsclub.com/event/iowa-military-collectors-3/
END:VEVENT
BEGIN:VEVENT
DTSTART;TZID=America/Chicago:20240331T080000
DTEND;TZID=America/Chicago:20240331T133000
DTSTAMP:20260425T083317
CREATED:20140405T140020Z
LAST-MODIFIED:20140405T140020Z
UID:7319-1711872000-1711891800@johnstonlionsclub.com
SUMMARY:Church NC
DESCRIPTION:
URL:https://johnstonlionsclub.com/event/church-4-2019-09-29-2024-03-31/
LOCATION:Unnamed Venue\, Johnston\, IA\, United States
ATTACH;FMTTYPE=image/gif:https://johnstonlionsclub.com/wp-content/uploads/2014/04/chrch1.gif
END:VEVENT
BEGIN:VEVENT
DTSTART;TZID=America/Chicago:20240331T080000
DTEND;TZID=America/Chicago:20240331T170000
DTSTAMP:20260425T083317
CREATED:20230805T155731Z
LAST-MODIFIED:20230805T155731Z
UID:7912-1711872000-1711904400@johnstonlionsclub.com
SUMMARY:Church NC
DESCRIPTION:
URL:https://johnstonlionsclub.com/event/church-nc-88/
END:VEVENT
END:VCALENDAR