BEGIN:VCALENDAR
VERSION:2.0
PRODID:-//Johnston Lions Club and Foundation - ECPv6.15.20//NONSGML v1.0//EN
CALSCALE:GREGORIAN
METHOD:PUBLISH
X-ORIGINAL-URL:https://johnstonlionsclub.com
X-WR-CALDESC:Events for Johnston Lions Club and Foundation
REFRESH-INTERVAL;VALUE=DURATION:PT1H
X-Robots-Tag:noindex
X-PUBLISHED-TTL:PT1H
BEGIN:VTIMEZONE
TZID:America/Chicago
BEGIN:DAYLIGHT
TZOFFSETFROM:-0600
TZOFFSETTO:-0500
TZNAME:CDT
DTSTART:20230312T080000
END:DAYLIGHT
BEGIN:STANDARD
TZOFFSETFROM:-0500
TZOFFSETTO:-0600
TZNAME:CST
DTSTART:20231105T070000
END:STANDARD
BEGIN:DAYLIGHT
TZOFFSETFROM:-0600
TZOFFSETTO:-0500
TZNAME:CDT
DTSTART:20240310T080000
END:DAYLIGHT
BEGIN:STANDARD
TZOFFSETFROM:-0500
TZOFFSETTO:-0600
TZNAME:CST
DTSTART:20241103T070000
END:STANDARD
BEGIN:DAYLIGHT
TZOFFSETFROM:-0600
TZOFFSETTO:-0500
TZNAME:CDT
DTSTART:20250309T080000
END:DAYLIGHT
BEGIN:STANDARD
TZOFFSETFROM:-0500
TZOFFSETTO:-0600
TZNAME:CST
DTSTART:20251102T070000
END:STANDARD
END:VTIMEZONE
BEGIN:VTIMEZONE
TZID:America/Chicago
BEGIN:DAYLIGHT
TZOFFSETFROM:-0600
TZOFFSETTO:-0500
TZNAME:CDT
DTSTART:20230312T080000
END:DAYLIGHT
BEGIN:STANDARD
TZOFFSETFROM:-0500
TZOFFSETTO:-0600
TZNAME:CST
DTSTART:20231105T070000
END:STANDARD
BEGIN:DAYLIGHT
TZOFFSETFROM:-0600
TZOFFSETTO:-0500
TZNAME:CDT
DTSTART:20240310T080000
END:DAYLIGHT
BEGIN:STANDARD
TZOFFSETFROM:-0500
TZOFFSETTO:-0600
TZNAME:CST
DTSTART:20241103T070000
END:STANDARD
BEGIN:DAYLIGHT
TZOFFSETFROM:-0600
TZOFFSETTO:-0500
TZNAME:CDT
DTSTART:20250309T080000
END:DAYLIGHT
BEGIN:STANDARD
TZOFFSETFROM:-0500
TZOFFSETTO:-0600
TZNAME:CST
DTSTART:20251102T070000
END:STANDARD
END:VTIMEZONE
BEGIN:VEVENT
DTSTART;TZID=America/Chicago:20240102T173000
DTEND;TZID=America/Chicago:20240102T213000
DTSTAMP:20260425T115747
CREATED:20230807T182430Z
LAST-MODIFIED:20230807T182430Z
UID:7940-1704216600-1704231000@johnstonlionsclub.com
SUMMARY:Des Moines Camera Club
DESCRIPTION:
URL:https://johnstonlionsclub.com/event/des-moines-camera-club-10/
END:VEVENT
BEGIN:VEVENT
DTSTART;TZID=America/Chicago:20240107T080000
DTEND;TZID=America/Chicago:20240107T133000
DTSTAMP:20260425T115747
CREATED:20230805T155230Z
LAST-MODIFIED:20230805T155230Z
UID:7898-1704614400-1704634200@johnstonlionsclub.com
SUMMARY:Church NC
DESCRIPTION:
URL:https://johnstonlionsclub.com/event/church-nc-81/
END:VEVENT
BEGIN:VEVENT
DTSTART;TZID=America/Chicago:20240108T180000
DTEND;TZID=America/Chicago:20240108T210000
DTSTAMP:20260425T115747
CREATED:20151030T203525Z
LAST-MODIFIED:20151030T203525Z
UID:7182-1704736800-1704747600@johnstonlionsclub.com
SUMMARY:Lions Dinner
DESCRIPTION:
URL:https://johnstonlionsclub.com/event/lions-dinner-nc-2019-08-12-2024-01-08/
LOCATION:Unnamed Venue\, IA\, United States
CATEGORIES:Dinner Meetings
END:VEVENT
BEGIN:VEVENT
DTSTART;TZID=America/Chicago:20240113T080000
DTEND;TZID=America/Chicago:20240113T140000
DTSTAMP:20260425T115747
CREATED:20231117T172341Z
LAST-MODIFIED:20231117T172341Z
UID:8071-1705132800-1705154400@johnstonlionsclub.com
SUMMARY:Hawkeye Knife Club
DESCRIPTION:
URL:https://johnstonlionsclub.com/event/hawkeye-knife-club-8/
END:VEVENT
BEGIN:VEVENT
DTSTART;TZID=America/Chicago:20240113T160000
DTEND;TZID=America/Chicago:20240113T220000
DTSTAMP:20260425T115747
CREATED:20240105T195109Z
LAST-MODIFIED:20240105T195109Z
UID:8122-1705161600-1705183200@johnstonlionsclub.com
SUMMARY:Hadzic Birthday Party
DESCRIPTION:
URL:https://johnstonlionsclub.com/event/hadzic-birthday-party/
END:VEVENT
BEGIN:VEVENT
DTSTART;TZID=America/Chicago:20240114T080000
DTEND;TZID=America/Chicago:20240114T153000
DTSTAMP:20260425T115747
CREATED:20140405T134912Z
LAST-MODIFIED:20140405T134912Z
UID:7197-1705219200-1705246200@johnstonlionsclub.com
SUMMARY:Church NC
DESCRIPTION:Growing in Faith together.
URL:https://johnstonlionsclub.com/event/church-3-2019-08-11-2024-01-14/
LOCATION:Church 2nd\, Johnston\, IA\, United States
CATEGORIES:Church 2nd
ATTACH;FMTTYPE=image/gif:https://johnstonlionsclub.com/wp-content/uploads/2014/04/chrch1.gif
END:VEVENT
BEGIN:VEVENT
DTSTART;TZID=America/Chicago:20240116T173000
DTEND;TZID=America/Chicago:20240116T213000
DTSTAMP:20260425T115747
CREATED:20230807T182517Z
LAST-MODIFIED:20231211T171658Z
UID:7942-1705426200-1705440600@johnstonlionsclub.com
SUMMARY:Des Moines Camera Club
DESCRIPTION:
URL:https://johnstonlionsclub.com/event/des-moines-camera-club-11/
END:VEVENT
BEGIN:VEVENT
DTSTART;TZID=America/Chicago:20240118T170000
DTEND;TZID=America/Chicago:20240118T180000
DTSTAMP:20260425T115747
CREATED:20240111T215531Z
LAST-MODIFIED:20240111T215531Z
UID:8128-1705597200-1705600800@johnstonlionsclub.com
SUMMARY:Club Marketing Committee Meeting
DESCRIPTION:
URL:https://johnstonlionsclub.com/event/club-marketing-committee-meeting/
END:VEVENT
BEGIN:VEVENT
DTSTART;TZID=America/Chicago:20240118T180000
DTEND;TZID=America/Chicago:20240118T200000
DTSTAMP:20260425T115747
CREATED:20230818T141606Z
LAST-MODIFIED:20230818T141606Z
UID:7973-1705600800-1705608000@johnstonlionsclub.com
SUMMARY:American Legion Post 728 NC
DESCRIPTION:
URL:https://johnstonlionsclub.com/event/american-legion-post-728-nc-17/
END:VEVENT
BEGIN:VEVENT
DTSTART;TZID=America/Chicago:20240121T080000
DTEND;TZID=America/Chicago:20240121T133000
DTSTAMP:20260425T115747
CREATED:20230805T155306Z
LAST-MODIFIED:20230805T155306Z
UID:7900-1705824000-1705843800@johnstonlionsclub.com
SUMMARY:Church NC
DESCRIPTION:
URL:https://johnstonlionsclub.com/event/church-nc-82/
END:VEVENT
BEGIN:VEVENT
DTSTART;TZID=America/Chicago:20240122T183000
DTEND;TZID=America/Chicago:20240122T203000
DTSTAMP:20260425T115747
CREATED:20151030T204913Z
LAST-MODIFIED:20151030T204913Z
UID:7212-1705948200-1705955400@johnstonlionsclub.com
SUMMARY:Lion's Board Mtg. NC
DESCRIPTION:(4th Monday of each month) 6:30-8:30
URL:https://johnstonlionsclub.com/event/lions-board-mtg-nc-2024-01-22/
LOCATION:Unnamed Venue\, IA\, United States
CATEGORIES:Board Meetings
END:VEVENT
BEGIN:VEVENT
DTSTART;TZID=America/Chicago:20240128T080000
DTEND;TZID=America/Chicago:20240128T153000
DTSTAMP:20260425T115747
CREATED:20140404T193902Z
LAST-MODIFIED:20140404T193902Z
UID:7217-1706428800-1706455800@johnstonlionsclub.com
SUMMARY:Church NC
DESCRIPTION:Growing in Faith together.
URL:https://johnstonlionsclub.com/event/church-4th-2019-08-25-2024-01-28/
LOCATION:Church 4th\, Johnston\, IA\, United States
CATEGORIES:Church 4th
ATTACH;FMTTYPE=image/gif:https://johnstonlionsclub.com/wp-content/uploads/2014/04/chrch1.gif
END:VEVENT
BEGIN:VEVENT
DTSTART;TZID=America/Chicago:20240129T160000
DTEND;TZID=America/Chicago:20240129T200000
DTSTAMP:20260425T115747
CREATED:20240108T192125Z
LAST-MODIFIED:20240108T192125Z
UID:8124-1706544000-1706558400@johnstonlionsclub.com
SUMMARY:Beirman Celebration of Life
DESCRIPTION:
URL:https://johnstonlionsclub.com/event/beirman-celebration-of-life/
END:VEVENT
BEGIN:VEVENT
DTSTART;TZID=America/Chicago:20240131T171500
DTEND;TZID=America/Chicago:20240131T183000
DTSTAMP:20260425T115747
CREATED:20240125T205010Z
LAST-MODIFIED:20240128T201346Z
UID:8187-1706721300-1706725800@johnstonlionsclub.com
SUMMARY:Club Marketing Committee Meeting
DESCRIPTION:
URL:https://johnstonlionsclub.com/event/club-marketing-committee-meeting-2/
END:VEVENT
END:VCALENDAR