BEGIN:VCALENDAR
VERSION:2.0
PRODID:-//Johnston Lions Club and Foundation - ECPv6.15.20//NONSGML v1.0//EN
CALSCALE:GREGORIAN
METHOD:PUBLISH
X-ORIGINAL-URL:https://johnstonlionsclub.com
X-WR-CALDESC:Events for Johnston Lions Club and Foundation
REFRESH-INTERVAL;VALUE=DURATION:PT1H
X-Robots-Tag:noindex
X-PUBLISHED-TTL:PT1H
BEGIN:VTIMEZONE
TZID:America/Chicago
BEGIN:DAYLIGHT
TZOFFSETFROM:-0600
TZOFFSETTO:-0500
TZNAME:CDT
DTSTART:20220313T080000
END:DAYLIGHT
BEGIN:STANDARD
TZOFFSETFROM:-0500
TZOFFSETTO:-0600
TZNAME:CST
DTSTART:20221106T070000
END:STANDARD
BEGIN:DAYLIGHT
TZOFFSETFROM:-0600
TZOFFSETTO:-0500
TZNAME:CDT
DTSTART:20230312T080000
END:DAYLIGHT
BEGIN:STANDARD
TZOFFSETFROM:-0500
TZOFFSETTO:-0600
TZNAME:CST
DTSTART:20231105T070000
END:STANDARD
BEGIN:DAYLIGHT
TZOFFSETFROM:-0600
TZOFFSETTO:-0500
TZNAME:CDT
DTSTART:20240310T080000
END:DAYLIGHT
BEGIN:STANDARD
TZOFFSETFROM:-0500
TZOFFSETTO:-0600
TZNAME:CST
DTSTART:20241103T070000
END:STANDARD
END:VTIMEZONE
BEGIN:VTIMEZONE
TZID:America/Chicago
BEGIN:DAYLIGHT
TZOFFSETFROM:-0600
TZOFFSETTO:-0500
TZNAME:CDT
DTSTART:20220313T080000
END:DAYLIGHT
BEGIN:STANDARD
TZOFFSETFROM:-0500
TZOFFSETTO:-0600
TZNAME:CST
DTSTART:20221106T070000
END:STANDARD
BEGIN:DAYLIGHT
TZOFFSETFROM:-0600
TZOFFSETTO:-0500
TZNAME:CDT
DTSTART:20230312T080000
END:DAYLIGHT
BEGIN:STANDARD
TZOFFSETFROM:-0500
TZOFFSETTO:-0600
TZNAME:CST
DTSTART:20231105T070000
END:STANDARD
BEGIN:DAYLIGHT
TZOFFSETFROM:-0600
TZOFFSETTO:-0500
TZNAME:CDT
DTSTART:20240310T080000
END:DAYLIGHT
BEGIN:STANDARD
TZOFFSETFROM:-0500
TZOFFSETTO:-0600
TZNAME:CST
DTSTART:20241103T070000
END:STANDARD
END:VTIMEZONE
BEGIN:VEVENT
DTSTART;TZID=America/Chicago:20231203T080000
DTEND;TZID=America/Chicago:20231203T133000
DTSTAMP:20260425T132648
CREATED:20221129T155135Z
LAST-MODIFIED:20221129T155135Z
UID:7625-1701590400-1701610200@johnstonlionsclub.com
SUMMARY:Church NC
DESCRIPTION:
URL:https://johnstonlionsclub.com/event/church-nc-79/
END:VEVENT
BEGIN:VEVENT
DTSTART;TZID=America/Chicago:20231205T173000
DTEND;TZID=America/Chicago:20231205T213000
DTSTAMP:20260425T132648
CREATED:20230807T182328Z
LAST-MODIFIED:20230807T182328Z
UID:7938-1701797400-1701811800@johnstonlionsclub.com
SUMMARY:Des Moines Camera Club
DESCRIPTION:
URL:https://johnstonlionsclub.com/event/des-moines-camera-club-9/
END:VEVENT
BEGIN:VEVENT
DTSTART;TZID=America/Chicago:20231207T083000
DTEND;TZID=America/Chicago:20231207T163000
DTSTAMP:20260425T132648
CREATED:20231009T142339Z
LAST-MODIFIED:20231026T195141Z
UID:8044-1701937800-1701966600@johnstonlionsclub.com
SUMMARY:University of Iowa Center for Disabilities and Development Meeting
DESCRIPTION:
URL:https://johnstonlionsclub.com/event/university-of-iowa-center-for-disabilities-and-development-meeting-tentitive/
END:VEVENT
BEGIN:VEVENT
DTSTART;TZID=America/Chicago:20231208T130000
DTEND;TZID=America/Chicago:20231208T170000
DTSTAMP:20260425T132648
CREATED:20231127T163330Z
LAST-MODIFIED:20231127T204827Z
UID:8087-1702040400-1702054800@johnstonlionsclub.com
SUMMARY:American Legion Auxiliary Unit 728 Christmas with Santa (set-up)
DESCRIPTION:
URL:https://johnstonlionsclub.com/event/american-legion-auxiliary-unit-728-christmas-with-santa-set-up/
END:VEVENT
BEGIN:VEVENT
DTSTART;TZID=America/Chicago:20231209T070000
DTEND;TZID=America/Chicago:20231209T130000
DTSTAMP:20260425T132648
CREATED:20230928T165019Z
LAST-MODIFIED:20231127T163239Z
UID:8032-1702105200-1702126800@johnstonlionsclub.com
SUMMARY:American Legion Auxiliary Unit 728 Christmas with Santa
DESCRIPTION:
URL:https://johnstonlionsclub.com/event/american-legion-auxiliary-unit-728-fundraiser/
END:VEVENT
BEGIN:VEVENT
DTSTART;TZID=America/Chicago:20231210T080000
DTEND;TZID=America/Chicago:20231210T153000
DTSTAMP:20260425T132648
CREATED:20140405T134912Z
LAST-MODIFIED:20140405T134912Z
UID:7164-1702195200-1702222200@johnstonlionsclub.com
SUMMARY:Church NC
DESCRIPTION:Growing in Faith together.
URL:https://johnstonlionsclub.com/event/church-3-2019-08-11-2023-12-10/
LOCATION:Church 2nd\, Johnston\, IA\, United States
CATEGORIES:Church 2nd
ATTACH;FMTTYPE=image/gif:https://johnstonlionsclub.com/wp-content/uploads/2014/04/chrch1.gif
END:VEVENT
BEGIN:VEVENT
DTSTART;TZID=America/Chicago:20231211T180000
DTEND;TZID=America/Chicago:20231211T210000
DTSTAMP:20260425T132648
CREATED:20151030T203525Z
LAST-MODIFIED:20151030T203525Z
UID:7165-1702317600-1702328400@johnstonlionsclub.com
SUMMARY:Lions Dinner
DESCRIPTION:
URL:https://johnstonlionsclub.com/event/lions-dinner-nc-2019-08-12-2023-12-11/
LOCATION:Unnamed Venue\, IA\, United States
CATEGORIES:Dinner Meetings
END:VEVENT
BEGIN:VEVENT
DTSTART;TZID=America/Chicago:20231214T163000
DTEND;TZID=America/Chicago:20231214T203000
DTSTAMP:20260425T132648
CREATED:20231121T153842Z
LAST-MODIFIED:20231204T202057Z
UID:8083-1702571400-1702585800@johnstonlionsclub.com
SUMMARY:Tiara L. Mays-Sims for Iowa
DESCRIPTION:
URL:https://johnstonlionsclub.com/event/tiara-l-mays-sims-for-iowa-tentitive/
END:VEVENT
BEGIN:VEVENT
DTSTART;TZID=America/Chicago:20231217T080000
DTEND;TZID=America/Chicago:20231217T133000
DTSTAMP:20260425T132648
CREATED:20221129T155207Z
LAST-MODIFIED:20221129T155344Z
UID:7627-1702800000-1702819800@johnstonlionsclub.com
SUMMARY:Church NC
DESCRIPTION:
URL:https://johnstonlionsclub.com/event/church-nc-80/
END:VEVENT
BEGIN:VEVENT
DTSTART;TZID=America/Chicago:20231221T170000
DTEND;TZID=America/Chicago:20231221T183000
DTSTAMP:20260425T132648
CREATED:20231211T223521Z
LAST-MODIFIED:20231211T223521Z
UID:8097-1703178000-1703183400@johnstonlionsclub.com
SUMMARY:Lion's Club Marketing Meeting
DESCRIPTION:
URL:https://johnstonlionsclub.com/event/lions-club-marketing-meeting/
END:VEVENT
BEGIN:VEVENT
DTSTART;TZID=America/Chicago:20231221T180000
DTEND;TZID=America/Chicago:20231221T200000
DTSTAMP:20260425T132648
CREATED:20230818T141515Z
LAST-MODIFIED:20230818T141515Z
UID:7971-1703181600-1703188800@johnstonlionsclub.com
SUMMARY:American Legion Post 728 NC
DESCRIPTION:
URL:https://johnstonlionsclub.com/event/american-legion-post-728-nc-16/
END:VEVENT
BEGIN:VEVENT
DTSTART;TZID=America/Chicago:20231223T120000
DTEND;TZID=America/Chicago:20231223T180000
DTSTAMP:20260425T132648
CREATED:20231003T134203Z
LAST-MODIFIED:20231016T175037Z
UID:8039-1703332800-1703354400@johnstonlionsclub.com
SUMMARY:Gannon Family
DESCRIPTION:
URL:https://johnstonlionsclub.com/event/gannon-family-tentitive-2/
END:VEVENT
BEGIN:VEVENT
DTSTART;TZID=America/Chicago:20231224T080000
DTEND;TZID=America/Chicago:20231224T153000
DTSTAMP:20260425T132648
CREATED:20140404T193902Z
LAST-MODIFIED:20140404T193902Z
UID:7173-1703404800-1703431800@johnstonlionsclub.com
SUMMARY:Church NC
DESCRIPTION:Growing in Faith together.
URL:https://johnstonlionsclub.com/event/church-4th-2019-08-25-2023-12-24/
LOCATION:Church 4th\, Johnston\, IA\, United States
CATEGORIES:Church 4th
ATTACH;FMTTYPE=image/gif:https://johnstonlionsclub.com/wp-content/uploads/2014/04/chrch1.gif
END:VEVENT
BEGIN:VEVENT
DTSTART;TZID=America/Chicago:20231225T183000
DTEND;TZID=America/Chicago:20231225T203000
DTSTAMP:20260425T132648
CREATED:20151030T204913Z
LAST-MODIFIED:20151030T204913Z
UID:7174-1703529000-1703536200@johnstonlionsclub.com
SUMMARY:Lion's Board Mtg. NC
DESCRIPTION:(4th Monday of each month) 6:30-8:30
URL:https://johnstonlionsclub.com/event/lions-board-mtg-nc-2023-12-25/
LOCATION:Unnamed Venue\, IA\, United States
CATEGORIES:Board Meetings
END:VEVENT
BEGIN:VEVENT
DTSTART;TZID=America/Chicago:20231230T090000
DTEND;TZID=America/Chicago:20231230T150000
DTSTAMP:20260425T132648
CREATED:20230731T212857Z
LAST-MODIFIED:20230731T212857Z
UID:7888-1703926800-1703948400@johnstonlionsclub.com
SUMMARY:McPherson Gathering
DESCRIPTION:
URL:https://johnstonlionsclub.com/event/mcpherson-gathering/
END:VEVENT
BEGIN:VEVENT
DTSTART;TZID=America/Chicago:20231231T080000
DTEND;TZID=America/Chicago:20231231T133000
DTSTAMP:20260425T132648
CREATED:20140405T140020Z
LAST-MODIFIED:20140405T140020Z
UID:7177-1704009600-1704029400@johnstonlionsclub.com
SUMMARY:Church NC
DESCRIPTION:
URL:https://johnstonlionsclub.com/event/church-4-2019-09-29-2023-12-31/
LOCATION:Unnamed Venue\, Johnston\, IA\, United States
ATTACH;FMTTYPE=image/gif:https://johnstonlionsclub.com/wp-content/uploads/2014/04/chrch1.gif
END:VEVENT
END:VCALENDAR