BEGIN:VCALENDAR
VERSION:2.0
PRODID:-//Johnston Lions Club and Foundation - ECPv6.15.20//NONSGML v1.0//EN
CALSCALE:GREGORIAN
METHOD:PUBLISH
X-WR-CALNAME:Johnston Lions Club and Foundation
X-ORIGINAL-URL:https://johnstonlionsclub.com
X-WR-CALDESC:Events for Johnston Lions Club and Foundation
REFRESH-INTERVAL;VALUE=DURATION:PT1H
X-Robots-Tag:noindex
X-PUBLISHED-TTL:PT1H
BEGIN:VTIMEZONE
TZID:America/Chicago
BEGIN:DAYLIGHT
TZOFFSETFROM:-0600
TZOFFSETTO:-0500
TZNAME:CDT
DTSTART:20220313T080000
END:DAYLIGHT
BEGIN:STANDARD
TZOFFSETFROM:-0500
TZOFFSETTO:-0600
TZNAME:CST
DTSTART:20221106T070000
END:STANDARD
BEGIN:DAYLIGHT
TZOFFSETFROM:-0600
TZOFFSETTO:-0500
TZNAME:CDT
DTSTART:20230312T080000
END:DAYLIGHT
BEGIN:STANDARD
TZOFFSETFROM:-0500
TZOFFSETTO:-0600
TZNAME:CST
DTSTART:20231105T070000
END:STANDARD
BEGIN:DAYLIGHT
TZOFFSETFROM:-0600
TZOFFSETTO:-0500
TZNAME:CDT
DTSTART:20240310T080000
END:DAYLIGHT
BEGIN:STANDARD
TZOFFSETFROM:-0500
TZOFFSETTO:-0600
TZNAME:CST
DTSTART:20241103T070000
END:STANDARD
END:VTIMEZONE
BEGIN:VTIMEZONE
TZID:America/Chicago
BEGIN:DAYLIGHT
TZOFFSETFROM:-0600
TZOFFSETTO:-0500
TZNAME:CDT
DTSTART:20220313T080000
END:DAYLIGHT
BEGIN:STANDARD
TZOFFSETFROM:-0500
TZOFFSETTO:-0600
TZNAME:CST
DTSTART:20221106T070000
END:STANDARD
BEGIN:DAYLIGHT
TZOFFSETFROM:-0600
TZOFFSETTO:-0500
TZNAME:CDT
DTSTART:20230312T080000
END:DAYLIGHT
BEGIN:STANDARD
TZOFFSETFROM:-0500
TZOFFSETTO:-0600
TZNAME:CST
DTSTART:20231105T070000
END:STANDARD
BEGIN:DAYLIGHT
TZOFFSETFROM:-0600
TZOFFSETTO:-0500
TZNAME:CDT
DTSTART:20240310T080000
END:DAYLIGHT
BEGIN:STANDARD
TZOFFSETFROM:-0500
TZOFFSETTO:-0600
TZNAME:CST
DTSTART:20241103T070000
END:STANDARD
END:VTIMEZONE
BEGIN:VEVENT
DTSTART;TZID=America/Chicago:20230627T080000
DTEND;TZID=America/Chicago:20230701T170000
DTSTAMP:20260425T210823
CREATED:20230425T010937Z
LAST-MODIFIED:20230425T010937Z
UID:7765-1687852800-1688230800@johnstonlionsclub.com
SUMMARY:Interior Painting
DESCRIPTION:Eagle Scout project
URL:https://johnstonlionsclub.com/event/interior-painting/
END:VEVENT
BEGIN:VEVENT
DTSTART;TZID=America/Chicago:20230702T080000
DTEND;TZID=America/Chicago:20230702T133000
DTSTAMP:20260425T210823
CREATED:20221129T154007Z
LAST-MODIFIED:20221129T154007Z
UID:7603-1688284800-1688304600@johnstonlionsclub.com
SUMMARY:Church NC
DESCRIPTION:
URL:https://johnstonlionsclub.com/event/church-nc-68/
END:VEVENT
BEGIN:VEVENT
DTSTART;TZID=America/Chicago:20230709T080000
DTEND;TZID=America/Chicago:20230709T153000
DTSTAMP:20260425T210823
CREATED:20140405T134912Z
LAST-MODIFIED:20140405T134912Z
UID:6818-1688889600-1688916600@johnstonlionsclub.com
SUMMARY:Church NC
DESCRIPTION:Growing in Faith together.
URL:https://johnstonlionsclub.com/event/church-3-2019-08-11-2023-07-09/
LOCATION:Church 2nd\, Johnston\, IA\, United States
CATEGORIES:Church 2nd
ATTACH;FMTTYPE=image/gif:https://johnstonlionsclub.com/wp-content/uploads/2014/04/chrch1.gif
END:VEVENT
BEGIN:VEVENT
DTSTART;TZID=America/Chicago:20230710T180000
DTEND;TZID=America/Chicago:20230710T210000
DTSTAMP:20260425T210823
CREATED:20151030T203525Z
LAST-MODIFIED:20151030T203525Z
UID:6819-1689012000-1689022800@johnstonlionsclub.com
SUMMARY:Lions Dinner
DESCRIPTION:
URL:https://johnstonlionsclub.com/event/lions-dinner-nc-2019-08-12-2023-07-10/
LOCATION:Unnamed Venue\, IA\, United States
CATEGORIES:Dinner Meetings
END:VEVENT
BEGIN:VEVENT
DTSTART;TZID=America/Chicago:20230712T173000
DTEND;TZID=America/Chicago:20230712T200000
DTSTAMP:20260425T210823
CREATED:20230701T145314Z
LAST-MODIFIED:20230701T145314Z
UID:7837-1689183000-1689192000@johnstonlionsclub.com
SUMMARY:Lion's Rental Committee meeting
DESCRIPTION:
URL:https://johnstonlionsclub.com/event/lions-rental-committee-meeting/
END:VEVENT
BEGIN:VEVENT
DTSTART;TZID=America/Chicago:20230715T080000
DTEND;TZID=America/Chicago:20230715T140000
DTSTAMP:20260425T210823
CREATED:20221005T210041Z
LAST-MODIFIED:20221005T210041Z
UID:7547-1689408000-1689429600@johnstonlionsclub.com
SUMMARY:Hawkeye Knife Club
DESCRIPTION:
URL:https://johnstonlionsclub.com/event/hawkeye-knife-club-6/
END:VEVENT
BEGIN:VEVENT
DTSTART;TZID=America/Chicago:20230716T080000
DTEND;TZID=America/Chicago:20230716T133000
DTSTAMP:20260425T210823
CREATED:20221129T154050Z
LAST-MODIFIED:20221129T154050Z
UID:7605-1689494400-1689514200@johnstonlionsclub.com
SUMMARY:Church NC
DESCRIPTION:
URL:https://johnstonlionsclub.com/event/church-nc-69/
END:VEVENT
BEGIN:VEVENT
DTSTART;TZID=America/Chicago:20230717T183000
DTEND;TZID=America/Chicago:20230717T210000
DTSTAMP:20260425T210823
CREATED:20230712T233321Z
LAST-MODIFIED:20230712T233321Z
UID:7858-1689618600-1689627600@johnstonlionsclub.com
SUMMARY:Linda Beaman Meeting
DESCRIPTION:
URL:https://johnstonlionsclub.com/event/linda-beaman-meeting/
END:VEVENT
BEGIN:VEVENT
DTSTART;TZID=America/Chicago:20230721T160000
DTEND;TZID=America/Chicago:20230721T200000
DTSTAMP:20260425T210823
CREATED:20220809T140652Z
LAST-MODIFIED:20220809T140652Z
UID:7468-1689955200-1689969600@johnstonlionsclub.com
SUMMARY:Central Iowa Orchid Society
DESCRIPTION:
URL:https://johnstonlionsclub.com/event/central-iowa-orchid-society-2/
END:VEVENT
BEGIN:VEVENT
DTSTART;TZID=America/Chicago:20230722T070000
DTEND;TZID=America/Chicago:20230722T170000
DTSTAMP:20260425T210823
CREATED:20220809T140732Z
LAST-MODIFIED:20220809T140732Z
UID:7470-1690009200-1690045200@johnstonlionsclub.com
SUMMARY:Central Iowa Orchid Society
DESCRIPTION:
URL:https://johnstonlionsclub.com/event/central-iowa-orchid-society-4/
END:VEVENT
BEGIN:VEVENT
DTSTART;TZID=America/Chicago:20230723T080000
DTEND;TZID=America/Chicago:20230723T153000
DTSTAMP:20260425T210823
CREATED:20140404T193902Z
LAST-MODIFIED:20140404T193902Z
UID:6821-1690099200-1690126200@johnstonlionsclub.com
SUMMARY:Church NC
DESCRIPTION:Growing in Faith together.
URL:https://johnstonlionsclub.com/event/church-4th-2019-08-25-2023-07-23/
LOCATION:Church 4th\, Johnston\, IA\, United States
CATEGORIES:Church 4th
ATTACH;FMTTYPE=image/gif:https://johnstonlionsclub.com/wp-content/uploads/2014/04/chrch1.gif
END:VEVENT
BEGIN:VEVENT
DTSTART;TZID=America/Chicago:20230724T183000
DTEND;TZID=America/Chicago:20230724T203000
DTSTAMP:20260425T210823
CREATED:20151030T204913Z
LAST-MODIFIED:20151030T204913Z
UID:6822-1690223400-1690230600@johnstonlionsclub.com
SUMMARY:Lion's Board Mtg. NC
DESCRIPTION:(4th Monday of each month) 6:30-8:30
URL:https://johnstonlionsclub.com/event/lions-board-mtg-nc-2023-07-24/
LOCATION:Unnamed Venue\, IA\, United States
CATEGORIES:Board Meetings
END:VEVENT
BEGIN:VEVENT
DTSTART;TZID=America/Chicago:20230729T070000
DTEND;TZID=America/Chicago:20230729T160000
DTSTAMP:20260425T210823
CREATED:20230410T191549Z
LAST-MODIFIED:20230419T211340Z
UID:7746-1690614000-1690646400@johnstonlionsclub.com
SUMMARY:Hotwheels Group
DESCRIPTION:
URL:https://johnstonlionsclub.com/event/hotwheels-group-tentitive/
END:VEVENT
BEGIN:VEVENT
DTSTART;TZID=America/Chicago:20230729T170000
DTEND;TZID=America/Chicago:20230729T220000
DTSTAMP:20260425T210823
CREATED:20230406T025701Z
LAST-MODIFIED:20230410T213158Z
UID:7737-1690650000-1690668000@johnstonlionsclub.com
SUMMARY:Tien Huynh Party
DESCRIPTION:
URL:https://johnstonlionsclub.com/event/tien-huynh-party-tentitive/
END:VEVENT
BEGIN:VEVENT
DTSTART;TZID=America/Chicago:20230730T080000
DTEND;TZID=America/Chicago:20230730T133000
DTSTAMP:20260425T210823
CREATED:20140405T140020Z
LAST-MODIFIED:20140405T140020Z
UID:6824-1690704000-1690723800@johnstonlionsclub.com
SUMMARY:Church NC
DESCRIPTION:
URL:https://johnstonlionsclub.com/event/church-4-2019-09-29-2023-07-30/
LOCATION:Unnamed Venue\, Johnston\, IA\, United States
ATTACH;FMTTYPE=image/gif:https://johnstonlionsclub.com/wp-content/uploads/2014/04/chrch1.gif
END:VEVENT
END:VCALENDAR