BEGIN:VCALENDAR
VERSION:2.0
PRODID:-//Johnston Lions Club and Foundation - ECPv6.15.20//NONSGML v1.0//EN
CALSCALE:GREGORIAN
METHOD:PUBLISH
X-WR-CALNAME:Johnston Lions Club and Foundation
X-ORIGINAL-URL:https://johnstonlionsclub.com
X-WR-CALDESC:Events for Johnston Lions Club and Foundation
REFRESH-INTERVAL;VALUE=DURATION:PT1H
X-Robots-Tag:noindex
X-PUBLISHED-TTL:PT1H
BEGIN:VTIMEZONE
TZID:America/Chicago
BEGIN:DAYLIGHT
TZOFFSETFROM:-0600
TZOFFSETTO:-0500
TZNAME:CDT
DTSTART:20220313T080000
END:DAYLIGHT
BEGIN:STANDARD
TZOFFSETFROM:-0500
TZOFFSETTO:-0600
TZNAME:CST
DTSTART:20221106T070000
END:STANDARD
BEGIN:DAYLIGHT
TZOFFSETFROM:-0600
TZOFFSETTO:-0500
TZNAME:CDT
DTSTART:20230312T080000
END:DAYLIGHT
BEGIN:STANDARD
TZOFFSETFROM:-0500
TZOFFSETTO:-0600
TZNAME:CST
DTSTART:20231105T070000
END:STANDARD
BEGIN:DAYLIGHT
TZOFFSETFROM:-0600
TZOFFSETTO:-0500
TZNAME:CDT
DTSTART:20240310T080000
END:DAYLIGHT
BEGIN:STANDARD
TZOFFSETFROM:-0500
TZOFFSETTO:-0600
TZNAME:CST
DTSTART:20241103T070000
END:STANDARD
END:VTIMEZONE
BEGIN:VTIMEZONE
TZID:America/Chicago
BEGIN:DAYLIGHT
TZOFFSETFROM:-0600
TZOFFSETTO:-0500
TZNAME:CDT
DTSTART:20220313T080000
END:DAYLIGHT
BEGIN:STANDARD
TZOFFSETFROM:-0500
TZOFFSETTO:-0600
TZNAME:CST
DTSTART:20221106T070000
END:STANDARD
BEGIN:DAYLIGHT
TZOFFSETFROM:-0600
TZOFFSETTO:-0500
TZNAME:CDT
DTSTART:20230312T080000
END:DAYLIGHT
BEGIN:STANDARD
TZOFFSETFROM:-0500
TZOFFSETTO:-0600
TZNAME:CST
DTSTART:20231105T070000
END:STANDARD
BEGIN:DAYLIGHT
TZOFFSETFROM:-0600
TZOFFSETTO:-0500
TZNAME:CDT
DTSTART:20240310T080000
END:DAYLIGHT
BEGIN:STANDARD
TZOFFSETFROM:-0500
TZOFFSETTO:-0600
TZNAME:CST
DTSTART:20241103T070000
END:STANDARD
END:VTIMEZONE
BEGIN:VEVENT
DTSTART;TZID=America/Chicago:20230603T080000
DTEND;TZID=America/Chicago:20230603T143000
DTSTAMP:20260425T223540
CREATED:20230110T211250Z
LAST-MODIFIED:20230110T211250Z
UID:7658-1685779200-1685802600@johnstonlionsclub.com
SUMMARY:Alyvia Morans Graduation Party
DESCRIPTION:
URL:https://johnstonlionsclub.com/event/alyvia-morans-graduation-party/
END:VEVENT
BEGIN:VEVENT
DTSTART;TZID=America/Chicago:20230603T153000
DTEND;TZID=America/Chicago:20230603T213000
DTSTAMP:20260425T223540
CREATED:20230106T220142Z
LAST-MODIFIED:20230110T210114Z
UID:7651-1685806200-1685827800@johnstonlionsclub.com
SUMMARY:Jamie Jackson Event
DESCRIPTION:
URL:https://johnstonlionsclub.com/event/jamie-jackson-event-tentitive/
END:VEVENT
BEGIN:VEVENT
DTSTART;TZID=America/Chicago:20230604T080000
DTEND;TZID=America/Chicago:20230604T133000
DTSTAMP:20260425T223540
CREATED:20221129T153814Z
LAST-MODIFIED:20221129T153814Z
UID:7599-1685865600-1685885400@johnstonlionsclub.com
SUMMARY:Church NC
DESCRIPTION:
URL:https://johnstonlionsclub.com/event/church-nc-66/
END:VEVENT
BEGIN:VEVENT
DTSTART;TZID=America/Chicago:20230604T143000
DTEND;TZID=America/Chicago:20230604T223000
DTSTAMP:20260425T223540
CREATED:20230301T191955Z
LAST-MODIFIED:20230603T143307Z
UID:7686-1685889000-1685917800@johnstonlionsclub.com
SUMMARY:Kumar Graduation
DESCRIPTION:
URL:https://johnstonlionsclub.com/event/sunday-graduation/
END:VEVENT
BEGIN:VEVENT
DTSTART;TZID=America/Chicago:20230605T173000
DTEND;TZID=America/Chicago:20230605T203000
DTSTAMP:20260425T223540
CREATED:20230601T210355Z
LAST-MODIFIED:20230601T210355Z
UID:7814-1685986200-1685997000@johnstonlionsclub.com
SUMMARY:Lion's Club Project
DESCRIPTION:Sorting and cleaning eyeglass cases
URL:https://johnstonlionsclub.com/event/lions-club-project/
END:VEVENT
BEGIN:VEVENT
DTSTART;TZID=America/Chicago:20230606T160000
DTEND;TZID=America/Chicago:20230606T210000
DTSTAMP:20260425T223540
CREATED:20210813T230516Z
LAST-MODIFIED:20210813T230516Z
UID:6833-1686067200-1686085200@johnstonlionsclub.com
SUMMARY:IA_NE Quilt Retreat Set Up NC
DESCRIPTION:
URL:https://johnstonlionsclub.com/event/ia_ne-quilt-retreat-set-up-nc-3/
LOCATION:Johnston\, IA\, United States
END:VEVENT
BEGIN:VEVENT
DTSTART;TZID=America/Chicago:20230607T080000
DTEND;TZID=America/Chicago:20230610T200000
DTSTAMP:20260425T223540
CREATED:20210813T230848Z
LAST-MODIFIED:20210813T231041Z
UID:6835-1686124800-1686427200@johnstonlionsclub.com
SUMMARY:IA_NE Quilt Retreat NC
DESCRIPTION:
URL:https://johnstonlionsclub.com/event/ia_ne-quilt-retreat-2/
LOCATION:Johnston\, IA\, United States
END:VEVENT
BEGIN:VEVENT
DTSTART;TZID=America/Chicago:20230611T080000
DTEND;TZID=America/Chicago:20230611T153000
DTSTAMP:20260425T223540
CREATED:20140405T134912Z
LAST-MODIFIED:20140405T134912Z
UID:6776-1686470400-1686497400@johnstonlionsclub.com
SUMMARY:Church NC
DESCRIPTION:Growing in Faith together.
URL:https://johnstonlionsclub.com/event/church-3-2019-08-11-2023-06-11/
LOCATION:Church 2nd\, Johnston\, IA\, United States
CATEGORIES:Church 2nd
ATTACH;FMTTYPE=image/gif:https://johnstonlionsclub.com/wp-content/uploads/2014/04/chrch1.gif
END:VEVENT
BEGIN:VEVENT
DTSTART;TZID=America/Chicago:20230612T180000
DTEND;TZID=America/Chicago:20230612T210000
DTSTAMP:20260425T223540
CREATED:20151030T203525Z
LAST-MODIFIED:20151030T203525Z
UID:6777-1686592800-1686603600@johnstonlionsclub.com
SUMMARY:Lions Dinner
DESCRIPTION:
URL:https://johnstonlionsclub.com/event/lions-dinner-nc-2019-08-12-2023-06-12/
LOCATION:Unnamed Venue\, IA\, United States
CATEGORIES:Dinner Meetings
END:VEVENT
BEGIN:VEVENT
DTSTART;TZID=America/Chicago:20230615T190000
DTEND;TZID=America/Chicago:20230615T210000
DTSTAMP:20260425T223540
CREATED:20230410T030917Z
LAST-MODIFIED:20230410T030917Z
UID:7744-1686855600-1686862800@johnstonlionsclub.com
SUMMARY:American Legion Post 728 NC
DESCRIPTION:
URL:https://johnstonlionsclub.com/event/american-legion-post-728-nc-12/
END:VEVENT
BEGIN:VEVENT
DTSTART;TZID=America/Chicago:20230616T173000
DTEND;TZID=America/Chicago:20230616T203000
DTSTAMP:20260425T223540
CREATED:20230613T201209Z
LAST-MODIFIED:20230613T201209Z
UID:7823-1686936600-1686947400@johnstonlionsclub.com
SUMMARY:Iowa Antique Bottleers (Set Up)
DESCRIPTION:
URL:https://johnstonlionsclub.com/event/iowa-antique-bottleers-set-up/
END:VEVENT
BEGIN:VEVENT
DTSTART;TZID=America/Chicago:20230617T060000
DTEND;TZID=America/Chicago:20230617T150000
DTSTAMP:20260425T223540
CREATED:20220708T170356Z
LAST-MODIFIED:20220708T170356Z
UID:7426-1686981600-1687014000@johnstonlionsclub.com
SUMMARY:Iowa Antique Bottleers
DESCRIPTION:
URL:https://johnstonlionsclub.com/event/iowa-antique-bottleers-2/
END:VEVENT
BEGIN:VEVENT
DTSTART;TZID=America/Chicago:20230617T160000
DTEND;TZID=America/Chicago:20230617T230000
DTSTAMP:20260425T223540
CREATED:20230323T221406Z
LAST-MODIFIED:20230323T221406Z
UID:7713-1687017600-1687042800@johnstonlionsclub.com
SUMMARY:Lilibeth Birthday Party
DESCRIPTION:
URL:https://johnstonlionsclub.com/event/lilibeth-birthday-party/
END:VEVENT
BEGIN:VEVENT
DTSTART;TZID=America/Chicago:20230618T080000
DTEND;TZID=America/Chicago:20230618T133000
DTSTAMP:20260425T223540
CREATED:20221129T153903Z
LAST-MODIFIED:20221129T153903Z
UID:7601-1687075200-1687095000@johnstonlionsclub.com
SUMMARY:Church NC
DESCRIPTION:
URL:https://johnstonlionsclub.com/event/church-nc-67/
END:VEVENT
BEGIN:VEVENT
DTSTART;TZID=America/Chicago:20230618T160000
DTEND;TZID=America/Chicago:20230618T213000
DTSTAMP:20260425T223540
CREATED:20230604T204415Z
LAST-MODIFIED:20230604T204415Z
UID:7817-1687104000-1687123800@johnstonlionsclub.com
SUMMARY:Roesler Planning Meeting
DESCRIPTION:
URL:https://johnstonlionsclub.com/event/roesler-planning-meeting/
END:VEVENT
BEGIN:VEVENT
DTSTART;TZID=America/Chicago:20230622T173000
DTEND;TZID=America/Chicago:20230622T200000
DTSTAMP:20260425T223540
CREATED:20230529T033424Z
LAST-MODIFIED:20230529T033424Z
UID:7810-1687455000-1687464000@johnstonlionsclub.com
SUMMARY:Lion's Building Rental Committee Meeting
DESCRIPTION:
URL:https://johnstonlionsclub.com/event/lions-building-rental-committee-meeting/
END:VEVENT
BEGIN:VEVENT
DTSTART;TZID=America/Chicago:20230623T170000
DTEND;TZID=America/Chicago:20230623T220000
DTSTAMP:20260425T223540
CREATED:20230115T161036Z
LAST-MODIFIED:20230115T161036Z
UID:7662-1687539600-1687557600@johnstonlionsclub.com
SUMMARY:Cardoza Wedding (set up)
DESCRIPTION:
URL:https://johnstonlionsclub.com/event/cardoza-wedding-set-up/
END:VEVENT
BEGIN:VEVENT
DTSTART;TZID=America/Chicago:20230624T070000
DTEND;TZID=America/Chicago:20230624T233000
DTSTAMP:20260425T223540
CREATED:20220609T234938Z
LAST-MODIFIED:20220609T235635Z
UID:7403-1687590000-1687649400@johnstonlionsclub.com
SUMMARY:Cardoza Wedding
DESCRIPTION:
URL:https://johnstonlionsclub.com/event/cardoza-wedding/
LOCATION:Johnston\, IA\, United States
END:VEVENT
BEGIN:VEVENT
DTSTART;TZID=America/Chicago:20230625T080000
DTEND;TZID=America/Chicago:20230625T153000
DTSTAMP:20260425T223540
CREATED:20140404T193902Z
LAST-MODIFIED:20140404T193902Z
UID:6799-1687680000-1687707000@johnstonlionsclub.com
SUMMARY:Church NC
DESCRIPTION:Growing in Faith together.
URL:https://johnstonlionsclub.com/event/church-4th-2019-08-25-2023-06-25/
LOCATION:Church 4th\, Johnston\, IA\, United States
CATEGORIES:Church 4th
ATTACH;FMTTYPE=image/gif:https://johnstonlionsclub.com/wp-content/uploads/2014/04/chrch1.gif
END:VEVENT
BEGIN:VEVENT
DTSTART;TZID=America/Chicago:20230625T160000
DTEND;TZID=America/Chicago:20230625T200000
DTSTAMP:20260425T223540
CREATED:20230623T000116Z
LAST-MODIFIED:20230623T000116Z
UID:7832-1687708800-1687723200@johnstonlionsclub.com
SUMMARY:Interior Painting
DESCRIPTION:
URL:https://johnstonlionsclub.com/event/interior-painting-2/
END:VEVENT
BEGIN:VEVENT
DTSTART;TZID=America/Chicago:20230626T080000
DTEND;TZID=America/Chicago:20230626T180000
DTSTAMP:20260425T223540
CREATED:20230623T000229Z
LAST-MODIFIED:20230623T000229Z
UID:7834-1687766400-1687802400@johnstonlionsclub.com
SUMMARY:Interior Painting
DESCRIPTION:
URL:https://johnstonlionsclub.com/event/interior-painting-3/
END:VEVENT
BEGIN:VEVENT
DTSTART;TZID=America/Chicago:20230626T183000
DTEND;TZID=America/Chicago:20230626T203000
DTSTAMP:20260425T223540
CREATED:20151030T204913Z
LAST-MODIFIED:20151030T204913Z
UID:6800-1687804200-1687811400@johnstonlionsclub.com
SUMMARY:Lion's Board Mtg. NC
DESCRIPTION:(4th Monday of each month) 6:30-8:30
URL:https://johnstonlionsclub.com/event/lions-board-mtg-nc-2023-06-26/
LOCATION:Unnamed Venue\, IA\, United States
CATEGORIES:Board Meetings
END:VEVENT
BEGIN:VEVENT
DTSTART;TZID=America/Chicago:20230627T080000
DTEND;TZID=America/Chicago:20230701T170000
DTSTAMP:20260425T223540
CREATED:20230425T010937Z
LAST-MODIFIED:20230425T010937Z
UID:7765-1687852800-1688230800@johnstonlionsclub.com
SUMMARY:Interior Painting
DESCRIPTION:Eagle Scout project
URL:https://johnstonlionsclub.com/event/interior-painting/
END:VEVENT
END:VCALENDAR