BEGIN:VCALENDAR
VERSION:2.0
PRODID:-//Johnston Lions Club and Foundation - ECPv6.15.20//NONSGML v1.0//EN
CALSCALE:GREGORIAN
METHOD:PUBLISH
X-ORIGINAL-URL:https://johnstonlionsclub.com
X-WR-CALDESC:Events for Johnston Lions Club and Foundation
REFRESH-INTERVAL;VALUE=DURATION:PT1H
X-Robots-Tag:noindex
X-PUBLISHED-TTL:PT1H
BEGIN:VTIMEZONE
TZID:America/Chicago
BEGIN:DAYLIGHT
TZOFFSETFROM:-0600
TZOFFSETTO:-0500
TZNAME:CDT
DTSTART:20250309T080000
END:DAYLIGHT
BEGIN:STANDARD
TZOFFSETFROM:-0500
TZOFFSETTO:-0600
TZNAME:CST
DTSTART:20251102T070000
END:STANDARD
BEGIN:DAYLIGHT
TZOFFSETFROM:-0600
TZOFFSETTO:-0500
TZNAME:CDT
DTSTART:20260308T080000
END:DAYLIGHT
BEGIN:STANDARD
TZOFFSETFROM:-0500
TZOFFSETTO:-0600
TZNAME:CST
DTSTART:20261101T070000
END:STANDARD
BEGIN:DAYLIGHT
TZOFFSETFROM:-0600
TZOFFSETTO:-0500
TZNAME:CDT
DTSTART:20270314T080000
END:DAYLIGHT
BEGIN:STANDARD
TZOFFSETFROM:-0500
TZOFFSETTO:-0600
TZNAME:CST
DTSTART:20271107T070000
END:STANDARD
END:VTIMEZONE
BEGIN:VEVENT
DTSTART;TZID=America/Chicago:20261213T080000
DTEND;TZID=America/Chicago:20261213T153000
DTSTAMP:20260424T090709
CREATED:20250805T195135Z
LAST-MODIFIED:20250805T195135Z
UID:9099-1797148800-1797175800@johnstonlionsclub.com
SUMMARY:Trinity Presbyterian Reformed Church
DESCRIPTION:
URL:https://johnstonlionsclub.com/event/trinity-presbyterian-reformed-church-28/
CATEGORIES:Church 2nd
END:VEVENT
END:VCALENDAR