BEGIN:VCALENDAR
VERSION:2.0
PRODID:-//Johnston Lions Club and Foundation - ECPv6.15.20//NONSGML v1.0//EN
CALSCALE:GREGORIAN
METHOD:PUBLISH
X-WR-CALNAME:Johnston Lions Club and Foundation
X-ORIGINAL-URL:https://johnstonlionsclub.com
X-WR-CALDESC:Events for Johnston Lions Club and Foundation
REFRESH-INTERVAL;VALUE=DURATION:PT1H
X-Robots-Tag:noindex
X-PUBLISHED-TTL:PT1H
BEGIN:VTIMEZONE
TZID:America/Chicago
BEGIN:DAYLIGHT
TZOFFSETFROM:-0600
TZOFFSETTO:-0500
TZNAME:CDT
DTSTART:20250309T080000
END:DAYLIGHT
BEGIN:STANDARD
TZOFFSETFROM:-0500
TZOFFSETTO:-0600
TZNAME:CST
DTSTART:20251102T070000
END:STANDARD
BEGIN:DAYLIGHT
TZOFFSETFROM:-0600
TZOFFSETTO:-0500
TZNAME:CDT
DTSTART:20260308T080000
END:DAYLIGHT
BEGIN:STANDARD
TZOFFSETFROM:-0500
TZOFFSETTO:-0600
TZNAME:CST
DTSTART:20261101T070000
END:STANDARD
BEGIN:DAYLIGHT
TZOFFSETFROM:-0600
TZOFFSETTO:-0500
TZNAME:CDT
DTSTART:20270314T080000
END:DAYLIGHT
BEGIN:STANDARD
TZOFFSETFROM:-0500
TZOFFSETTO:-0600
TZNAME:CST
DTSTART:20271107T070000
END:STANDARD
END:VTIMEZONE
BEGIN:VEVENT
DTSTART;TZID=America/Chicago:20260510T080000
DTEND;TZID=America/Chicago:20260510T153000
DTSTAMP:20260423T215151
CREATED:20250805T195554Z
LAST-MODIFIED:20250805T195554Z
UID:9113-1778400000-1778427000@johnstonlionsclub.com
SUMMARY:Trinity Presbyterian Reformed Church
DESCRIPTION:
URL:https://johnstonlionsclub.com/event/trinity-presbyterian-reformed-church-35/
CATEGORIES:Church 2nd
END:VEVENT
BEGIN:VEVENT
DTSTART;TZID=America/Chicago:20260522T160000
DTEND;TZID=America/Chicago:20260522T235900
DTSTAMP:20260423T215151
CREATED:20251213T161735Z
LAST-MODIFIED:20251213T161735Z
UID:9295-1779465600-1779494340@johnstonlionsclub.com
SUMMARY:Winston Gweah
DESCRIPTION:
URL:https://johnstonlionsclub.com/event/winston-gweah/
CATEGORIES:Building Rental,Church 2nd
END:VEVENT
END:VCALENDAR