BEGIN:VCALENDAR
VERSION:2.0
PRODID:-//Johnston Lions Club and Foundation - ECPv6.15.20//NONSGML v1.0//EN
CALSCALE:GREGORIAN
METHOD:PUBLISH
X-ORIGINAL-URL:https://johnstonlionsclub.com
X-WR-CALDESC:Events for Johnston Lions Club and Foundation
REFRESH-INTERVAL;VALUE=DURATION:PT1H
X-Robots-Tag:noindex
X-PUBLISHED-TTL:PT1H
BEGIN:VTIMEZONE
TZID:America/Chicago
BEGIN:DAYLIGHT
TZOFFSETFROM:-0600
TZOFFSETTO:-0500
TZNAME:CDT
DTSTART:20240310T080000
END:DAYLIGHT
BEGIN:STANDARD
TZOFFSETFROM:-0500
TZOFFSETTO:-0600
TZNAME:CST
DTSTART:20241103T070000
END:STANDARD
BEGIN:DAYLIGHT
TZOFFSETFROM:-0600
TZOFFSETTO:-0500
TZNAME:CDT
DTSTART:20250309T080000
END:DAYLIGHT
BEGIN:STANDARD
TZOFFSETFROM:-0500
TZOFFSETTO:-0600
TZNAME:CST
DTSTART:20251102T070000
END:STANDARD
BEGIN:DAYLIGHT
TZOFFSETFROM:-0600
TZOFFSETTO:-0500
TZNAME:CDT
DTSTART:20260308T080000
END:DAYLIGHT
BEGIN:STANDARD
TZOFFSETFROM:-0500
TZOFFSETTO:-0600
TZNAME:CST
DTSTART:20261101T070000
END:STANDARD
END:VTIMEZONE
BEGIN:VEVENT
DTSTART;TZID=America/Chicago:20250107T173000
DTEND;TZID=America/Chicago:20250107T210000
DTSTAMP:20260425T140013
CREATED:20240901T144438Z
LAST-MODIFIED:20240901T144438Z
UID:8591-1736271000-1736283600@johnstonlionsclub.com
SUMMARY:Des Moines Camera Club
DESCRIPTION:
URL:https://johnstonlionsclub.com/event/des-moines-camera-club-27/
CATEGORIES:Camera Club
END:VEVENT
BEGIN:VEVENT
DTSTART;TZID=America/Chicago:20250114T173000
DTEND;TZID=America/Chicago:20250114T210000
DTSTAMP:20260425T140013
CREATED:20240901T144523Z
LAST-MODIFIED:20240901T144523Z
UID:8593-1736875800-1736888400@johnstonlionsclub.com
SUMMARY:Des Moines Camera Club
DESCRIPTION:
URL:https://johnstonlionsclub.com/event/des-moines-camera-club-28/
CATEGORIES:Camera Club
END:VEVENT
END:VCALENDAR