BEGIN:VCALENDAR
VERSION:2.0
PRODID:-//Johnston Lions Club and Foundation - ECPv6.15.20//NONSGML v1.0//EN
CALSCALE:GREGORIAN
METHOD:PUBLISH
X-ORIGINAL-URL:https://johnstonlionsclub.com
X-WR-CALDESC:Events for Johnston Lions Club and Foundation
REFRESH-INTERVAL;VALUE=DURATION:PT1H
X-Robots-Tag:noindex
X-PUBLISHED-TTL:PT1H
BEGIN:VTIMEZONE
TZID:America/Chicago
BEGIN:DAYLIGHT
TZOFFSETFROM:-0600
TZOFFSETTO:-0500
TZNAME:CDT
DTSTART:20250309T080000
END:DAYLIGHT
BEGIN:STANDARD
TZOFFSETFROM:-0500
TZOFFSETTO:-0600
TZNAME:CST
DTSTART:20251102T070000
END:STANDARD
BEGIN:DAYLIGHT
TZOFFSETFROM:-0600
TZOFFSETTO:-0500
TZNAME:CDT
DTSTART:20260308T080000
END:DAYLIGHT
BEGIN:STANDARD
TZOFFSETFROM:-0500
TZOFFSETTO:-0600
TZNAME:CST
DTSTART:20261101T070000
END:STANDARD
BEGIN:DAYLIGHT
TZOFFSETFROM:-0600
TZOFFSETTO:-0500
TZNAME:CDT
DTSTART:20270314T080000
END:DAYLIGHT
BEGIN:STANDARD
TZOFFSETFROM:-0500
TZOFFSETTO:-0600
TZNAME:CST
DTSTART:20271107T070000
END:STANDARD
END:VTIMEZONE
BEGIN:VEVENT
DTSTART;TZID=America/Chicago:20261119T180000
DTEND;TZID=America/Chicago:20261119T203000
DTSTAMP:20260424T072606
CREATED:20260320T150605Z
LAST-MODIFIED:20260320T150605Z
UID:9476-1795111200-1795120200@johnstonlionsclub.com
SUMMARY:American Legion
DESCRIPTION:
URL:https://johnstonlionsclub.com/event/american-legion-10/
CATEGORIES:Building Rental
END:VEVENT
BEGIN:VEVENT
DTSTART;TZID=America/Chicago:20261128T090000
DTEND;TZID=America/Chicago:20261128T150000
DTSTAMP:20260424T072606
CREATED:20260117T145859Z
LAST-MODIFIED:20260117T145859Z
UID:9389-1795856400-1795878000@johnstonlionsclub.com
SUMMARY:Al McPherson Thanksgiving
DESCRIPTION:
URL:https://johnstonlionsclub.com/event/al-mcpherson-thanksgiving/
CATEGORIES:Building Rental
END:VEVENT
END:VCALENDAR