BEGIN:VCALENDAR
VERSION:2.0
PRODID:-//Johnston Lions Club and Foundation - ECPv6.15.20//NONSGML v1.0//EN
CALSCALE:GREGORIAN
METHOD:PUBLISH
X-WR-CALNAME:Johnston Lions Club and Foundation
X-ORIGINAL-URL:https://johnstonlionsclub.com
X-WR-CALDESC:Events for Johnston Lions Club and Foundation
REFRESH-INTERVAL;VALUE=DURATION:PT1H
X-Robots-Tag:noindex
X-PUBLISHED-TTL:PT1H
BEGIN:VTIMEZONE
TZID:America/Chicago
BEGIN:DAYLIGHT
TZOFFSETFROM:-0600
TZOFFSETTO:-0500
TZNAME:CDT
DTSTART:20240310T080000
END:DAYLIGHT
BEGIN:STANDARD
TZOFFSETFROM:-0500
TZOFFSETTO:-0600
TZNAME:CST
DTSTART:20241103T070000
END:STANDARD
BEGIN:DAYLIGHT
TZOFFSETFROM:-0600
TZOFFSETTO:-0500
TZNAME:CDT
DTSTART:20250309T080000
END:DAYLIGHT
BEGIN:STANDARD
TZOFFSETFROM:-0500
TZOFFSETTO:-0600
TZNAME:CST
DTSTART:20251102T070000
END:STANDARD
BEGIN:DAYLIGHT
TZOFFSETFROM:-0600
TZOFFSETTO:-0500
TZNAME:CDT
DTSTART:20260308T080000
END:DAYLIGHT
BEGIN:STANDARD
TZOFFSETFROM:-0500
TZOFFSETTO:-0600
TZNAME:CST
DTSTART:20261101T070000
END:STANDARD
END:VTIMEZONE
BEGIN:VEVENT
DTSTART;TZID=America/Chicago:20251202T173000
DTEND;TZID=America/Chicago:20251202T210000
DTSTAMP:20260424T023157
CREATED:20250509T152220Z
LAST-MODIFIED:20250509T152220Z
UID:8901-1764696600-1764709200@johnstonlionsclub.com
SUMMARY:Des Moines Camera Club
DESCRIPTION:
URL:https://johnstonlionsclub.com/event/des-moines-camera-club-42/
CATEGORIES:Building Rental
END:VEVENT
BEGIN:VEVENT
DTSTART;TZID=America/Chicago:20251206T140000
DTEND;TZID=America/Chicago:20251206T200000
DTSTAMP:20260424T023157
CREATED:20250925T164829Z
LAST-MODIFIED:20250925T164829Z
UID:9239-1765029600-1765051200@johnstonlionsclub.com
SUMMARY:Camp Dodge Holiday Party
DESCRIPTION:
URL:https://johnstonlionsclub.com/event/camp-dodge-holiday-party-2/
CATEGORIES:Building Rental
END:VEVENT
BEGIN:VEVENT
DTSTART;TZID=America/Chicago:20251218T180000
DTEND;TZID=America/Chicago:20251218T200000
DTSTAMP:20260424T023157
CREATED:20250625T152042Z
LAST-MODIFIED:20250625T152042Z
UID:9049-1766080800-1766088000@johnstonlionsclub.com
SUMMARY:American Legion Post 728
DESCRIPTION:
URL:https://johnstonlionsclub.com/event/american-legion-post-728-17/
CATEGORIES:Building Rental
END:VEVENT
BEGIN:VEVENT
DTSTART;TZID=America/Chicago:20251222T180000
DTEND;TZID=America/Chicago:20251222T200000
DTSTAMP:20260424T023157
CREATED:20251219T204854Z
LAST-MODIFIED:20251219T204854Z
UID:9299-1766426400-1766433600@johnstonlionsclub.com
SUMMARY:Cub Scout Den Meeting
DESCRIPTION:
URL:https://johnstonlionsclub.com/event/cub-scout-den-meeting/
CATEGORIES:Building Rental
END:VEVENT
BEGIN:VEVENT
DTSTART;TZID=America/Chicago:20251224T170000
DTEND;TZID=America/Chicago:20251224T200000
DTSTAMP:20260424T023157
CREATED:20250410T002038Z
LAST-MODIFIED:20250924T145817Z
UID:8857-1766595600-1766606400@johnstonlionsclub.com
SUMMARY:Beaman Event
DESCRIPTION:
URL:https://johnstonlionsclub.com/event/beaman-event/
CATEGORIES:Building Rental
END:VEVENT
BEGIN:VEVENT
DTSTART;TZID=America/Chicago:20251226T150000
DTEND;TZID=America/Chicago:20251226T230000
DTSTAMP:20260424T023157
CREATED:20251109T160757Z
LAST-MODIFIED:20251109T160757Z
UID:9274-1766761200-1766790000@johnstonlionsclub.com
SUMMARY:KUD Dukat
DESCRIPTION:
URL:https://johnstonlionsclub.com/event/kud-dukat-3/
CATEGORIES:Building Rental
END:VEVENT
BEGIN:VEVENT
DTSTART;TZID=America/Chicago:20251227T090000
DTEND;TZID=America/Chicago:20251227T150000
DTSTAMP:20260424T023157
CREATED:20250714T164407Z
LAST-MODIFIED:20250714T164407Z
UID:9067-1766826000-1766847600@johnstonlionsclub.com
SUMMARY:McPherson Party
DESCRIPTION:
URL:https://johnstonlionsclub.com/event/mcpherson-party-6/
CATEGORIES:Building Rental
END:VEVENT
BEGIN:VEVENT
DTSTART;TZID=America/Chicago:20251231T140000
DTEND;TZID=America/Chicago:20251231T180000
DTSTAMP:20260424T023157
CREATED:20251103T172632Z
LAST-MODIFIED:20251103T172632Z
UID:9266-1767189600-1767204000@johnstonlionsclub.com
SUMMARY:Gannon Family Christmas
DESCRIPTION:
URL:https://johnstonlionsclub.com/event/gannon-family-christmas-3/
CATEGORIES:Building Rental
END:VEVENT
END:VCALENDAR