BEGIN:VCALENDAR
VERSION:2.0
PRODID:-//Johnston Lions Club and Foundation - ECPv6.15.20//NONSGML v1.0//EN
CALSCALE:GREGORIAN
METHOD:PUBLISH
X-WR-CALNAME:Johnston Lions Club and Foundation
X-ORIGINAL-URL:https://johnstonlionsclub.com
X-WR-CALDESC:Events for Johnston Lions Club and Foundation
REFRESH-INTERVAL;VALUE=DURATION:PT1H
X-Robots-Tag:noindex
X-PUBLISHED-TTL:PT1H
BEGIN:VTIMEZONE
TZID:America/Chicago
BEGIN:DAYLIGHT
TZOFFSETFROM:-0600
TZOFFSETTO:-0500
TZNAME:CDT
DTSTART:20240310T080000
END:DAYLIGHT
BEGIN:STANDARD
TZOFFSETFROM:-0500
TZOFFSETTO:-0600
TZNAME:CST
DTSTART:20241103T070000
END:STANDARD
BEGIN:DAYLIGHT
TZOFFSETFROM:-0600
TZOFFSETTO:-0500
TZNAME:CDT
DTSTART:20250309T080000
END:DAYLIGHT
BEGIN:STANDARD
TZOFFSETFROM:-0500
TZOFFSETTO:-0600
TZNAME:CST
DTSTART:20251102T070000
END:STANDARD
BEGIN:DAYLIGHT
TZOFFSETFROM:-0600
TZOFFSETTO:-0500
TZNAME:CDT
DTSTART:20260308T080000
END:DAYLIGHT
BEGIN:STANDARD
TZOFFSETFROM:-0500
TZOFFSETTO:-0600
TZNAME:CST
DTSTART:20261101T070000
END:STANDARD
END:VTIMEZONE
BEGIN:VEVENT
DTSTART;TZID=America/Chicago:20251007T173000
DTEND;TZID=America/Chicago:20251007T210000
DTSTAMP:20260424T054847
CREATED:20250509T152011Z
LAST-MODIFIED:20250509T153157Z
UID:8895-1759858200-1759870800@johnstonlionsclub.com
SUMMARY:Des Moines Camera Club
DESCRIPTION:
URL:https://johnstonlionsclub.com/event/des-moines-camera-club-39/
CATEGORIES:Building Rental
END:VEVENT
BEGIN:VEVENT
DTSTART;TZID=America/Chicago:20251010T180000
DTEND;TZID=America/Chicago:20251011T235900
DTSTAMP:20260424T054847
CREATED:20250703T191411Z
LAST-MODIFIED:20251003T203657Z
UID:9056-1760119200-1760227140@johnstonlionsclub.com
SUMMARY:Convention
DESCRIPTION:
URL:https://johnstonlionsclub.com/event/convention/
CATEGORIES:Building Rental
END:VEVENT
BEGIN:VEVENT
DTSTART;TZID=America/Chicago:20251014T173000
DTEND;TZID=America/Chicago:20251014T210000
DTSTAMP:20260424T054847
CREATED:20250509T153301Z
LAST-MODIFIED:20250509T153301Z
UID:8923-1760463000-1760475600@johnstonlionsclub.com
SUMMARY:Des Moines Camera Club
DESCRIPTION:
URL:https://johnstonlionsclub.com/event/des-moines-camera-club-53/
CATEGORIES:Building Rental
END:VEVENT
BEGIN:VEVENT
DTSTART;TZID=America/Chicago:20251015T094500
DTEND;TZID=America/Chicago:20251015T144500
DTSTAMP:20260424T054847
CREATED:20250421T013846Z
LAST-MODIFIED:20250421T013846Z
UID:8867-1760521500-1760539500@johnstonlionsclub.com
SUMMARY:One Body 3
DESCRIPTION:
URL:https://johnstonlionsclub.com/event/one-body-3/
CATEGORIES:Building Rental
END:VEVENT
BEGIN:VEVENT
DTSTART;TZID=America/Chicago:20251016T180000
DTEND;TZID=America/Chicago:20251016T200000
DTSTAMP:20260424T054847
CREATED:20250625T151926Z
LAST-MODIFIED:20250625T151926Z
UID:9045-1760637600-1760644800@johnstonlionsclub.com
SUMMARY:American Legion Post 728
DESCRIPTION:
URL:https://johnstonlionsclub.com/event/american-legion-post-728-15/
CATEGORIES:Building Rental
END:VEVENT
BEGIN:VEVENT
DTSTART;TZID=America/Chicago:20251017T094500
DTEND;TZID=America/Chicago:20251017T144500
DTSTAMP:20260424T054847
CREATED:20250421T013937Z
LAST-MODIFIED:20250421T013937Z
UID:8870-1760694300-1760712300@johnstonlionsclub.com
SUMMARY:One Body 3
DESCRIPTION:
URL:https://johnstonlionsclub.com/event/one-body-3-2/
CATEGORIES:Building Rental
END:VEVENT
BEGIN:VEVENT
DTSTART;TZID=America/Chicago:20251018T080000
DTEND;TZID=America/Chicago:20251018T140000
DTSTAMP:20260424T054847
CREATED:20241116T175634Z
LAST-MODIFIED:20241116T175634Z
UID:8718-1760774400-1760796000@johnstonlionsclub.com
SUMMARY:Hawkeye Knife Club
DESCRIPTION:
URL:https://johnstonlionsclub.com/event/hawkeye-knife-club-15/
CATEGORIES:Building Rental
END:VEVENT
BEGIN:VEVENT
DTSTART;TZID=America/Chicago:20251021T094500
DTEND;TZID=America/Chicago:20251021T144500
DTSTAMP:20260424T054847
CREATED:20250421T014020Z
LAST-MODIFIED:20250421T014020Z
UID:8873-1761039900-1761057900@johnstonlionsclub.com
SUMMARY:One Body 3
DESCRIPTION:
URL:https://johnstonlionsclub.com/event/one-body-3-3/
CATEGORIES:Building Rental
END:VEVENT
BEGIN:VEVENT
DTSTART;TZID=America/Chicago:20251023T163000
DTEND;TZID=America/Chicago:20251023T200000
DTSTAMP:20260424T054847
CREATED:20250714T161453Z
LAST-MODIFIED:20250714T161453Z
UID:9061-1761237000-1761249600@johnstonlionsclub.com
SUMMARY:Grinnell State Bank 100 Year Celebration
DESCRIPTION:
URL:https://johnstonlionsclub.com/event/grinnell-state-bank-100-year-celebration/
CATEGORIES:Building Rental
END:VEVENT
BEGIN:VEVENT
DTSTART;TZID=America/Chicago:20251025T160000
DTEND;TZID=America/Chicago:20251025T235900
DTSTAMP:20260424T054847
CREATED:20250910T152557Z
LAST-MODIFIED:20250910T152557Z
UID:9220-1761408000-1761436740@johnstonlionsclub.com
SUMMARY:Baby Shower
DESCRIPTION:
URL:https://johnstonlionsclub.com/event/baby-shower-3/
CATEGORIES:Building Rental
END:VEVENT
BEGIN:VEVENT
DTSTART;TZID=America/Chicago:20251027T094500
DTEND;TZID=America/Chicago:20251027T144500
DTSTAMP:20260424T054847
CREATED:20250421T014135Z
LAST-MODIFIED:20250421T014135Z
UID:8877-1761558300-1761576300@johnstonlionsclub.com
SUMMARY:One Body 3
DESCRIPTION:
URL:https://johnstonlionsclub.com/event/one-body-3-5/
CATEGORIES:Building Rental
END:VEVENT
BEGIN:VEVENT
DTSTART;TZID=America/Chicago:20251029T094500
DTEND;TZID=America/Chicago:20251029T144500
DTSTAMP:20260424T054847
CREATED:20250421T014210Z
LAST-MODIFIED:20250421T014210Z
UID:8879-1761731100-1761749100@johnstonlionsclub.com
SUMMARY:One Body 3
DESCRIPTION:
URL:https://johnstonlionsclub.com/event/one-body-3-6/
CATEGORIES:Building Rental
END:VEVENT
END:VCALENDAR