BEGIN:VCALENDAR
VERSION:2.0
PRODID:-//Johnston Lions Club and Foundation - ECPv6.15.20//NONSGML v1.0//EN
CALSCALE:GREGORIAN
METHOD:PUBLISH
X-ORIGINAL-URL:https://johnstonlionsclub.com
X-WR-CALDESC:Events for Johnston Lions Club and Foundation
REFRESH-INTERVAL;VALUE=DURATION:PT1H
X-Robots-Tag:noindex
X-PUBLISHED-TTL:PT1H
BEGIN:VTIMEZONE
TZID:America/Chicago
BEGIN:DAYLIGHT
TZOFFSETFROM:-0600
TZOFFSETTO:-0500
TZNAME:CDT
DTSTART:20240310T080000
END:DAYLIGHT
BEGIN:STANDARD
TZOFFSETFROM:-0500
TZOFFSETTO:-0600
TZNAME:CST
DTSTART:20241103T070000
END:STANDARD
BEGIN:DAYLIGHT
TZOFFSETFROM:-0600
TZOFFSETTO:-0500
TZNAME:CDT
DTSTART:20250309T080000
END:DAYLIGHT
BEGIN:STANDARD
TZOFFSETFROM:-0500
TZOFFSETTO:-0600
TZNAME:CST
DTSTART:20251102T070000
END:STANDARD
BEGIN:DAYLIGHT
TZOFFSETFROM:-0600
TZOFFSETTO:-0500
TZNAME:CDT
DTSTART:20260308T080000
END:DAYLIGHT
BEGIN:STANDARD
TZOFFSETFROM:-0500
TZOFFSETTO:-0600
TZNAME:CST
DTSTART:20261101T070000
END:STANDARD
END:VTIMEZONE
BEGIN:VEVENT
DTSTART;TZID=America/Chicago:20250816T180000
DTEND;TZID=America/Chicago:20250816T235900
DTSTAMP:20260424T090732
CREATED:20250212T213154Z
LAST-MODIFIED:20250212T213154Z
UID:8817-1755367200-1755388740@johnstonlionsclub.com
SUMMARY:Saywahn Family Reunion
DESCRIPTION:  \n 
URL:https://johnstonlionsclub.com/event/saywahn-family-reunion/
CATEGORIES:Building Rental
END:VEVENT
BEGIN:VEVENT
DTSTART;TZID=America/Chicago:20250821T080000
DTEND;TZID=America/Chicago:20250823T180000
DTSTAMP:20260424T090732
CREATED:20250730T230743Z
LAST-MODIFIED:20250730T230743Z
UID:9071-1755763200-1755972000@johnstonlionsclub.com
SUMMARY:Johnston HS Vocal Department Garage Sale
DESCRIPTION:Jo
URL:https://johnstonlionsclub.com/event/johnston-hs-vocal-department-garage-sale/
CATEGORIES:Building Rental
END:VEVENT
BEGIN:VEVENT
DTSTART;TZID=America/Chicago:20250821T180000
DTEND;TZID=America/Chicago:20250821T200000
DTSTAMP:20260424T090732
CREATED:20250625T151815Z
LAST-MODIFIED:20250625T151815Z
UID:9041-1755799200-1755806400@johnstonlionsclub.com
SUMMARY:American Legion Post 728
DESCRIPTION:
URL:https://johnstonlionsclub.com/event/american-legion-post-728-13/
CATEGORIES:Building Rental
END:VEVENT
BEGIN:VEVENT
DTSTART;TZID=America/Chicago:20250823T200000
DTEND;TZID=America/Chicago:20250823T200000
DTSTAMP:20260424T090732
CREATED:20250814T210853Z
LAST-MODIFIED:20250814T210853Z
UID:9200-1755979200-1755979200@johnstonlionsclub.com
SUMMARY:Memorial Service
DESCRIPTION:
URL:https://johnstonlionsclub.com/event/memorial-service-2/
CATEGORIES:Building Rental
END:VEVENT
BEGIN:VEVENT
DTSTART;TZID=America/Chicago:20250828T080000
DTEND;TZID=America/Chicago:20250828T130000
DTSTAMP:20260424T090732
CREATED:20241126T213014Z
LAST-MODIFIED:20241126T213014Z
UID:8743-1756368000-1756386000@johnstonlionsclub.com
SUMMARY:OneBody3
DESCRIPTION:
URL:https://johnstonlionsclub.com/event/onebody3-12/
CATEGORIES:Building Rental
END:VEVENT
BEGIN:VEVENT
DTSTART;TZID=America/Chicago:20250830T170000
DTEND;TZID=America/Chicago:20250830T235900
DTSTAMP:20260424T090732
CREATED:20250527T225043Z
LAST-MODIFIED:20250527T225043Z
UID:8928-1756573200-1756598340@johnstonlionsclub.com
SUMMARY:Memorial Service
DESCRIPTION:
URL:https://johnstonlionsclub.com/event/memorial-service/
CATEGORIES:Building Rental
END:VEVENT
END:VCALENDAR