BEGIN:VCALENDAR
VERSION:2.0
PRODID:-//Johnston Lions Club and Foundation - ECPv6.15.20//NONSGML v1.0//EN
CALSCALE:GREGORIAN
METHOD:PUBLISH
X-ORIGINAL-URL:https://johnstonlionsclub.com
X-WR-CALDESC:Events for Johnston Lions Club and Foundation
REFRESH-INTERVAL;VALUE=DURATION:PT1H
X-Robots-Tag:noindex
X-PUBLISHED-TTL:PT1H
BEGIN:VTIMEZONE
TZID:America/Chicago
BEGIN:DAYLIGHT
TZOFFSETFROM:-0600
TZOFFSETTO:-0500
TZNAME:CDT
DTSTART:20240310T080000
END:DAYLIGHT
BEGIN:STANDARD
TZOFFSETFROM:-0500
TZOFFSETTO:-0600
TZNAME:CST
DTSTART:20241103T070000
END:STANDARD
BEGIN:DAYLIGHT
TZOFFSETFROM:-0600
TZOFFSETTO:-0500
TZNAME:CDT
DTSTART:20250309T080000
END:DAYLIGHT
BEGIN:STANDARD
TZOFFSETFROM:-0500
TZOFFSETTO:-0600
TZNAME:CST
DTSTART:20251102T070000
END:STANDARD
BEGIN:DAYLIGHT
TZOFFSETFROM:-0600
TZOFFSETTO:-0500
TZNAME:CDT
DTSTART:20260308T080000
END:DAYLIGHT
BEGIN:STANDARD
TZOFFSETFROM:-0500
TZOFFSETTO:-0600
TZNAME:CST
DTSTART:20261101T070000
END:STANDARD
END:VTIMEZONE
BEGIN:VEVENT
DTSTART;TZID=America/Chicago:20250601T153000
DTEND;TZID=America/Chicago:20250601T193000
DTSTAMP:20260424T123051
CREATED:20250419T060923Z
LAST-MODIFIED:20250419T060923Z
UID:8862-1748791800-1748806200@johnstonlionsclub.com
SUMMARY:Green Graduation Party
DESCRIPTION:
URL:https://johnstonlionsclub.com/event/green-graduation-party/
CATEGORIES:Building Rental
END:VEVENT
BEGIN:VEVENT
DTSTART;TZID=America/Chicago:20250607T080000
DTEND;TZID=America/Chicago:20250607T130000
DTSTAMP:20260424T123051
CREATED:20250423T114544Z
LAST-MODIFIED:20250423T114544Z
UID:8881-1749283200-1749301200@johnstonlionsclub.com
SUMMARY:Sapphire Gymnastics Booster Club
DESCRIPTION:
URL:https://johnstonlionsclub.com/event/sapphire-gymnastics-booster-club/
CATEGORIES:Building Rental
END:VEVENT
BEGIN:VEVENT
DTSTART;TZID=America/Chicago:20250607T150000
DTEND;TZID=America/Chicago:20250607T220000
DTSTAMP:20260424T123051
CREATED:20250125T170944Z
LAST-MODIFIED:20250125T170944Z
UID:8791-1749308400-1749333600@johnstonlionsclub.com
SUMMARY:Amogh's Graduation Party
DESCRIPTION:
URL:https://johnstonlionsclub.com/event/amoghs-graduation-party/
CATEGORIES:Building Rental
END:VEVENT
BEGIN:VEVENT
DTSTART;TZID=America/Chicago:20250614T083000
DTEND;TZID=America/Chicago:20250614T140000
DTSTAMP:20260424T123051
CREATED:20250420T232749Z
LAST-MODIFIED:20250420T232749Z
UID:8864-1749889800-1749909600@johnstonlionsclub.com
SUMMARY:Lions district 9MC cabinet meeting with training
DESCRIPTION:
URL:https://johnstonlionsclub.com/event/lions-district-9mc-cabinet-meeting-with-training/
CATEGORIES:Building Rental
END:VEVENT
BEGIN:VEVENT
DTSTART;TZID=America/Chicago:20250619T180000
DTEND;TZID=America/Chicago:20250619T200000
DTSTAMP:20260424T123051
CREATED:20250625T151656Z
LAST-MODIFIED:20250625T151656Z
UID:9037-1750356000-1750363200@johnstonlionsclub.com
SUMMARY:American Legion Post 728
DESCRIPTION:
URL:https://johnstonlionsclub.com/event/american-legion-post-728-11/
CATEGORIES:Building Rental
END:VEVENT
BEGIN:VEVENT
DTSTART;TZID=America/Chicago:20250621T170000
DTEND;TZID=America/Chicago:20250621T235900
DTSTAMP:20260424T123051
CREATED:20241113T142131Z
LAST-MODIFIED:20241113T142131Z
UID:8707-1750525200-1750550340@johnstonlionsclub.com
SUMMARY:Ophelia
DESCRIPTION:
URL:https://johnstonlionsclub.com/event/ophelia-2/
CATEGORIES:Building Rental
END:VEVENT
END:VCALENDAR