BEGIN:VCALENDAR
VERSION:2.0
PRODID:-//Johnston Lions Club and Foundation - ECPv6.15.20//NONSGML v1.0//EN
CALSCALE:GREGORIAN
METHOD:PUBLISH
X-WR-CALNAME:Johnston Lions Club and Foundation
X-ORIGINAL-URL:https://johnstonlionsclub.com
X-WR-CALDESC:Events for Johnston Lions Club and Foundation
REFRESH-INTERVAL;VALUE=DURATION:PT1H
X-Robots-Tag:noindex
X-PUBLISHED-TTL:PT1H
BEGIN:VTIMEZONE
TZID:America/Chicago
BEGIN:DAYLIGHT
TZOFFSETFROM:-0600
TZOFFSETTO:-0500
TZNAME:CDT
DTSTART:20240310T080000
END:DAYLIGHT
BEGIN:STANDARD
TZOFFSETFROM:-0500
TZOFFSETTO:-0600
TZNAME:CST
DTSTART:20241103T070000
END:STANDARD
BEGIN:DAYLIGHT
TZOFFSETFROM:-0600
TZOFFSETTO:-0500
TZNAME:CDT
DTSTART:20250309T080000
END:DAYLIGHT
BEGIN:STANDARD
TZOFFSETFROM:-0500
TZOFFSETTO:-0600
TZNAME:CST
DTSTART:20251102T070000
END:STANDARD
BEGIN:DAYLIGHT
TZOFFSETFROM:-0600
TZOFFSETTO:-0500
TZNAME:CDT
DTSTART:20260308T080000
END:DAYLIGHT
BEGIN:STANDARD
TZOFFSETFROM:-0500
TZOFFSETTO:-0600
TZNAME:CST
DTSTART:20261101T070000
END:STANDARD
END:VTIMEZONE
BEGIN:VEVENT
DTSTART;TZID=America/Chicago:20250405T080000
DTEND;TZID=America/Chicago:20250405T160000
DTSTAMP:20260424T153123
CREATED:20240911T010928Z
LAST-MODIFIED:20250201T233235Z
UID:8612-1743840000-1743868800@johnstonlionsclub.com
SUMMARY:Iowa Military Collectors
DESCRIPTION:
URL:https://johnstonlionsclub.com/event/iowa-military-collectors-5/
CATEGORIES:Building Rental
END:VEVENT
BEGIN:VEVENT
DTSTART;TZID=America/Chicago:20250405T173000
DTEND;TZID=America/Chicago:20250405T235900
DTSTAMP:20260424T153123
CREATED:20250118T195422Z
LAST-MODIFIED:20250201T232822Z
UID:8783-1743874200-1743897540@johnstonlionsclub.com
SUMMARY:Birthday Party
DESCRIPTION:
URL:https://johnstonlionsclub.com/event/birthday-party-2/
CATEGORIES:Building Rental
END:VEVENT
BEGIN:VEVENT
DTSTART;TZID=America/Chicago:20250412T140000
DTEND;TZID=America/Chicago:20250412T160000
DTSTAMP:20260424T153123
CREATED:20250408T192442Z
LAST-MODIFIED:20250408T192604Z
UID:8852-1744466400-1744473600@johnstonlionsclub.com
SUMMARY:Johnston Area Dems
DESCRIPTION:
URL:https://johnstonlionsclub.com/event/johnston-dems/
CATEGORIES:Building Rental
END:VEVENT
END:VCALENDAR