BEGIN:VCALENDAR
VERSION:2.0
PRODID:-//Johnston Lions Club and Foundation - ECPv6.15.20//NONSGML v1.0//EN
CALSCALE:GREGORIAN
METHOD:PUBLISH
X-ORIGINAL-URL:https://johnstonlionsclub.com
X-WR-CALDESC:Events for Johnston Lions Club and Foundation
REFRESH-INTERVAL;VALUE=DURATION:PT1H
X-Robots-Tag:noindex
X-PUBLISHED-TTL:PT1H
BEGIN:VTIMEZONE
TZID:America/Chicago
BEGIN:DAYLIGHT
TZOFFSETFROM:-0600
TZOFFSETTO:-0500
TZNAME:CDT
DTSTART:20240310T080000
END:DAYLIGHT
BEGIN:STANDARD
TZOFFSETFROM:-0500
TZOFFSETTO:-0600
TZNAME:CST
DTSTART:20241103T070000
END:STANDARD
BEGIN:DAYLIGHT
TZOFFSETFROM:-0600
TZOFFSETTO:-0500
TZNAME:CDT
DTSTART:20250309T080000
END:DAYLIGHT
BEGIN:STANDARD
TZOFFSETFROM:-0500
TZOFFSETTO:-0600
TZNAME:CST
DTSTART:20251102T070000
END:STANDARD
BEGIN:DAYLIGHT
TZOFFSETFROM:-0600
TZOFFSETTO:-0500
TZNAME:CDT
DTSTART:20260308T080000
END:DAYLIGHT
BEGIN:STANDARD
TZOFFSETFROM:-0500
TZOFFSETTO:-0600
TZNAME:CST
DTSTART:20261101T070000
END:STANDARD
END:VTIMEZONE
BEGIN:VEVENT
DTSTART;TZID=America/Chicago:20250201T080000
DTEND;TZID=America/Chicago:20250201T235900
DTSTAMP:20260424T184928
CREATED:20241231T193048Z
LAST-MODIFIED:20250118T195731Z
UID:8766-1738396800-1738454340@johnstonlionsclub.com
SUMMARY:Funeral Reception
DESCRIPTION:
URL:https://johnstonlionsclub.com/event/ophelia-4/
CATEGORIES:Building Rental
END:VEVENT
BEGIN:VEVENT
DTSTART;TZID=America/Chicago:20250215T090000
DTEND;TZID=America/Chicago:20250215T230000
DTSTAMP:20260424T184928
CREATED:20241226T142038Z
LAST-MODIFIED:20250212T001534Z
UID:8758-1739610000-1739660400@johnstonlionsclub.com
SUMMARY:KUD Dukat
DESCRIPTION:
URL:https://johnstonlionsclub.com/event/kud-dukat/
CATEGORIES:Building Rental
END:VEVENT
BEGIN:VEVENT
DTSTART;TZID=America/Chicago:20250219T080000
DTEND;TZID=America/Chicago:20250219T130000
DTSTAMP:20260424T184928
CREATED:20241126T212330Z
LAST-MODIFIED:20241126T212330Z
UID:8721-1739952000-1739970000@johnstonlionsclub.com
SUMMARY:OneBody3
DESCRIPTION:
URL:https://johnstonlionsclub.com/event/onebody3/
CATEGORIES:Building Rental
END:VEVENT
BEGIN:VEVENT
DTSTART;TZID=America/Chicago:20250220T080000
DTEND;TZID=America/Chicago:20250220T130000
DTSTAMP:20260424T184928
CREATED:20241126T212406Z
LAST-MODIFIED:20241126T212406Z
UID:8723-1740038400-1740056400@johnstonlionsclub.com
SUMMARY:OneBody3
DESCRIPTION:
URL:https://johnstonlionsclub.com/event/onebody3-2/
CATEGORIES:Building Rental
END:VEVENT
BEGIN:VEVENT
DTSTART;TZID=America/Chicago:20250221T160000
DTEND;TZID=America/Chicago:20250221T220000
DTSTAMP:20260424T184928
CREATED:20250102T154701Z
LAST-MODIFIED:20250102T154701Z
UID:8768-1740153600-1740175200@johnstonlionsclub.com
SUMMARY:Complete Weddings + Events
DESCRIPTION:
URL:https://johnstonlionsclub.com/event/complete-weddings-events/
CATEGORIES:Building Rental
END:VEVENT
BEGIN:VEVENT
DTSTART;TZID=America/Chicago:20250227T073000
DTEND;TZID=America/Chicago:20250227T163000
DTSTAMP:20260424T184928
CREATED:20241126T212448Z
LAST-MODIFIED:20241126T212448Z
UID:8725-1740641400-1740673800@johnstonlionsclub.com
SUMMARY:OneBody3
DESCRIPTION:
URL:https://johnstonlionsclub.com/event/onebody3-3/
CATEGORIES:Building Rental
END:VEVENT
END:VCALENDAR