BEGIN:VCALENDAR
VERSION:2.0
PRODID:-//Johnston Lions Club and Foundation - ECPv6.15.20//NONSGML v1.0//EN
CALSCALE:GREGORIAN
METHOD:PUBLISH
X-WR-CALNAME:Johnston Lions Club and Foundation
X-ORIGINAL-URL:https://johnstonlionsclub.com
X-WR-CALDESC:Events for Johnston Lions Club and Foundation
REFRESH-INTERVAL;VALUE=DURATION:PT1H
X-Robots-Tag:noindex
X-PUBLISHED-TTL:PT1H
BEGIN:VTIMEZONE
TZID:America/Chicago
BEGIN:DAYLIGHT
TZOFFSETFROM:-0600
TZOFFSETTO:-0500
TZNAME:CDT
DTSTART:20240310T080000
END:DAYLIGHT
BEGIN:STANDARD
TZOFFSETFROM:-0500
TZOFFSETTO:-0600
TZNAME:CST
DTSTART:20241103T070000
END:STANDARD
BEGIN:DAYLIGHT
TZOFFSETFROM:-0600
TZOFFSETTO:-0500
TZNAME:CDT
DTSTART:20250309T080000
END:DAYLIGHT
BEGIN:STANDARD
TZOFFSETFROM:-0500
TZOFFSETTO:-0600
TZNAME:CST
DTSTART:20251102T070000
END:STANDARD
BEGIN:DAYLIGHT
TZOFFSETFROM:-0600
TZOFFSETTO:-0500
TZNAME:CDT
DTSTART:20260308T080000
END:DAYLIGHT
BEGIN:STANDARD
TZOFFSETFROM:-0500
TZOFFSETTO:-0600
TZNAME:CST
DTSTART:20261101T070000
END:STANDARD
END:VTIMEZONE
BEGIN:VEVENT
DTSTART;TZID=America/Chicago:20250111T080000
DTEND;TZID=America/Chicago:20250111T140000
DTSTAMP:20260424T202450
CREATED:20241116T175320Z
LAST-MODIFIED:20241116T175320Z
UID:8712-1736582400-1736604000@johnstonlionsclub.com
SUMMARY:Hawkeye Knife Club
DESCRIPTION:
URL:https://johnstonlionsclub.com/event/hawkeye-knife-club-12/
CATEGORIES:Building Rental
END:VEVENT
BEGIN:VEVENT
DTSTART;TZID=America/Chicago:20250128T170000
DTEND;TZID=America/Chicago:20250128T210000
DTSTAMP:20260424T202450
CREATED:20241213T121032Z
LAST-MODIFIED:20241230T213109Z
UID:8755-1738083600-1738098000@johnstonlionsclub.com
SUMMARY:Green Meadows HOA
DESCRIPTION:
URL:https://johnstonlionsclub.com/event/ron-lower/
CATEGORIES:Building Rental
END:VEVENT
BEGIN:VEVENT
DTSTART;TZID=America/Chicago:20250131T170000
DTEND;TZID=America/Chicago:20250131T230000
DTSTAMP:20260424T202450
CREATED:20241231T192854Z
LAST-MODIFIED:20250118T195808Z
UID:8764-1738342800-1738364400@johnstonlionsclub.com
SUMMARY:Wake
DESCRIPTION:
URL:https://johnstonlionsclub.com/event/ophelia-3/
CATEGORIES:Building Rental
END:VEVENT
END:VCALENDAR