BEGIN:VCALENDAR
VERSION:2.0
PRODID:-//Johnston Lions Club and Foundation - ECPv6.15.20//NONSGML v1.0//EN
CALSCALE:GREGORIAN
METHOD:PUBLISH
X-WR-CALNAME:Johnston Lions Club and Foundation
X-ORIGINAL-URL:https://johnstonlionsclub.com
X-WR-CALDESC:Events for Johnston Lions Club and Foundation
REFRESH-INTERVAL;VALUE=DURATION:PT1H
X-Robots-Tag:noindex
X-PUBLISHED-TTL:PT1H
BEGIN:VTIMEZONE
TZID:America/Chicago
BEGIN:DAYLIGHT
TZOFFSETFROM:-0600
TZOFFSETTO:-0500
TZNAME:CDT
DTSTART:20250309T080000
END:DAYLIGHT
BEGIN:STANDARD
TZOFFSETFROM:-0500
TZOFFSETTO:-0600
TZNAME:CST
DTSTART:20251102T070000
END:STANDARD
BEGIN:DAYLIGHT
TZOFFSETFROM:-0600
TZOFFSETTO:-0500
TZNAME:CDT
DTSTART:20260308T080000
END:DAYLIGHT
BEGIN:STANDARD
TZOFFSETFROM:-0500
TZOFFSETTO:-0600
TZNAME:CST
DTSTART:20261101T070000
END:STANDARD
BEGIN:DAYLIGHT
TZOFFSETFROM:-0600
TZOFFSETTO:-0500
TZNAME:CDT
DTSTART:20270314T080000
END:DAYLIGHT
BEGIN:STANDARD
TZOFFSETFROM:-0500
TZOFFSETTO:-0600
TZNAME:CST
DTSTART:20271107T070000
END:STANDARD
END:VTIMEZONE
BEGIN:VEVENT
DTSTART;VALUE=DATE:20260429
DTEND;VALUE=DATE:20260430
DTSTAMP:20260423T202019
CREATED:20260331T184805Z
LAST-MODIFIED:20260331T184805Z
UID:9486-1777420800-1777507199@johnstonlionsclub.com
SUMMARY:Carpet Cleaning
DESCRIPTION:
URL:https://johnstonlionsclub.com/event/carpet-cleaning-6/
CATEGORIES:Building Committee
END:VEVENT
BEGIN:VEVENT
DTSTART;TZID=America/Chicago:20260430T140000
DTEND;TZID=America/Chicago:20260430T160000
DTSTAMP:20260423T202019
CREATED:20260417T034915Z
LAST-MODIFIED:20260417T034915Z
UID:9491-1777557600-1777564800@johnstonlionsclub.com
SUMMARY:HVAC service
DESCRIPTION:
URL:https://johnstonlionsclub.com/event/hvac-service/
CATEGORIES:Building Committee
END:VEVENT
END:VCALENDAR