BEGIN:VCALENDAR
VERSION:2.0
PRODID:-//Johnston Lions Club and Foundation - ECPv6.15.20//NONSGML v1.0//EN
CALSCALE:GREGORIAN
METHOD:PUBLISH
X-WR-CALNAME:Johnston Lions Club and Foundation
X-ORIGINAL-URL:https://johnstonlionsclub.com
X-WR-CALDESC:Events for Johnston Lions Club and Foundation
REFRESH-INTERVAL;VALUE=DURATION:PT1H
X-Robots-Tag:noindex
X-PUBLISHED-TTL:PT1H
BEGIN:VTIMEZONE
TZID:America/Chicago
BEGIN:DAYLIGHT
TZOFFSETFROM:-0600
TZOFFSETTO:-0500
TZNAME:CDT
DTSTART:20240310T080000
END:DAYLIGHT
BEGIN:STANDARD
TZOFFSETFROM:-0500
TZOFFSETTO:-0600
TZNAME:CST
DTSTART:20241103T070000
END:STANDARD
BEGIN:DAYLIGHT
TZOFFSETFROM:-0600
TZOFFSETTO:-0500
TZNAME:CDT
DTSTART:20250309T080000
END:DAYLIGHT
BEGIN:STANDARD
TZOFFSETFROM:-0500
TZOFFSETTO:-0600
TZNAME:CST
DTSTART:20251102T070000
END:STANDARD
BEGIN:DAYLIGHT
TZOFFSETFROM:-0600
TZOFFSETTO:-0500
TZNAME:CDT
DTSTART:20260308T080000
END:DAYLIGHT
BEGIN:STANDARD
TZOFFSETFROM:-0500
TZOFFSETTO:-0600
TZNAME:CST
DTSTART:20261101T070000
END:STANDARD
END:VTIMEZONE
BEGIN:VEVENT
DTSTART;TZID=America/Chicago:20250419T070000
DTEND;TZID=America/Chicago:20250419T110000
DTSTAMP:20260424T105133
CREATED:20250211T175532Z
LAST-MODIFIED:20250211T175532Z
UID:8809-1745046000-1745060400@johnstonlionsclub.com
SUMMARY:Pancake Breakfast - Johnston Middle School
DESCRIPTION:Saturday\, April 19th the Johnston Lions Club is hosting its annual Pancake Breakfast.  The location is the Johnston Middle School cafeteria at 6501 N.W. 62nd Avenue in Johnston.  Hours are 7:00 a.m. til 11:00 and the breakfast features delicious pancakes including gluten-free pancakes\, sausage\, scrambled eggs\, juice and coffee.  Tickets are $10.00 at the door and kids 5 and under are free! Proceeds benefit the Lions Club’s many service projects. For more information\, phone Judy Anderson at 515 278 0939.
URL:https://johnstonlionsclub.com/event/pancake-breakfast-johnston-middle-school/
CATEGORIES:Annual Events
END:VEVENT
END:VCALENDAR