BEGIN:VCALENDAR
VERSION:2.0
PRODID:-//Johnston Lions Club and Foundation - ECPv6.15.20//NONSGML v1.0//EN
CALSCALE:GREGORIAN
METHOD:PUBLISH
X-WR-CALNAME:Johnston Lions Club and Foundation
X-ORIGINAL-URL:https://johnstonlionsclub.com
X-WR-CALDESC:Events for Johnston Lions Club and Foundation
REFRESH-INTERVAL;VALUE=DURATION:PT1H
X-Robots-Tag:noindex
X-PUBLISHED-TTL:PT1H
BEGIN:VTIMEZONE
TZID:America/Chicago
BEGIN:DAYLIGHT
TZOFFSETFROM:-0600
TZOFFSETTO:-0500
TZNAME:CDT
DTSTART:20240310T080000
END:DAYLIGHT
BEGIN:STANDARD
TZOFFSETFROM:-0500
TZOFFSETTO:-0600
TZNAME:CST
DTSTART:20241103T070000
END:STANDARD
BEGIN:DAYLIGHT
TZOFFSETFROM:-0600
TZOFFSETTO:-0500
TZNAME:CDT
DTSTART:20250309T080000
END:DAYLIGHT
BEGIN:STANDARD
TZOFFSETFROM:-0500
TZOFFSETTO:-0600
TZNAME:CST
DTSTART:20251102T070000
END:STANDARD
BEGIN:DAYLIGHT
TZOFFSETFROM:-0600
TZOFFSETTO:-0500
TZNAME:CDT
DTSTART:20260308T080000
END:DAYLIGHT
BEGIN:STANDARD
TZOFFSETFROM:-0500
TZOFFSETTO:-0600
TZNAME:CST
DTSTART:20261101T070000
END:STANDARD
END:VTIMEZONE
BEGIN:VEVENT
DTSTART;TZID=America/Chicago:20250308T070000
DTEND;TZID=America/Chicago:20250308T170000
DTSTAMP:20260424T122822
CREATED:20241012T164917Z
LAST-MODIFIED:20241012T164917Z
UID:8683-1741417200-1741453200@johnstonlionsclub.com
SUMMARY:Iowa BBQ Society
DESCRIPTION:
URL:https://johnstonlionsclub.com/event/iowa-bbq-society-5/
CATEGORIES:Annual Events
END:VEVENT
BEGIN:VEVENT
DTSTART;TZID=America/Chicago:20250316T160000
DTEND;TZID=America/Chicago:20250316T200000
DTSTAMP:20260424T122822
CREATED:20240924T165256Z
LAST-MODIFIED:20240924T165256Z
UID:8633-1742140800-1742155200@johnstonlionsclub.com
SUMMARY:Book Sale Set Up
DESCRIPTION:
URL:https://johnstonlionsclub.com/event/book-sale-set-up-7/
CATEGORIES:Annual Events
END:VEVENT
BEGIN:VEVENT
DTSTART;TZID=America/Chicago:20250317T080000
DTEND;TZID=America/Chicago:20250320T200000
DTSTAMP:20260424T122822
CREATED:20240924T165042Z
LAST-MODIFIED:20240925T030348Z
UID:8629-1742198400-1742500800@johnstonlionsclub.com
SUMMARY:Book Sale Set Up
DESCRIPTION:
URL:https://johnstonlionsclub.com/event/book-sale-set-up-donations-accepted-until-400pm/
CATEGORIES:Annual Events
END:VEVENT
BEGIN:VEVENT
DTSTART;TZID=America/Chicago:20250320T160000
DTEND;TZID=America/Chicago:20250320T200000
DTSTAMP:20260424T122822
CREATED:20240924T165453Z
LAST-MODIFIED:20240924T165453Z
UID:8635-1742486400-1742500800@johnstonlionsclub.com
SUMMARY:Book Sale Preview - $5 Admission
DESCRIPTION:
URL:https://johnstonlionsclub.com/event/book-sale-preview-5-admission/
CATEGORIES:Annual Events
END:VEVENT
BEGIN:VEVENT
DTSTART;TZID=America/Chicago:20250321T080000
DTEND;TZID=America/Chicago:20250321T190000
DTSTAMP:20260424T122822
CREATED:20240924T165532Z
LAST-MODIFIED:20240924T165532Z
UID:8638-1742544000-1742583600@johnstonlionsclub.com
SUMMARY:Book Sale
DESCRIPTION:
URL:https://johnstonlionsclub.com/event/book-sale-5/
CATEGORIES:Annual Events
END:VEVENT
BEGIN:VEVENT
DTSTART;TZID=America/Chicago:20250322T080000
DTEND;TZID=America/Chicago:20250322T110000
DTSTAMP:20260424T122822
CREATED:20240924T165640Z
LAST-MODIFIED:20240924T165640Z
UID:8640-1742630400-1742641200@johnstonlionsclub.com
SUMMARY:Book Sale - Free Admission\, $3.00 Bag Sale
DESCRIPTION:
URL:https://johnstonlionsclub.com/event/book-sale-free-admission-3-00-bag-sale-2/
CATEGORIES:Annual Events
END:VEVENT
END:VCALENDAR